BEGIN:VCALENDAR
VERSION:2.0
PRODID:-//Birkenhead Park - ECPv6.15.20//NONSGML v1.0//EN
CALSCALE:GREGORIAN
METHOD:PUBLISH
X-WR-CALNAME:Birkenhead Park
X-ORIGINAL-URL:https://birkenhead-park.org.uk
X-WR-CALDESC:Events for Birkenhead Park
REFRESH-INTERVAL;VALUE=DURATION:PT1H
X-Robots-Tag:noindex
X-PUBLISHED-TTL:PT1H
BEGIN:VTIMEZONE
TZID:Europe/London
BEGIN:DAYLIGHT
TZOFFSETFROM:+0000
TZOFFSETTO:+0100
TZNAME:BST
DTSTART:20260329T010000
END:DAYLIGHT
BEGIN:STANDARD
TZOFFSETFROM:+0100
TZOFFSETTO:+0000
TZNAME:GMT
DTSTART:20261025T010000
END:STANDARD
BEGIN:DAYLIGHT
TZOFFSETFROM:+0000
TZOFFSETTO:+0100
TZNAME:BST
DTSTART:20270328T010000
END:DAYLIGHT
BEGIN:STANDARD
TZOFFSETFROM:+0100
TZOFFSETTO:+0000
TZNAME:GMT
DTSTART:20271031T010000
END:STANDARD
BEGIN:DAYLIGHT
TZOFFSETFROM:+0000
TZOFFSETTO:+0100
TZNAME:BST
DTSTART:20280326T010000
END:DAYLIGHT
BEGIN:STANDARD
TZOFFSETFROM:+0100
TZOFFSETTO:+0000
TZNAME:GMT
DTSTART:20281029T010000
END:STANDARD
END:VTIMEZONE
BEGIN:VEVENT
DTSTART;TZID=Europe/London:20270902T100000
DTEND;TZID=Europe/London:20270902T150000
DTSTAMP:20260425T223905
CREATED:20240208T161043Z
LAST-MODIFIED:20240521T145514Z
UID:10004870-1819879200-1819897200@birkenhead-park.org.uk
SUMMARY:Wheels for All
DESCRIPTION:Wheels for All Birkenhead Park offers all-ability cycling utilising its fleet of adapted bikes as\, they aim to encourage health improvement\, social inclusion and to provide adapted cycling for anyone with a disability or differing needs. \nThe Wirral inclusive cycling activities take place along the paths of the park\, starting and finishing from the football changing rooms adjacent to the the children’s playground\, on the right as you enter from Ashville Road. \nSo come on down to Birkenhead Park and join in on our inclusive cycling sessions\, where you can try out our wide range of adapted cycles; from trikes and quads\, recumbents and side-by-sides to standard two wheelers for you to enjoy in a fun and safe environment. \n1st session free\, £5 per participant\, support/carers cycle for free forever. \nIf you have any questions regarding booking\, feedback\, volunteering\, donations or cycling\, please email (liverpool@wheelsforall.org.uk) or call 07469148247
URL:https://birkenhead-park.org.uk/events/wheels-for-all-2/2027-09-02/
LOCATION:Birkenhead Park\, football changing rooms\, Birkenhead Park\, Park Dr\, Birkenhead\, Wirral\, CH41 4HY\, United Kingdom
CATEGORIES:Activities,Wellbeing
ATTACH;FMTTYPE=image/jpeg:https://birkenhead-park.org.uk/wp-content/uploads/DSC_0330-Edit.jpg
ORGANIZER;CN="Wheels for all":MAILTO:ben.whittingham@wheelsforall.org.uk
END:VEVENT
BEGIN:VEVENT
DTSTART;TZID=Europe/London:20270904T094500
DTEND;TZID=Europe/London:20270904T104500
DTSTAMP:20260425T223905
CREATED:20240614T110750Z
LAST-MODIFIED:20240830T130354Z
UID:10005813-1820051100-1820054700@birkenhead-park.org.uk
SUMMARY:Run in Wirral
DESCRIPTION:Run in Wirral is a very socialable and friendly running group who cater for all abilities from Absolute Beginners (Couch to 5 K) to people who are training for 5K’s\, 10K’s\, Half Marathons and Marathons.  We have lots of amazing run leaders who will support you what ever your ability and what ever you want to achieve. \nWe charge £2 per run or if you have an Invigor8 membership then it’s FREE.  If you wish to book on our runs then please phone 606 2010 or go to www.activewirral.com/leisurehub You will need to register your details at any of our leisure centres in order to use the app but once you have done this then it’s really easy.  Any problems then please ring me – Fiona Hanik 0777 967 4718
URL:https://birkenhead-park.org.uk/events/run-in-wirral/2027-09-04/
LOCATION:Birkenhead Park\, Park Dr\, Birkenhead\, Birkenhead\, CH41 4HY
CATEGORIES:Activities,Wellbeing
ATTACH;FMTTYPE=image/jpeg:https://birkenhead-park.org.uk/wp-content/uploads/Park-Run.jpg
ORGANIZER;CN="Run In Wirral":MAILTO:fionahanik@wirral.gov.uk
END:VEVENT
BEGIN:VEVENT
DTSTART;TZID=Europe/London:20270905T110000
DTEND;TZID=Europe/London:20270905T120000
DTSTAMP:20260425T223905
CREATED:20240512T152303Z
LAST-MODIFIED:20240521T130028Z
UID:10004519-1820142000-1820145600@birkenhead-park.org.uk
SUMMARY:Wellbeing walk
DESCRIPTION:Three times a week\, join one our wellbeing walks run by health walk leaders. Meet just outside the Visitor Centre. All abilities welcome!
URL:https://birkenhead-park.org.uk/events/wellbeing-walk/2027-09-05/
LOCATION:Birkenhead Park Visitor Centre\, Park Drive\, Birkenhead\, CH41 4HY\, United Kingdom
CATEGORIES:Activities
ATTACH;FMTTYPE=image/jpeg:https://birkenhead-park.org.uk/wp-content/uploads/DSC_0728-Edit-e1639660087561.jpg
END:VEVENT
BEGIN:VEVENT
DTSTART;TZID=Europe/London:20270906T110000
DTEND;TZID=Europe/London:20270906T120000
DTSTAMP:20260425T223905
CREATED:20240512T152303Z
LAST-MODIFIED:20240521T130028Z
UID:10004520-1820228400-1820232000@birkenhead-park.org.uk
SUMMARY:Wellbeing walk
DESCRIPTION:Three times a week\, join one our wellbeing walks run by health walk leaders. Meet just outside the Visitor Centre. All abilities welcome!
URL:https://birkenhead-park.org.uk/events/wellbeing-walk/2027-09-06/
LOCATION:Birkenhead Park Visitor Centre\, Park Drive\, Birkenhead\, CH41 4HY\, United Kingdom
CATEGORIES:Activities
ATTACH;FMTTYPE=image/jpeg:https://birkenhead-park.org.uk/wp-content/uploads/DSC_0728-Edit-e1639660087561.jpg
END:VEVENT
BEGIN:VEVENT
DTSTART;TZID=Europe/London:20270909T100000
DTEND;TZID=Europe/London:20270909T150000
DTSTAMP:20260425T223905
CREATED:20240208T161043Z
LAST-MODIFIED:20240521T145514Z
UID:10004871-1820484000-1820502000@birkenhead-park.org.uk
SUMMARY:Wheels for All
DESCRIPTION:Wheels for All Birkenhead Park offers all-ability cycling utilising its fleet of adapted bikes as\, they aim to encourage health improvement\, social inclusion and to provide adapted cycling for anyone with a disability or differing needs. \nThe Wirral inclusive cycling activities take place along the paths of the park\, starting and finishing from the football changing rooms adjacent to the the children’s playground\, on the right as you enter from Ashville Road. \nSo come on down to Birkenhead Park and join in on our inclusive cycling sessions\, where you can try out our wide range of adapted cycles; from trikes and quads\, recumbents and side-by-sides to standard two wheelers for you to enjoy in a fun and safe environment. \n1st session free\, £5 per participant\, support/carers cycle for free forever. \nIf you have any questions regarding booking\, feedback\, volunteering\, donations or cycling\, please email (liverpool@wheelsforall.org.uk) or call 07469148247
URL:https://birkenhead-park.org.uk/events/wheels-for-all-2/2027-09-09/
LOCATION:Birkenhead Park\, football changing rooms\, Birkenhead Park\, Park Dr\, Birkenhead\, Wirral\, CH41 4HY\, United Kingdom
CATEGORIES:Activities,Wellbeing
ATTACH;FMTTYPE=image/jpeg:https://birkenhead-park.org.uk/wp-content/uploads/DSC_0330-Edit.jpg
ORGANIZER;CN="Wheels for all":MAILTO:ben.whittingham@wheelsforall.org.uk
END:VEVENT
BEGIN:VEVENT
DTSTART;TZID=Europe/London:20270911T094500
DTEND;TZID=Europe/London:20270911T104500
DTSTAMP:20260425T223905
CREATED:20240614T110750Z
LAST-MODIFIED:20240830T130354Z
UID:10005814-1820655900-1820659500@birkenhead-park.org.uk
SUMMARY:Run in Wirral
DESCRIPTION:Run in Wirral is a very socialable and friendly running group who cater for all abilities from Absolute Beginners (Couch to 5 K) to people who are training for 5K’s\, 10K’s\, Half Marathons and Marathons.  We have lots of amazing run leaders who will support you what ever your ability and what ever you want to achieve. \nWe charge £2 per run or if you have an Invigor8 membership then it’s FREE.  If you wish to book on our runs then please phone 606 2010 or go to www.activewirral.com/leisurehub You will need to register your details at any of our leisure centres in order to use the app but once you have done this then it’s really easy.  Any problems then please ring me – Fiona Hanik 0777 967 4718
URL:https://birkenhead-park.org.uk/events/run-in-wirral/2027-09-11/
LOCATION:Birkenhead Park\, Park Dr\, Birkenhead\, Birkenhead\, CH41 4HY
CATEGORIES:Activities,Wellbeing
ATTACH;FMTTYPE=image/jpeg:https://birkenhead-park.org.uk/wp-content/uploads/Park-Run.jpg
ORGANIZER;CN="Run In Wirral":MAILTO:fionahanik@wirral.gov.uk
END:VEVENT
BEGIN:VEVENT
DTSTART;TZID=Europe/London:20270912T110000
DTEND;TZID=Europe/London:20270912T120000
DTSTAMP:20260425T223905
CREATED:20240512T152303Z
LAST-MODIFIED:20240521T130028Z
UID:10004521-1820746800-1820750400@birkenhead-park.org.uk
SUMMARY:Wellbeing walk
DESCRIPTION:Three times a week\, join one our wellbeing walks run by health walk leaders. Meet just outside the Visitor Centre. All abilities welcome!
URL:https://birkenhead-park.org.uk/events/wellbeing-walk/2027-09-12/
LOCATION:Birkenhead Park Visitor Centre\, Park Drive\, Birkenhead\, CH41 4HY\, United Kingdom
CATEGORIES:Activities
ATTACH;FMTTYPE=image/jpeg:https://birkenhead-park.org.uk/wp-content/uploads/DSC_0728-Edit-e1639660087561.jpg
END:VEVENT
BEGIN:VEVENT
DTSTART;TZID=Europe/London:20270913T110000
DTEND;TZID=Europe/London:20270913T120000
DTSTAMP:20260425T223905
CREATED:20240512T152303Z
LAST-MODIFIED:20240521T130028Z
UID:10004522-1820833200-1820836800@birkenhead-park.org.uk
SUMMARY:Wellbeing walk
DESCRIPTION:Three times a week\, join one our wellbeing walks run by health walk leaders. Meet just outside the Visitor Centre. All abilities welcome!
URL:https://birkenhead-park.org.uk/events/wellbeing-walk/2027-09-13/
LOCATION:Birkenhead Park Visitor Centre\, Park Drive\, Birkenhead\, CH41 4HY\, United Kingdom
CATEGORIES:Activities
ATTACH;FMTTYPE=image/jpeg:https://birkenhead-park.org.uk/wp-content/uploads/DSC_0728-Edit-e1639660087561.jpg
END:VEVENT
BEGIN:VEVENT
DTSTART;TZID=Europe/London:20270916T100000
DTEND;TZID=Europe/London:20270916T150000
DTSTAMP:20260425T223905
CREATED:20240208T161043Z
LAST-MODIFIED:20240521T145514Z
UID:10004872-1821088800-1821106800@birkenhead-park.org.uk
SUMMARY:Wheels for All
DESCRIPTION:Wheels for All Birkenhead Park offers all-ability cycling utilising its fleet of adapted bikes as\, they aim to encourage health improvement\, social inclusion and to provide adapted cycling for anyone with a disability or differing needs. \nThe Wirral inclusive cycling activities take place along the paths of the park\, starting and finishing from the football changing rooms adjacent to the the children’s playground\, on the right as you enter from Ashville Road. \nSo come on down to Birkenhead Park and join in on our inclusive cycling sessions\, where you can try out our wide range of adapted cycles; from trikes and quads\, recumbents and side-by-sides to standard two wheelers for you to enjoy in a fun and safe environment. \n1st session free\, £5 per participant\, support/carers cycle for free forever. \nIf you have any questions regarding booking\, feedback\, volunteering\, donations or cycling\, please email (liverpool@wheelsforall.org.uk) or call 07469148247
URL:https://birkenhead-park.org.uk/events/wheels-for-all-2/2027-09-16/
LOCATION:Birkenhead Park\, football changing rooms\, Birkenhead Park\, Park Dr\, Birkenhead\, Wirral\, CH41 4HY\, United Kingdom
CATEGORIES:Activities,Wellbeing
ATTACH;FMTTYPE=image/jpeg:https://birkenhead-park.org.uk/wp-content/uploads/DSC_0330-Edit.jpg
ORGANIZER;CN="Wheels for all":MAILTO:ben.whittingham@wheelsforall.org.uk
END:VEVENT
BEGIN:VEVENT
DTSTART;TZID=Europe/London:20270918T094500
DTEND;TZID=Europe/London:20270918T104500
DTSTAMP:20260425T223905
CREATED:20240614T110750Z
LAST-MODIFIED:20240830T130354Z
UID:10005815-1821260700-1821264300@birkenhead-park.org.uk
SUMMARY:Run in Wirral
DESCRIPTION:Run in Wirral is a very socialable and friendly running group who cater for all abilities from Absolute Beginners (Couch to 5 K) to people who are training for 5K’s\, 10K’s\, Half Marathons and Marathons.  We have lots of amazing run leaders who will support you what ever your ability and what ever you want to achieve. \nWe charge £2 per run or if you have an Invigor8 membership then it’s FREE.  If you wish to book on our runs then please phone 606 2010 or go to www.activewirral.com/leisurehub You will need to register your details at any of our leisure centres in order to use the app but once you have done this then it’s really easy.  Any problems then please ring me – Fiona Hanik 0777 967 4718
URL:https://birkenhead-park.org.uk/events/run-in-wirral/2027-09-18/
LOCATION:Birkenhead Park\, Park Dr\, Birkenhead\, Birkenhead\, CH41 4HY
CATEGORIES:Activities,Wellbeing
ATTACH;FMTTYPE=image/jpeg:https://birkenhead-park.org.uk/wp-content/uploads/Park-Run.jpg
ORGANIZER;CN="Run In Wirral":MAILTO:fionahanik@wirral.gov.uk
END:VEVENT
BEGIN:VEVENT
DTSTART;TZID=Europe/London:20270919T110000
DTEND;TZID=Europe/London:20270919T120000
DTSTAMP:20260425T223905
CREATED:20240512T152303Z
LAST-MODIFIED:20240521T130028Z
UID:10004523-1821351600-1821355200@birkenhead-park.org.uk
SUMMARY:Wellbeing walk
DESCRIPTION:Three times a week\, join one our wellbeing walks run by health walk leaders. Meet just outside the Visitor Centre. All abilities welcome!
URL:https://birkenhead-park.org.uk/events/wellbeing-walk/2027-09-19/
LOCATION:Birkenhead Park Visitor Centre\, Park Drive\, Birkenhead\, CH41 4HY\, United Kingdom
CATEGORIES:Activities
ATTACH;FMTTYPE=image/jpeg:https://birkenhead-park.org.uk/wp-content/uploads/DSC_0728-Edit-e1639660087561.jpg
END:VEVENT
BEGIN:VEVENT
DTSTART;TZID=Europe/London:20270920T110000
DTEND;TZID=Europe/London:20270920T120000
DTSTAMP:20260425T223905
CREATED:20240512T152303Z
LAST-MODIFIED:20240521T130028Z
UID:10004524-1821438000-1821441600@birkenhead-park.org.uk
SUMMARY:Wellbeing walk
DESCRIPTION:Three times a week\, join one our wellbeing walks run by health walk leaders. Meet just outside the Visitor Centre. All abilities welcome!
URL:https://birkenhead-park.org.uk/events/wellbeing-walk/2027-09-20/
LOCATION:Birkenhead Park Visitor Centre\, Park Drive\, Birkenhead\, CH41 4HY\, United Kingdom
CATEGORIES:Activities
ATTACH;FMTTYPE=image/jpeg:https://birkenhead-park.org.uk/wp-content/uploads/DSC_0728-Edit-e1639660087561.jpg
END:VEVENT
BEGIN:VEVENT
DTSTART;TZID=Europe/London:20270923T100000
DTEND;TZID=Europe/London:20270923T150000
DTSTAMP:20260425T223905
CREATED:20240208T161043Z
LAST-MODIFIED:20240521T145514Z
UID:10004873-1821693600-1821711600@birkenhead-park.org.uk
SUMMARY:Wheels for All
DESCRIPTION:Wheels for All Birkenhead Park offers all-ability cycling utilising its fleet of adapted bikes as\, they aim to encourage health improvement\, social inclusion and to provide adapted cycling for anyone with a disability or differing needs. \nThe Wirral inclusive cycling activities take place along the paths of the park\, starting and finishing from the football changing rooms adjacent to the the children’s playground\, on the right as you enter from Ashville Road. \nSo come on down to Birkenhead Park and join in on our inclusive cycling sessions\, where you can try out our wide range of adapted cycles; from trikes and quads\, recumbents and side-by-sides to standard two wheelers for you to enjoy in a fun and safe environment. \n1st session free\, £5 per participant\, support/carers cycle for free forever. \nIf you have any questions regarding booking\, feedback\, volunteering\, donations or cycling\, please email (liverpool@wheelsforall.org.uk) or call 07469148247
URL:https://birkenhead-park.org.uk/events/wheels-for-all-2/2027-09-23/
LOCATION:Birkenhead Park\, football changing rooms\, Birkenhead Park\, Park Dr\, Birkenhead\, Wirral\, CH41 4HY\, United Kingdom
CATEGORIES:Activities,Wellbeing
ATTACH;FMTTYPE=image/jpeg:https://birkenhead-park.org.uk/wp-content/uploads/DSC_0330-Edit.jpg
ORGANIZER;CN="Wheels for all":MAILTO:ben.whittingham@wheelsforall.org.uk
END:VEVENT
BEGIN:VEVENT
DTSTART;TZID=Europe/London:20270925T094500
DTEND;TZID=Europe/London:20270925T104500
DTSTAMP:20260425T223905
CREATED:20240614T110750Z
LAST-MODIFIED:20240830T130354Z
UID:10005816-1821865500-1821869100@birkenhead-park.org.uk
SUMMARY:Run in Wirral
DESCRIPTION:Run in Wirral is a very socialable and friendly running group who cater for all abilities from Absolute Beginners (Couch to 5 K) to people who are training for 5K’s\, 10K’s\, Half Marathons and Marathons.  We have lots of amazing run leaders who will support you what ever your ability and what ever you want to achieve. \nWe charge £2 per run or if you have an Invigor8 membership then it’s FREE.  If you wish to book on our runs then please phone 606 2010 or go to www.activewirral.com/leisurehub You will need to register your details at any of our leisure centres in order to use the app but once you have done this then it’s really easy.  Any problems then please ring me – Fiona Hanik 0777 967 4718
URL:https://birkenhead-park.org.uk/events/run-in-wirral/2027-09-25/
LOCATION:Birkenhead Park\, Park Dr\, Birkenhead\, Birkenhead\, CH41 4HY
CATEGORIES:Activities,Wellbeing
ATTACH;FMTTYPE=image/jpeg:https://birkenhead-park.org.uk/wp-content/uploads/Park-Run.jpg
ORGANIZER;CN="Run In Wirral":MAILTO:fionahanik@wirral.gov.uk
END:VEVENT
BEGIN:VEVENT
DTSTART;TZID=Europe/London:20270926T110000
DTEND;TZID=Europe/London:20270926T120000
DTSTAMP:20260425T223905
CREATED:20240512T152303Z
LAST-MODIFIED:20240521T130028Z
UID:10004525-1821956400-1821960000@birkenhead-park.org.uk
SUMMARY:Wellbeing walk
DESCRIPTION:Three times a week\, join one our wellbeing walks run by health walk leaders. Meet just outside the Visitor Centre. All abilities welcome!
URL:https://birkenhead-park.org.uk/events/wellbeing-walk/2027-09-26/
LOCATION:Birkenhead Park Visitor Centre\, Park Drive\, Birkenhead\, CH41 4HY\, United Kingdom
CATEGORIES:Activities
ATTACH;FMTTYPE=image/jpeg:https://birkenhead-park.org.uk/wp-content/uploads/DSC_0728-Edit-e1639660087561.jpg
END:VEVENT
BEGIN:VEVENT
DTSTART;TZID=Europe/London:20270927T110000
DTEND;TZID=Europe/London:20270927T120000
DTSTAMP:20260425T223905
CREATED:20240512T152303Z
LAST-MODIFIED:20240521T130028Z
UID:10004526-1822042800-1822046400@birkenhead-park.org.uk
SUMMARY:Wellbeing walk
DESCRIPTION:Three times a week\, join one our wellbeing walks run by health walk leaders. Meet just outside the Visitor Centre. All abilities welcome!
URL:https://birkenhead-park.org.uk/events/wellbeing-walk/2027-09-27/
LOCATION:Birkenhead Park Visitor Centre\, Park Drive\, Birkenhead\, CH41 4HY\, United Kingdom
CATEGORIES:Activities
ATTACH;FMTTYPE=image/jpeg:https://birkenhead-park.org.uk/wp-content/uploads/DSC_0728-Edit-e1639660087561.jpg
END:VEVENT
BEGIN:VEVENT
DTSTART;TZID=Europe/London:20270930T100000
DTEND;TZID=Europe/London:20270930T150000
DTSTAMP:20260425T223905
CREATED:20240208T161043Z
LAST-MODIFIED:20240521T145514Z
UID:10004874-1822298400-1822316400@birkenhead-park.org.uk
SUMMARY:Wheels for All
DESCRIPTION:Wheels for All Birkenhead Park offers all-ability cycling utilising its fleet of adapted bikes as\, they aim to encourage health improvement\, social inclusion and to provide adapted cycling for anyone with a disability or differing needs. \nThe Wirral inclusive cycling activities take place along the paths of the park\, starting and finishing from the football changing rooms adjacent to the the children’s playground\, on the right as you enter from Ashville Road. \nSo come on down to Birkenhead Park and join in on our inclusive cycling sessions\, where you can try out our wide range of adapted cycles; from trikes and quads\, recumbents and side-by-sides to standard two wheelers for you to enjoy in a fun and safe environment. \n1st session free\, £5 per participant\, support/carers cycle for free forever. \nIf you have any questions regarding booking\, feedback\, volunteering\, donations or cycling\, please email (liverpool@wheelsforall.org.uk) or call 07469148247
URL:https://birkenhead-park.org.uk/events/wheels-for-all-2/2027-09-30/
LOCATION:Birkenhead Park\, football changing rooms\, Birkenhead Park\, Park Dr\, Birkenhead\, Wirral\, CH41 4HY\, United Kingdom
CATEGORIES:Activities,Wellbeing
ATTACH;FMTTYPE=image/jpeg:https://birkenhead-park.org.uk/wp-content/uploads/DSC_0330-Edit.jpg
ORGANIZER;CN="Wheels for all":MAILTO:ben.whittingham@wheelsforall.org.uk
END:VEVENT
END:VCALENDAR