BEGIN:VCALENDAR
VERSION:2.0
PRODID:-//Birkenhead Park - ECPv6.15.20//NONSGML v1.0//EN
CALSCALE:GREGORIAN
METHOD:PUBLISH
X-ORIGINAL-URL:https://birkenhead-park.org.uk
X-WR-CALDESC:Events for Birkenhead Park
REFRESH-INTERVAL;VALUE=DURATION:PT1H
X-Robots-Tag:noindex
X-PUBLISHED-TTL:PT1H
BEGIN:VTIMEZONE
TZID:Europe/London
BEGIN:DAYLIGHT
TZOFFSETFROM:+0000
TZOFFSETTO:+0100
TZNAME:BST
DTSTART:20300331T010000
END:DAYLIGHT
BEGIN:STANDARD
TZOFFSETFROM:+0100
TZOFFSETTO:+0000
TZNAME:GMT
DTSTART:20301027T010000
END:STANDARD
BEGIN:DAYLIGHT
TZOFFSETFROM:+0000
TZOFFSETTO:+0100
TZNAME:BST
DTSTART:20310330T010000
END:DAYLIGHT
BEGIN:STANDARD
TZOFFSETFROM:+0100
TZOFFSETTO:+0000
TZNAME:GMT
DTSTART:20311026T010000
END:STANDARD
BEGIN:DAYLIGHT
TZOFFSETFROM:+0000
TZOFFSETTO:+0100
TZNAME:BST
DTSTART:20320328T010000
END:DAYLIGHT
BEGIN:STANDARD
TZOFFSETFROM:+0100
TZOFFSETTO:+0000
TZNAME:GMT
DTSTART:20321031T010000
END:STANDARD
END:VTIMEZONE
BEGIN:VEVENT
DTSTART;TZID=Europe/London:20310225T110000
DTEND;TZID=Europe/London:20310225T113000
DTSTAMP:20260425T005559
CREATED:20240521T151214Z
LAST-MODIFIED:20240522T131312Z
UID:10006845-1929783600-1929785400@birkenhead-park.org.uk
SUMMARY:MamaFit Wirral
DESCRIPTION:  \nReady to get Mummy fit? \nJoin new Mamafit sessions every Monday and Tuesday at Birkenhead Park. \nMums Social: Walk & Talk – Birkenhead Park\, Wirral \nMonday’s 10:00am – 11:30am launching 22nd April 2024. \nhttps://members.mamafituk.com/courses/313/info \nMamafit® Kettlebells – Birkenhead Park\, Wirral  \nTuesday’s 11:00am – 11:40am launching 23rd April 2024. \nhttps://members.mamafituk.com/courses/319/info
URL:https://birkenhead-park.org.uk/events/mamafit-wirral-2/2031-02-25/
LOCATION:Birkenhead Park Visitor Centre\, Park Drive\, Birkenhead\, CH41 4HY\, United Kingdom
CATEGORIES:Activities,Wellbeing
ATTACH;FMTTYPE=image/jpeg:https://birkenhead-park.org.uk/wp-content/uploads/mamafit-kettebelles-tue.jpg
END:VEVENT
BEGIN:VEVENT
DTSTART;TZID=Europe/London:20310304T110000
DTEND;TZID=Europe/London:20310304T113000
DTSTAMP:20260425T005559
CREATED:20240521T151214Z
LAST-MODIFIED:20240522T131312Z
UID:10006868-1930388400-1930390200@birkenhead-park.org.uk
SUMMARY:MamaFit Wirral
DESCRIPTION:  \nReady to get Mummy fit? \nJoin new Mamafit sessions every Monday and Tuesday at Birkenhead Park. \nMums Social: Walk & Talk – Birkenhead Park\, Wirral \nMonday’s 10:00am – 11:30am launching 22nd April 2024. \nhttps://members.mamafituk.com/courses/313/info \nMamafit® Kettlebells – Birkenhead Park\, Wirral  \nTuesday’s 11:00am – 11:40am launching 23rd April 2024. \nhttps://members.mamafituk.com/courses/319/info
URL:https://birkenhead-park.org.uk/events/mamafit-wirral-2/2031-03-04/
LOCATION:Birkenhead Park Visitor Centre\, Park Drive\, Birkenhead\, CH41 4HY\, United Kingdom
CATEGORIES:Activities,Wellbeing
ATTACH;FMTTYPE=image/jpeg:https://birkenhead-park.org.uk/wp-content/uploads/mamafit-kettebelles-tue.jpg
END:VEVENT
BEGIN:VEVENT
DTSTART;TZID=Europe/London:20310311T110000
DTEND;TZID=Europe/London:20310311T113000
DTSTAMP:20260425T005559
CREATED:20240521T151214Z
LAST-MODIFIED:20240522T131312Z
UID:10006877-1930993200-1930995000@birkenhead-park.org.uk
SUMMARY:MamaFit Wirral
DESCRIPTION:  \nReady to get Mummy fit? \nJoin new Mamafit sessions every Monday and Tuesday at Birkenhead Park. \nMums Social: Walk & Talk – Birkenhead Park\, Wirral \nMonday’s 10:00am – 11:30am launching 22nd April 2024. \nhttps://members.mamafituk.com/courses/313/info \nMamafit® Kettlebells – Birkenhead Park\, Wirral  \nTuesday’s 11:00am – 11:40am launching 23rd April 2024. \nhttps://members.mamafituk.com/courses/319/info
URL:https://birkenhead-park.org.uk/events/mamafit-wirral-2/2031-03-11/
LOCATION:Birkenhead Park Visitor Centre\, Park Drive\, Birkenhead\, CH41 4HY\, United Kingdom
CATEGORIES:Activities,Wellbeing
ATTACH;FMTTYPE=image/jpeg:https://birkenhead-park.org.uk/wp-content/uploads/mamafit-kettebelles-tue.jpg
END:VEVENT
BEGIN:VEVENT
DTSTART;TZID=Europe/London:20310318T110000
DTEND;TZID=Europe/London:20310318T113000
DTSTAMP:20260425T005559
CREATED:20240521T151214Z
LAST-MODIFIED:20240522T131312Z
UID:10006886-1931598000-1931599800@birkenhead-park.org.uk
SUMMARY:MamaFit Wirral
DESCRIPTION:  \nReady to get Mummy fit? \nJoin new Mamafit sessions every Monday and Tuesday at Birkenhead Park. \nMums Social: Walk & Talk – Birkenhead Park\, Wirral \nMonday’s 10:00am – 11:30am launching 22nd April 2024. \nhttps://members.mamafituk.com/courses/313/info \nMamafit® Kettlebells – Birkenhead Park\, Wirral  \nTuesday’s 11:00am – 11:40am launching 23rd April 2024. \nhttps://members.mamafituk.com/courses/319/info
URL:https://birkenhead-park.org.uk/events/mamafit-wirral-2/2031-03-18/
LOCATION:Birkenhead Park Visitor Centre\, Park Drive\, Birkenhead\, CH41 4HY\, United Kingdom
CATEGORIES:Activities,Wellbeing
ATTACH;FMTTYPE=image/jpeg:https://birkenhead-park.org.uk/wp-content/uploads/mamafit-kettebelles-tue.jpg
END:VEVENT
BEGIN:VEVENT
DTSTART;TZID=Europe/London:20310325T110000
DTEND;TZID=Europe/London:20310325T113000
DTSTAMP:20260425T005559
CREATED:20240521T151214Z
LAST-MODIFIED:20240522T131312Z
UID:10006895-1932202800-1932204600@birkenhead-park.org.uk
SUMMARY:MamaFit Wirral
DESCRIPTION:  \nReady to get Mummy fit? \nJoin new Mamafit sessions every Monday and Tuesday at Birkenhead Park. \nMums Social: Walk & Talk – Birkenhead Park\, Wirral \nMonday’s 10:00am – 11:30am launching 22nd April 2024. \nhttps://members.mamafituk.com/courses/313/info \nMamafit® Kettlebells – Birkenhead Park\, Wirral  \nTuesday’s 11:00am – 11:40am launching 23rd April 2024. \nhttps://members.mamafituk.com/courses/319/info
URL:https://birkenhead-park.org.uk/events/mamafit-wirral-2/2031-03-25/
LOCATION:Birkenhead Park Visitor Centre\, Park Drive\, Birkenhead\, CH41 4HY\, United Kingdom
CATEGORIES:Activities,Wellbeing
ATTACH;FMTTYPE=image/jpeg:https://birkenhead-park.org.uk/wp-content/uploads/mamafit-kettebelles-tue.jpg
END:VEVENT
BEGIN:VEVENT
DTSTART;TZID=Europe/London:20310401T110000
DTEND;TZID=Europe/London:20310401T113000
DTSTAMP:20260425T005559
CREATED:20240521T151214Z
LAST-MODIFIED:20240522T131312Z
UID:10006906-1932807600-1932809400@birkenhead-park.org.uk
SUMMARY:MamaFit Wirral
DESCRIPTION:  \nReady to get Mummy fit? \nJoin new Mamafit sessions every Monday and Tuesday at Birkenhead Park. \nMums Social: Walk & Talk – Birkenhead Park\, Wirral \nMonday’s 10:00am – 11:30am launching 22nd April 2024. \nhttps://members.mamafituk.com/courses/313/info \nMamafit® Kettlebells – Birkenhead Park\, Wirral  \nTuesday’s 11:00am – 11:40am launching 23rd April 2024. \nhttps://members.mamafituk.com/courses/319/info
URL:https://birkenhead-park.org.uk/events/mamafit-wirral-2/2031-04-01/
LOCATION:Birkenhead Park Visitor Centre\, Park Drive\, Birkenhead\, CH41 4HY\, United Kingdom
CATEGORIES:Activities,Wellbeing
ATTACH;FMTTYPE=image/jpeg:https://birkenhead-park.org.uk/wp-content/uploads/mamafit-kettebelles-tue.jpg
END:VEVENT
BEGIN:VEVENT
DTSTART;TZID=Europe/London:20310408T110000
DTEND;TZID=Europe/London:20310408T113000
DTSTAMP:20260425T005559
CREATED:20240521T151214Z
LAST-MODIFIED:20240522T131312Z
UID:10006915-1933412400-1933414200@birkenhead-park.org.uk
SUMMARY:MamaFit Wirral
DESCRIPTION:  \nReady to get Mummy fit? \nJoin new Mamafit sessions every Monday and Tuesday at Birkenhead Park. \nMums Social: Walk & Talk – Birkenhead Park\, Wirral \nMonday’s 10:00am – 11:30am launching 22nd April 2024. \nhttps://members.mamafituk.com/courses/313/info \nMamafit® Kettlebells – Birkenhead Park\, Wirral  \nTuesday’s 11:00am – 11:40am launching 23rd April 2024. \nhttps://members.mamafituk.com/courses/319/info
URL:https://birkenhead-park.org.uk/events/mamafit-wirral-2/2031-04-08/
LOCATION:Birkenhead Park Visitor Centre\, Park Drive\, Birkenhead\, CH41 4HY\, United Kingdom
CATEGORIES:Activities,Wellbeing
ATTACH;FMTTYPE=image/jpeg:https://birkenhead-park.org.uk/wp-content/uploads/mamafit-kettebelles-tue.jpg
END:VEVENT
BEGIN:VEVENT
DTSTART;TZID=Europe/London:20310415T110000
DTEND;TZID=Europe/London:20310415T113000
DTSTAMP:20260425T005559
CREATED:20240521T151214Z
LAST-MODIFIED:20240522T131312Z
UID:10006924-1934017200-1934019000@birkenhead-park.org.uk
SUMMARY:MamaFit Wirral
DESCRIPTION:  \nReady to get Mummy fit? \nJoin new Mamafit sessions every Monday and Tuesday at Birkenhead Park. \nMums Social: Walk & Talk – Birkenhead Park\, Wirral \nMonday’s 10:00am – 11:30am launching 22nd April 2024. \nhttps://members.mamafituk.com/courses/313/info \nMamafit® Kettlebells – Birkenhead Park\, Wirral  \nTuesday’s 11:00am – 11:40am launching 23rd April 2024. \nhttps://members.mamafituk.com/courses/319/info
URL:https://birkenhead-park.org.uk/events/mamafit-wirral-2/2031-04-15/
LOCATION:Birkenhead Park Visitor Centre\, Park Drive\, Birkenhead\, CH41 4HY\, United Kingdom
CATEGORIES:Activities,Wellbeing
ATTACH;FMTTYPE=image/jpeg:https://birkenhead-park.org.uk/wp-content/uploads/mamafit-kettebelles-tue.jpg
END:VEVENT
END:VCALENDAR