BEGIN:VCALENDAR
VERSION:2.0
PRODID:-//Birkenhead Park - ECPv6.15.20//NONSGML v1.0//EN
CALSCALE:GREGORIAN
METHOD:PUBLISH
X-ORIGINAL-URL:https://birkenhead-park.org.uk
X-WR-CALDESC:Events for Birkenhead Park
REFRESH-INTERVAL;VALUE=DURATION:PT1H
X-Robots-Tag:noindex
X-PUBLISHED-TTL:PT1H
BEGIN:VTIMEZONE
TZID:Europe/London
BEGIN:DAYLIGHT
TZOFFSETFROM:+0000
TZOFFSETTO:+0100
TZNAME:BST
DTSTART:20260329T010000
END:DAYLIGHT
BEGIN:STANDARD
TZOFFSETFROM:+0100
TZOFFSETTO:+0000
TZNAME:GMT
DTSTART:20261025T010000
END:STANDARD
BEGIN:DAYLIGHT
TZOFFSETFROM:+0000
TZOFFSETTO:+0100
TZNAME:BST
DTSTART:20270328T010000
END:DAYLIGHT
BEGIN:STANDARD
TZOFFSETFROM:+0100
TZOFFSETTO:+0000
TZNAME:GMT
DTSTART:20271031T010000
END:STANDARD
BEGIN:DAYLIGHT
TZOFFSETFROM:+0000
TZOFFSETTO:+0100
TZNAME:BST
DTSTART:20280326T010000
END:DAYLIGHT
BEGIN:STANDARD
TZOFFSETFROM:+0100
TZOFFSETTO:+0000
TZNAME:GMT
DTSTART:20281029T010000
END:STANDARD
END:VTIMEZONE
BEGIN:VEVENT
DTSTART;TZID=Europe/London:20270404T110000
DTEND;TZID=Europe/London:20270404T120000
DTSTAMP:20260424T145245
CREATED:20240512T152303Z
LAST-MODIFIED:20240521T130028Z
UID:10004475-1806836400-1806840000@birkenhead-park.org.uk
SUMMARY:Wellbeing walk
DESCRIPTION:Three times a week\, join one our wellbeing walks run by health walk leaders. Meet just outside the Visitor Centre. All abilities welcome!
URL:https://birkenhead-park.org.uk/events/wellbeing-walk/2027-04-04/
LOCATION:Birkenhead Park Visitor Centre\, Park Drive\, Birkenhead\, CH41 4HY\, United Kingdom
CATEGORIES:Activities
ATTACH;FMTTYPE=image/jpeg:https://birkenhead-park.org.uk/wp-content/uploads/DSC_0728-Edit-e1639660087561.jpg
END:VEVENT
BEGIN:VEVENT
DTSTART;TZID=Europe/London:20270405T110000
DTEND;TZID=Europe/London:20270405T120000
DTSTAMP:20260424T145245
CREATED:20240512T152303Z
LAST-MODIFIED:20240521T130028Z
UID:10004476-1806922800-1806926400@birkenhead-park.org.uk
SUMMARY:Wellbeing walk
DESCRIPTION:Three times a week\, join one our wellbeing walks run by health walk leaders. Meet just outside the Visitor Centre. All abilities welcome!
URL:https://birkenhead-park.org.uk/events/wellbeing-walk/2027-04-05/
LOCATION:Birkenhead Park Visitor Centre\, Park Drive\, Birkenhead\, CH41 4HY\, United Kingdom
CATEGORIES:Activities
ATTACH;FMTTYPE=image/jpeg:https://birkenhead-park.org.uk/wp-content/uploads/DSC_0728-Edit-e1639660087561.jpg
END:VEVENT
BEGIN:VEVENT
DTSTART;TZID=Europe/London:20270411T110000
DTEND;TZID=Europe/London:20270411T120000
DTSTAMP:20260424T145245
CREATED:20240512T152303Z
LAST-MODIFIED:20240521T130028Z
UID:10004477-1807441200-1807444800@birkenhead-park.org.uk
SUMMARY:Wellbeing walk
DESCRIPTION:Three times a week\, join one our wellbeing walks run by health walk leaders. Meet just outside the Visitor Centre. All abilities welcome!
URL:https://birkenhead-park.org.uk/events/wellbeing-walk/2027-04-11/
LOCATION:Birkenhead Park Visitor Centre\, Park Drive\, Birkenhead\, CH41 4HY\, United Kingdom
CATEGORIES:Activities
ATTACH;FMTTYPE=image/jpeg:https://birkenhead-park.org.uk/wp-content/uploads/DSC_0728-Edit-e1639660087561.jpg
END:VEVENT
BEGIN:VEVENT
DTSTART;TZID=Europe/London:20270412T110000
DTEND;TZID=Europe/London:20270412T120000
DTSTAMP:20260424T145245
CREATED:20240512T152303Z
LAST-MODIFIED:20240521T130028Z
UID:10004478-1807527600-1807531200@birkenhead-park.org.uk
SUMMARY:Wellbeing walk
DESCRIPTION:Three times a week\, join one our wellbeing walks run by health walk leaders. Meet just outside the Visitor Centre. All abilities welcome!
URL:https://birkenhead-park.org.uk/events/wellbeing-walk/2027-04-12/
LOCATION:Birkenhead Park Visitor Centre\, Park Drive\, Birkenhead\, CH41 4HY\, United Kingdom
CATEGORIES:Activities
ATTACH;FMTTYPE=image/jpeg:https://birkenhead-park.org.uk/wp-content/uploads/DSC_0728-Edit-e1639660087561.jpg
END:VEVENT
BEGIN:VEVENT
DTSTART;TZID=Europe/London:20270418T110000
DTEND;TZID=Europe/London:20270418T120000
DTSTAMP:20260424T145245
CREATED:20240512T152303Z
LAST-MODIFIED:20240521T130028Z
UID:10004479-1808046000-1808049600@birkenhead-park.org.uk
SUMMARY:Wellbeing walk
DESCRIPTION:Three times a week\, join one our wellbeing walks run by health walk leaders. Meet just outside the Visitor Centre. All abilities welcome!
URL:https://birkenhead-park.org.uk/events/wellbeing-walk/2027-04-18/
LOCATION:Birkenhead Park Visitor Centre\, Park Drive\, Birkenhead\, CH41 4HY\, United Kingdom
CATEGORIES:Activities
ATTACH;FMTTYPE=image/jpeg:https://birkenhead-park.org.uk/wp-content/uploads/DSC_0728-Edit-e1639660087561.jpg
END:VEVENT
BEGIN:VEVENT
DTSTART;TZID=Europe/London:20270419T110000
DTEND;TZID=Europe/London:20270419T120000
DTSTAMP:20260424T145245
CREATED:20240512T152303Z
LAST-MODIFIED:20240521T130028Z
UID:10004480-1808132400-1808136000@birkenhead-park.org.uk
SUMMARY:Wellbeing walk
DESCRIPTION:Three times a week\, join one our wellbeing walks run by health walk leaders. Meet just outside the Visitor Centre. All abilities welcome!
URL:https://birkenhead-park.org.uk/events/wellbeing-walk/2027-04-19/
LOCATION:Birkenhead Park Visitor Centre\, Park Drive\, Birkenhead\, CH41 4HY\, United Kingdom
CATEGORIES:Activities
ATTACH;FMTTYPE=image/jpeg:https://birkenhead-park.org.uk/wp-content/uploads/DSC_0728-Edit-e1639660087561.jpg
END:VEVENT
BEGIN:VEVENT
DTSTART;TZID=Europe/London:20270425T110000
DTEND;TZID=Europe/London:20270425T120000
DTSTAMP:20260424T145245
CREATED:20240512T152303Z
LAST-MODIFIED:20240521T130028Z
UID:10004481-1808650800-1808654400@birkenhead-park.org.uk
SUMMARY:Wellbeing walk
DESCRIPTION:Three times a week\, join one our wellbeing walks run by health walk leaders. Meet just outside the Visitor Centre. All abilities welcome!
URL:https://birkenhead-park.org.uk/events/wellbeing-walk/2027-04-25/
LOCATION:Birkenhead Park Visitor Centre\, Park Drive\, Birkenhead\, CH41 4HY\, United Kingdom
CATEGORIES:Activities
ATTACH;FMTTYPE=image/jpeg:https://birkenhead-park.org.uk/wp-content/uploads/DSC_0728-Edit-e1639660087561.jpg
END:VEVENT
BEGIN:VEVENT
DTSTART;TZID=Europe/London:20270426T110000
DTEND;TZID=Europe/London:20270426T120000
DTSTAMP:20260424T145245
CREATED:20240512T152303Z
LAST-MODIFIED:20240521T130028Z
UID:10004482-1808737200-1808740800@birkenhead-park.org.uk
SUMMARY:Wellbeing walk
DESCRIPTION:Three times a week\, join one our wellbeing walks run by health walk leaders. Meet just outside the Visitor Centre. All abilities welcome!
URL:https://birkenhead-park.org.uk/events/wellbeing-walk/2027-04-26/
LOCATION:Birkenhead Park Visitor Centre\, Park Drive\, Birkenhead\, CH41 4HY\, United Kingdom
CATEGORIES:Activities
ATTACH;FMTTYPE=image/jpeg:https://birkenhead-park.org.uk/wp-content/uploads/DSC_0728-Edit-e1639660087561.jpg
END:VEVENT
END:VCALENDAR