BEGIN:VCALENDAR
VERSION:2.0
PRODID:-//Birkenhead Park - ECPv6.15.20//NONSGML v1.0//EN
CALSCALE:GREGORIAN
METHOD:PUBLISH
X-WR-CALNAME:Birkenhead Park
X-ORIGINAL-URL:https://birkenhead-park.org.uk
X-WR-CALDESC:Events for Birkenhead Park
REFRESH-INTERVAL;VALUE=DURATION:PT1H
X-Robots-Tag:noindex
X-PUBLISHED-TTL:PT1H
BEGIN:VTIMEZONE
TZID:Europe/London
BEGIN:DAYLIGHT
TZOFFSETFROM:+0000
TZOFFSETTO:+0100
TZNAME:BST
DTSTART:20250330T010000
END:DAYLIGHT
BEGIN:STANDARD
TZOFFSETFROM:+0100
TZOFFSETTO:+0000
TZNAME:GMT
DTSTART:20251026T010000
END:STANDARD
BEGIN:DAYLIGHT
TZOFFSETFROM:+0000
TZOFFSETTO:+0100
TZNAME:BST
DTSTART:20260329T010000
END:DAYLIGHT
BEGIN:STANDARD
TZOFFSETFROM:+0100
TZOFFSETTO:+0000
TZNAME:GMT
DTSTART:20261025T010000
END:STANDARD
BEGIN:DAYLIGHT
TZOFFSETFROM:+0000
TZOFFSETTO:+0100
TZNAME:BST
DTSTART:20270328T010000
END:DAYLIGHT
BEGIN:STANDARD
TZOFFSETFROM:+0100
TZOFFSETTO:+0000
TZNAME:GMT
DTSTART:20271031T010000
END:STANDARD
BEGIN:DAYLIGHT
TZOFFSETFROM:+0000
TZOFFSETTO:+0100
TZNAME:BST
DTSTART:20280326T010000
END:DAYLIGHT
BEGIN:STANDARD
TZOFFSETFROM:+0100
TZOFFSETTO:+0000
TZNAME:GMT
DTSTART:20281029T010000
END:STANDARD
END:VTIMEZONE
BEGIN:VEVENT
DTSTART;TZID=Europe/London:20261011T110000
DTEND;TZID=Europe/London:20261011T120000
DTSTAMP:20260423T230803
CREATED:20240512T152303Z
LAST-MODIFIED:20240521T130028Z
UID:10004425-1791716400-1791720000@birkenhead-park.org.uk
SUMMARY:Wellbeing walk
DESCRIPTION:Three times a week\, join one our wellbeing walks run by health walk leaders. Meet just outside the Visitor Centre. All abilities welcome!
URL:https://birkenhead-park.org.uk/events/wellbeing-walk/2026-10-11/
LOCATION:Birkenhead Park Visitor Centre\, Park Drive\, Birkenhead\, CH41 4HY\, United Kingdom
CATEGORIES:Activities
ATTACH;FMTTYPE=image/jpeg:https://birkenhead-park.org.uk/wp-content/uploads/DSC_0728-Edit-e1639660087561.jpg
END:VEVENT
BEGIN:VEVENT
DTSTART;TZID=Europe/London:20261012T110000
DTEND;TZID=Europe/London:20261012T120000
DTSTAMP:20260423T230803
CREATED:20240512T152303Z
LAST-MODIFIED:20240521T130028Z
UID:10004426-1791802800-1791806400@birkenhead-park.org.uk
SUMMARY:Wellbeing walk
DESCRIPTION:Three times a week\, join one our wellbeing walks run by health walk leaders. Meet just outside the Visitor Centre. All abilities welcome!
URL:https://birkenhead-park.org.uk/events/wellbeing-walk/2026-10-12/
LOCATION:Birkenhead Park Visitor Centre\, Park Drive\, Birkenhead\, CH41 4HY\, United Kingdom
CATEGORIES:Activities
ATTACH;FMTTYPE=image/jpeg:https://birkenhead-park.org.uk/wp-content/uploads/DSC_0728-Edit-e1639660087561.jpg
END:VEVENT
BEGIN:VEVENT
DTSTART;TZID=Europe/London:20261018T110000
DTEND;TZID=Europe/London:20261018T120000
DTSTAMP:20260423T230803
CREATED:20240512T152303Z
LAST-MODIFIED:20240521T130028Z
UID:10004427-1792321200-1792324800@birkenhead-park.org.uk
SUMMARY:Wellbeing walk
DESCRIPTION:Three times a week\, join one our wellbeing walks run by health walk leaders. Meet just outside the Visitor Centre. All abilities welcome!
URL:https://birkenhead-park.org.uk/events/wellbeing-walk/2026-10-18/
LOCATION:Birkenhead Park Visitor Centre\, Park Drive\, Birkenhead\, CH41 4HY\, United Kingdom
CATEGORIES:Activities
ATTACH;FMTTYPE=image/jpeg:https://birkenhead-park.org.uk/wp-content/uploads/DSC_0728-Edit-e1639660087561.jpg
END:VEVENT
BEGIN:VEVENT
DTSTART;TZID=Europe/London:20261019T110000
DTEND;TZID=Europe/London:20261019T120000
DTSTAMP:20260423T230803
CREATED:20240512T152303Z
LAST-MODIFIED:20240521T130028Z
UID:10004428-1792407600-1792411200@birkenhead-park.org.uk
SUMMARY:Wellbeing walk
DESCRIPTION:Three times a week\, join one our wellbeing walks run by health walk leaders. Meet just outside the Visitor Centre. All abilities welcome!
URL:https://birkenhead-park.org.uk/events/wellbeing-walk/2026-10-19/
LOCATION:Birkenhead Park Visitor Centre\, Park Drive\, Birkenhead\, CH41 4HY\, United Kingdom
CATEGORIES:Activities
ATTACH;FMTTYPE=image/jpeg:https://birkenhead-park.org.uk/wp-content/uploads/DSC_0728-Edit-e1639660087561.jpg
END:VEVENT
BEGIN:VEVENT
DTSTART;TZID=Europe/London:20261025T110000
DTEND;TZID=Europe/London:20261025T120000
DTSTAMP:20260423T230803
CREATED:20240512T152303Z
LAST-MODIFIED:20240521T130028Z
UID:10004429-1792926000-1792929600@birkenhead-park.org.uk
SUMMARY:Wellbeing walk
DESCRIPTION:Three times a week\, join one our wellbeing walks run by health walk leaders. Meet just outside the Visitor Centre. All abilities welcome!
URL:https://birkenhead-park.org.uk/events/wellbeing-walk/2026-10-25/
LOCATION:Birkenhead Park Visitor Centre\, Park Drive\, Birkenhead\, CH41 4HY\, United Kingdom
CATEGORIES:Activities
ATTACH;FMTTYPE=image/jpeg:https://birkenhead-park.org.uk/wp-content/uploads/DSC_0728-Edit-e1639660087561.jpg
END:VEVENT
BEGIN:VEVENT
DTSTART;TZID=Europe/London:20261026T110000
DTEND;TZID=Europe/London:20261026T120000
DTSTAMP:20260423T230803
CREATED:20240512T152303Z
LAST-MODIFIED:20240521T130028Z
UID:10004430-1793012400-1793016000@birkenhead-park.org.uk
SUMMARY:Wellbeing walk
DESCRIPTION:Three times a week\, join one our wellbeing walks run by health walk leaders. Meet just outside the Visitor Centre. All abilities welcome!
URL:https://birkenhead-park.org.uk/events/wellbeing-walk/2026-10-26/
LOCATION:Birkenhead Park Visitor Centre\, Park Drive\, Birkenhead\, CH41 4HY\, United Kingdom
CATEGORIES:Activities
ATTACH;FMTTYPE=image/jpeg:https://birkenhead-park.org.uk/wp-content/uploads/DSC_0728-Edit-e1639660087561.jpg
END:VEVENT
BEGIN:VEVENT
DTSTART;TZID=Europe/London:20261101T110000
DTEND;TZID=Europe/London:20261101T120000
DTSTAMP:20260423T230803
CREATED:20240512T152303Z
LAST-MODIFIED:20240521T130028Z
UID:10004431-1793530800-1793534400@birkenhead-park.org.uk
SUMMARY:Wellbeing walk
DESCRIPTION:Three times a week\, join one our wellbeing walks run by health walk leaders. Meet just outside the Visitor Centre. All abilities welcome!
URL:https://birkenhead-park.org.uk/events/wellbeing-walk/2026-11-01/
LOCATION:Birkenhead Park Visitor Centre\, Park Drive\, Birkenhead\, CH41 4HY\, United Kingdom
CATEGORIES:Activities
ATTACH;FMTTYPE=image/jpeg:https://birkenhead-park.org.uk/wp-content/uploads/DSC_0728-Edit-e1639660087561.jpg
END:VEVENT
BEGIN:VEVENT
DTSTART;TZID=Europe/London:20261102T110000
DTEND;TZID=Europe/London:20261102T120000
DTSTAMP:20260423T230803
CREATED:20240512T152303Z
LAST-MODIFIED:20240521T130028Z
UID:10004432-1793617200-1793620800@birkenhead-park.org.uk
SUMMARY:Wellbeing walk
DESCRIPTION:Three times a week\, join one our wellbeing walks run by health walk leaders. Meet just outside the Visitor Centre. All abilities welcome!
URL:https://birkenhead-park.org.uk/events/wellbeing-walk/2026-11-02/
LOCATION:Birkenhead Park Visitor Centre\, Park Drive\, Birkenhead\, CH41 4HY\, United Kingdom
CATEGORIES:Activities
ATTACH;FMTTYPE=image/jpeg:https://birkenhead-park.org.uk/wp-content/uploads/DSC_0728-Edit-e1639660087561.jpg
END:VEVENT
BEGIN:VEVENT
DTSTART;TZID=Europe/London:20261108T110000
DTEND;TZID=Europe/London:20261108T120000
DTSTAMP:20260423T230803
CREATED:20240512T152303Z
LAST-MODIFIED:20240521T130028Z
UID:10004433-1794135600-1794139200@birkenhead-park.org.uk
SUMMARY:Wellbeing walk
DESCRIPTION:Three times a week\, join one our wellbeing walks run by health walk leaders. Meet just outside the Visitor Centre. All abilities welcome!
URL:https://birkenhead-park.org.uk/events/wellbeing-walk/2026-11-08/
LOCATION:Birkenhead Park Visitor Centre\, Park Drive\, Birkenhead\, CH41 4HY\, United Kingdom
CATEGORIES:Activities
ATTACH;FMTTYPE=image/jpeg:https://birkenhead-park.org.uk/wp-content/uploads/DSC_0728-Edit-e1639660087561.jpg
END:VEVENT
BEGIN:VEVENT
DTSTART;TZID=Europe/London:20261109T110000
DTEND;TZID=Europe/London:20261109T120000
DTSTAMP:20260423T230803
CREATED:20240512T152303Z
LAST-MODIFIED:20240521T130028Z
UID:10004434-1794222000-1794225600@birkenhead-park.org.uk
SUMMARY:Wellbeing walk
DESCRIPTION:Three times a week\, join one our wellbeing walks run by health walk leaders. Meet just outside the Visitor Centre. All abilities welcome!
URL:https://birkenhead-park.org.uk/events/wellbeing-walk/2026-11-09/
LOCATION:Birkenhead Park Visitor Centre\, Park Drive\, Birkenhead\, CH41 4HY\, United Kingdom
CATEGORIES:Activities
ATTACH;FMTTYPE=image/jpeg:https://birkenhead-park.org.uk/wp-content/uploads/DSC_0728-Edit-e1639660087561.jpg
END:VEVENT
BEGIN:VEVENT
DTSTART;TZID=Europe/London:20261115T110000
DTEND;TZID=Europe/London:20261115T120000
DTSTAMP:20260423T230803
CREATED:20240512T152303Z
LAST-MODIFIED:20240521T130028Z
UID:10004435-1794740400-1794744000@birkenhead-park.org.uk
SUMMARY:Wellbeing walk
DESCRIPTION:Three times a week\, join one our wellbeing walks run by health walk leaders. Meet just outside the Visitor Centre. All abilities welcome!
URL:https://birkenhead-park.org.uk/events/wellbeing-walk/2026-11-15/
LOCATION:Birkenhead Park Visitor Centre\, Park Drive\, Birkenhead\, CH41 4HY\, United Kingdom
CATEGORIES:Activities
ATTACH;FMTTYPE=image/jpeg:https://birkenhead-park.org.uk/wp-content/uploads/DSC_0728-Edit-e1639660087561.jpg
END:VEVENT
BEGIN:VEVENT
DTSTART;TZID=Europe/London:20261116T110000
DTEND;TZID=Europe/London:20261116T120000
DTSTAMP:20260423T230803
CREATED:20240512T152303Z
LAST-MODIFIED:20240521T130028Z
UID:10004436-1794826800-1794830400@birkenhead-park.org.uk
SUMMARY:Wellbeing walk
DESCRIPTION:Three times a week\, join one our wellbeing walks run by health walk leaders. Meet just outside the Visitor Centre. All abilities welcome!
URL:https://birkenhead-park.org.uk/events/wellbeing-walk/2026-11-16/
LOCATION:Birkenhead Park Visitor Centre\, Park Drive\, Birkenhead\, CH41 4HY\, United Kingdom
CATEGORIES:Activities
ATTACH;FMTTYPE=image/jpeg:https://birkenhead-park.org.uk/wp-content/uploads/DSC_0728-Edit-e1639660087561.jpg
END:VEVENT
BEGIN:VEVENT
DTSTART;TZID=Europe/London:20261122T110000
DTEND;TZID=Europe/London:20261122T120000
DTSTAMP:20260423T230803
CREATED:20240512T152303Z
LAST-MODIFIED:20240521T130028Z
UID:10004437-1795345200-1795348800@birkenhead-park.org.uk
SUMMARY:Wellbeing walk
DESCRIPTION:Three times a week\, join one our wellbeing walks run by health walk leaders. Meet just outside the Visitor Centre. All abilities welcome!
URL:https://birkenhead-park.org.uk/events/wellbeing-walk/2026-11-22/
LOCATION:Birkenhead Park Visitor Centre\, Park Drive\, Birkenhead\, CH41 4HY\, United Kingdom
CATEGORIES:Activities
ATTACH;FMTTYPE=image/jpeg:https://birkenhead-park.org.uk/wp-content/uploads/DSC_0728-Edit-e1639660087561.jpg
END:VEVENT
BEGIN:VEVENT
DTSTART;TZID=Europe/London:20261123T110000
DTEND;TZID=Europe/London:20261123T120000
DTSTAMP:20260423T230803
CREATED:20240512T152303Z
LAST-MODIFIED:20240521T130028Z
UID:10004438-1795431600-1795435200@birkenhead-park.org.uk
SUMMARY:Wellbeing walk
DESCRIPTION:Three times a week\, join one our wellbeing walks run by health walk leaders. Meet just outside the Visitor Centre. All abilities welcome!
URL:https://birkenhead-park.org.uk/events/wellbeing-walk/2026-11-23/
LOCATION:Birkenhead Park Visitor Centre\, Park Drive\, Birkenhead\, CH41 4HY\, United Kingdom
CATEGORIES:Activities
ATTACH;FMTTYPE=image/jpeg:https://birkenhead-park.org.uk/wp-content/uploads/DSC_0728-Edit-e1639660087561.jpg
END:VEVENT
BEGIN:VEVENT
DTSTART;TZID=Europe/London:20261129T110000
DTEND;TZID=Europe/London:20261129T120000
DTSTAMP:20260423T230803
CREATED:20240512T152303Z
LAST-MODIFIED:20240521T130028Z
UID:10004439-1795950000-1795953600@birkenhead-park.org.uk
SUMMARY:Wellbeing walk
DESCRIPTION:Three times a week\, join one our wellbeing walks run by health walk leaders. Meet just outside the Visitor Centre. All abilities welcome!
URL:https://birkenhead-park.org.uk/events/wellbeing-walk/2026-11-29/
LOCATION:Birkenhead Park Visitor Centre\, Park Drive\, Birkenhead\, CH41 4HY\, United Kingdom
CATEGORIES:Activities
ATTACH;FMTTYPE=image/jpeg:https://birkenhead-park.org.uk/wp-content/uploads/DSC_0728-Edit-e1639660087561.jpg
END:VEVENT
BEGIN:VEVENT
DTSTART;TZID=Europe/London:20261130T110000
DTEND;TZID=Europe/London:20261130T120000
DTSTAMP:20260423T230803
CREATED:20240512T152303Z
LAST-MODIFIED:20240521T130028Z
UID:10004440-1796036400-1796040000@birkenhead-park.org.uk
SUMMARY:Wellbeing walk
DESCRIPTION:Three times a week\, join one our wellbeing walks run by health walk leaders. Meet just outside the Visitor Centre. All abilities welcome!
URL:https://birkenhead-park.org.uk/events/wellbeing-walk/2026-11-30/
LOCATION:Birkenhead Park Visitor Centre\, Park Drive\, Birkenhead\, CH41 4HY\, United Kingdom
CATEGORIES:Activities
ATTACH;FMTTYPE=image/jpeg:https://birkenhead-park.org.uk/wp-content/uploads/DSC_0728-Edit-e1639660087561.jpg
END:VEVENT
BEGIN:VEVENT
DTSTART;TZID=Europe/London:20261206T110000
DTEND;TZID=Europe/London:20261206T120000
DTSTAMP:20260423T230803
CREATED:20240512T152303Z
LAST-MODIFIED:20240521T130028Z
UID:10004441-1796554800-1796558400@birkenhead-park.org.uk
SUMMARY:Wellbeing walk
DESCRIPTION:Three times a week\, join one our wellbeing walks run by health walk leaders. Meet just outside the Visitor Centre. All abilities welcome!
URL:https://birkenhead-park.org.uk/events/wellbeing-walk/2026-12-06/
LOCATION:Birkenhead Park Visitor Centre\, Park Drive\, Birkenhead\, CH41 4HY\, United Kingdom
CATEGORIES:Activities
ATTACH;FMTTYPE=image/jpeg:https://birkenhead-park.org.uk/wp-content/uploads/DSC_0728-Edit-e1639660087561.jpg
END:VEVENT
BEGIN:VEVENT
DTSTART;TZID=Europe/London:20261207T110000
DTEND;TZID=Europe/London:20261207T120000
DTSTAMP:20260423T230803
CREATED:20240512T152303Z
LAST-MODIFIED:20240521T130028Z
UID:10004442-1796641200-1796644800@birkenhead-park.org.uk
SUMMARY:Wellbeing walk
DESCRIPTION:Three times a week\, join one our wellbeing walks run by health walk leaders. Meet just outside the Visitor Centre. All abilities welcome!
URL:https://birkenhead-park.org.uk/events/wellbeing-walk/2026-12-07/
LOCATION:Birkenhead Park Visitor Centre\, Park Drive\, Birkenhead\, CH41 4HY\, United Kingdom
CATEGORIES:Activities
ATTACH;FMTTYPE=image/jpeg:https://birkenhead-park.org.uk/wp-content/uploads/DSC_0728-Edit-e1639660087561.jpg
END:VEVENT
BEGIN:VEVENT
DTSTART;TZID=Europe/London:20261213T110000
DTEND;TZID=Europe/London:20261213T120000
DTSTAMP:20260423T230803
CREATED:20240512T152303Z
LAST-MODIFIED:20240521T130028Z
UID:10004443-1797159600-1797163200@birkenhead-park.org.uk
SUMMARY:Wellbeing walk
DESCRIPTION:Three times a week\, join one our wellbeing walks run by health walk leaders. Meet just outside the Visitor Centre. All abilities welcome!
URL:https://birkenhead-park.org.uk/events/wellbeing-walk/2026-12-13/
LOCATION:Birkenhead Park Visitor Centre\, Park Drive\, Birkenhead\, CH41 4HY\, United Kingdom
CATEGORIES:Activities
ATTACH;FMTTYPE=image/jpeg:https://birkenhead-park.org.uk/wp-content/uploads/DSC_0728-Edit-e1639660087561.jpg
END:VEVENT
BEGIN:VEVENT
DTSTART;TZID=Europe/London:20261214T110000
DTEND;TZID=Europe/London:20261214T120000
DTSTAMP:20260423T230803
CREATED:20240512T152303Z
LAST-MODIFIED:20240521T130028Z
UID:10004444-1797246000-1797249600@birkenhead-park.org.uk
SUMMARY:Wellbeing walk
DESCRIPTION:Three times a week\, join one our wellbeing walks run by health walk leaders. Meet just outside the Visitor Centre. All abilities welcome!
URL:https://birkenhead-park.org.uk/events/wellbeing-walk/2026-12-14/
LOCATION:Birkenhead Park Visitor Centre\, Park Drive\, Birkenhead\, CH41 4HY\, United Kingdom
CATEGORIES:Activities
ATTACH;FMTTYPE=image/jpeg:https://birkenhead-park.org.uk/wp-content/uploads/DSC_0728-Edit-e1639660087561.jpg
END:VEVENT
BEGIN:VEVENT
DTSTART;TZID=Europe/London:20261220T110000
DTEND;TZID=Europe/London:20261220T120000
DTSTAMP:20260423T230803
CREATED:20240512T152303Z
LAST-MODIFIED:20240521T130028Z
UID:10004445-1797764400-1797768000@birkenhead-park.org.uk
SUMMARY:Wellbeing walk
DESCRIPTION:Three times a week\, join one our wellbeing walks run by health walk leaders. Meet just outside the Visitor Centre. All abilities welcome!
URL:https://birkenhead-park.org.uk/events/wellbeing-walk/2026-12-20/
LOCATION:Birkenhead Park Visitor Centre\, Park Drive\, Birkenhead\, CH41 4HY\, United Kingdom
CATEGORIES:Activities
ATTACH;FMTTYPE=image/jpeg:https://birkenhead-park.org.uk/wp-content/uploads/DSC_0728-Edit-e1639660087561.jpg
END:VEVENT
BEGIN:VEVENT
DTSTART;TZID=Europe/London:20261221T110000
DTEND;TZID=Europe/London:20261221T120000
DTSTAMP:20260423T230803
CREATED:20240512T152303Z
LAST-MODIFIED:20240521T130028Z
UID:10004446-1797850800-1797854400@birkenhead-park.org.uk
SUMMARY:Wellbeing walk
DESCRIPTION:Three times a week\, join one our wellbeing walks run by health walk leaders. Meet just outside the Visitor Centre. All abilities welcome!
URL:https://birkenhead-park.org.uk/events/wellbeing-walk/2026-12-21/
LOCATION:Birkenhead Park Visitor Centre\, Park Drive\, Birkenhead\, CH41 4HY\, United Kingdom
CATEGORIES:Activities
ATTACH;FMTTYPE=image/jpeg:https://birkenhead-park.org.uk/wp-content/uploads/DSC_0728-Edit-e1639660087561.jpg
END:VEVENT
BEGIN:VEVENT
DTSTART;TZID=Europe/London:20261227T110000
DTEND;TZID=Europe/London:20261227T120000
DTSTAMP:20260423T230803
CREATED:20240512T152303Z
LAST-MODIFIED:20240521T130028Z
UID:10004447-1798369200-1798372800@birkenhead-park.org.uk
SUMMARY:Wellbeing walk
DESCRIPTION:Three times a week\, join one our wellbeing walks run by health walk leaders. Meet just outside the Visitor Centre. All abilities welcome!
URL:https://birkenhead-park.org.uk/events/wellbeing-walk/2026-12-27/
LOCATION:Birkenhead Park Visitor Centre\, Park Drive\, Birkenhead\, CH41 4HY\, United Kingdom
CATEGORIES:Activities
ATTACH;FMTTYPE=image/jpeg:https://birkenhead-park.org.uk/wp-content/uploads/DSC_0728-Edit-e1639660087561.jpg
END:VEVENT
BEGIN:VEVENT
DTSTART;TZID=Europe/London:20261228T110000
DTEND;TZID=Europe/London:20261228T120000
DTSTAMP:20260423T230803
CREATED:20240512T152303Z
LAST-MODIFIED:20240521T130028Z
UID:10004448-1798455600-1798459200@birkenhead-park.org.uk
SUMMARY:Wellbeing walk
DESCRIPTION:Three times a week\, join one our wellbeing walks run by health walk leaders. Meet just outside the Visitor Centre. All abilities welcome!
URL:https://birkenhead-park.org.uk/events/wellbeing-walk/2026-12-28/
LOCATION:Birkenhead Park Visitor Centre\, Park Drive\, Birkenhead\, CH41 4HY\, United Kingdom
CATEGORIES:Activities
ATTACH;FMTTYPE=image/jpeg:https://birkenhead-park.org.uk/wp-content/uploads/DSC_0728-Edit-e1639660087561.jpg
END:VEVENT
BEGIN:VEVENT
DTSTART;TZID=Europe/London:20270103T110000
DTEND;TZID=Europe/London:20270103T120000
DTSTAMP:20260423T230803
CREATED:20240512T152303Z
LAST-MODIFIED:20240521T130028Z
UID:10004449-1798974000-1798977600@birkenhead-park.org.uk
SUMMARY:Wellbeing walk
DESCRIPTION:Three times a week\, join one our wellbeing walks run by health walk leaders. Meet just outside the Visitor Centre. All abilities welcome!
URL:https://birkenhead-park.org.uk/events/wellbeing-walk/2027-01-03/
LOCATION:Birkenhead Park Visitor Centre\, Park Drive\, Birkenhead\, CH41 4HY\, United Kingdom
CATEGORIES:Activities
ATTACH;FMTTYPE=image/jpeg:https://birkenhead-park.org.uk/wp-content/uploads/DSC_0728-Edit-e1639660087561.jpg
END:VEVENT
BEGIN:VEVENT
DTSTART;TZID=Europe/London:20270104T110000
DTEND;TZID=Europe/London:20270104T120000
DTSTAMP:20260423T230803
CREATED:20240512T152303Z
LAST-MODIFIED:20240521T130028Z
UID:10004450-1799060400-1799064000@birkenhead-park.org.uk
SUMMARY:Wellbeing walk
DESCRIPTION:Three times a week\, join one our wellbeing walks run by health walk leaders. Meet just outside the Visitor Centre. All abilities welcome!
URL:https://birkenhead-park.org.uk/events/wellbeing-walk/2027-01-04/
LOCATION:Birkenhead Park Visitor Centre\, Park Drive\, Birkenhead\, CH41 4HY\, United Kingdom
CATEGORIES:Activities
ATTACH;FMTTYPE=image/jpeg:https://birkenhead-park.org.uk/wp-content/uploads/DSC_0728-Edit-e1639660087561.jpg
END:VEVENT
BEGIN:VEVENT
DTSTART;TZID=Europe/London:20270110T110000
DTEND;TZID=Europe/London:20270110T120000
DTSTAMP:20260423T230803
CREATED:20240512T152303Z
LAST-MODIFIED:20240521T130028Z
UID:10004451-1799578800-1799582400@birkenhead-park.org.uk
SUMMARY:Wellbeing walk
DESCRIPTION:Three times a week\, join one our wellbeing walks run by health walk leaders. Meet just outside the Visitor Centre. All abilities welcome!
URL:https://birkenhead-park.org.uk/events/wellbeing-walk/2027-01-10/
LOCATION:Birkenhead Park Visitor Centre\, Park Drive\, Birkenhead\, CH41 4HY\, United Kingdom
CATEGORIES:Activities
ATTACH;FMTTYPE=image/jpeg:https://birkenhead-park.org.uk/wp-content/uploads/DSC_0728-Edit-e1639660087561.jpg
END:VEVENT
BEGIN:VEVENT
DTSTART;TZID=Europe/London:20270111T110000
DTEND;TZID=Europe/London:20270111T120000
DTSTAMP:20260423T230803
CREATED:20240512T152303Z
LAST-MODIFIED:20240521T130028Z
UID:10004452-1799665200-1799668800@birkenhead-park.org.uk
SUMMARY:Wellbeing walk
DESCRIPTION:Three times a week\, join one our wellbeing walks run by health walk leaders. Meet just outside the Visitor Centre. All abilities welcome!
URL:https://birkenhead-park.org.uk/events/wellbeing-walk/2027-01-11/
LOCATION:Birkenhead Park Visitor Centre\, Park Drive\, Birkenhead\, CH41 4HY\, United Kingdom
CATEGORIES:Activities
ATTACH;FMTTYPE=image/jpeg:https://birkenhead-park.org.uk/wp-content/uploads/DSC_0728-Edit-e1639660087561.jpg
END:VEVENT
BEGIN:VEVENT
DTSTART;TZID=Europe/London:20270117T110000
DTEND;TZID=Europe/London:20270117T120000
DTSTAMP:20260423T230803
CREATED:20240512T152303Z
LAST-MODIFIED:20240521T130028Z
UID:10004453-1800183600-1800187200@birkenhead-park.org.uk
SUMMARY:Wellbeing walk
DESCRIPTION:Three times a week\, join one our wellbeing walks run by health walk leaders. Meet just outside the Visitor Centre. All abilities welcome!
URL:https://birkenhead-park.org.uk/events/wellbeing-walk/2027-01-17/
LOCATION:Birkenhead Park Visitor Centre\, Park Drive\, Birkenhead\, CH41 4HY\, United Kingdom
CATEGORIES:Activities
ATTACH;FMTTYPE=image/jpeg:https://birkenhead-park.org.uk/wp-content/uploads/DSC_0728-Edit-e1639660087561.jpg
END:VEVENT
BEGIN:VEVENT
DTSTART;TZID=Europe/London:20270118T110000
DTEND;TZID=Europe/London:20270118T120000
DTSTAMP:20260423T230803
CREATED:20240512T152303Z
LAST-MODIFIED:20240521T130028Z
UID:10004454-1800270000-1800273600@birkenhead-park.org.uk
SUMMARY:Wellbeing walk
DESCRIPTION:Three times a week\, join one our wellbeing walks run by health walk leaders. Meet just outside the Visitor Centre. All abilities welcome!
URL:https://birkenhead-park.org.uk/events/wellbeing-walk/2027-01-18/
LOCATION:Birkenhead Park Visitor Centre\, Park Drive\, Birkenhead\, CH41 4HY\, United Kingdom
CATEGORIES:Activities
ATTACH;FMTTYPE=image/jpeg:https://birkenhead-park.org.uk/wp-content/uploads/DSC_0728-Edit-e1639660087561.jpg
END:VEVENT
END:VCALENDAR