BEGIN:VCALENDAR
VERSION:2.0
PRODID:-//Birkenhead Park - ECPv6.15.20//NONSGML v1.0//EN
CALSCALE:GREGORIAN
METHOD:PUBLISH
X-ORIGINAL-URL:https://birkenhead-park.org.uk
X-WR-CALDESC:Events for Birkenhead Park
REFRESH-INTERVAL;VALUE=DURATION:PT1H
X-Robots-Tag:noindex
X-PUBLISHED-TTL:PT1H
BEGIN:VTIMEZONE
TZID:Europe/London
BEGIN:DAYLIGHT
TZOFFSETFROM:+0000
TZOFFSETTO:+0100
TZNAME:BST
DTSTART:20290325T010000
END:DAYLIGHT
BEGIN:STANDARD
TZOFFSETFROM:+0100
TZOFFSETTO:+0000
TZNAME:GMT
DTSTART:20291028T010000
END:STANDARD
BEGIN:DAYLIGHT
TZOFFSETFROM:+0000
TZOFFSETTO:+0100
TZNAME:BST
DTSTART:20300331T010000
END:DAYLIGHT
BEGIN:STANDARD
TZOFFSETFROM:+0100
TZOFFSETTO:+0000
TZNAME:GMT
DTSTART:20301027T010000
END:STANDARD
BEGIN:DAYLIGHT
TZOFFSETFROM:+0000
TZOFFSETTO:+0100
TZNAME:BST
DTSTART:20310330T010000
END:DAYLIGHT
BEGIN:STANDARD
TZOFFSETFROM:+0100
TZOFFSETTO:+0000
TZNAME:GMT
DTSTART:20311026T010000
END:STANDARD
END:VTIMEZONE
BEGIN:VEVENT
DTSTART;TZID=Europe/London:20300908T110000
DTEND;TZID=Europe/London:20300908T120000
DTSTAMP:20260426T020654
CREATED:20240512T152303Z
LAST-MODIFIED:20240521T130028Z
UID:10006594-1915095600-1915099200@birkenhead-park.org.uk
SUMMARY:Wellbeing walk
DESCRIPTION:Three times a week\, join one our wellbeing walks run by health walk leaders. Meet just outside the Visitor Centre. All abilities welcome!
URL:https://birkenhead-park.org.uk/events/wellbeing-walk/2030-09-08/
LOCATION:Birkenhead Park Visitor Centre\, Park Drive\, Birkenhead\, CH41 4HY\, United Kingdom
CATEGORIES:Activities
ATTACH;FMTTYPE=image/jpeg:https://birkenhead-park.org.uk/wp-content/uploads/DSC_0728-Edit-e1639660087561.jpg
END:VEVENT
BEGIN:VEVENT
DTSTART;TZID=Europe/London:20300909T110000
DTEND;TZID=Europe/London:20300909T120000
DTSTAMP:20260426T020654
CREATED:20240512T152303Z
LAST-MODIFIED:20240521T130028Z
UID:10006598-1915182000-1915185600@birkenhead-park.org.uk
SUMMARY:Wellbeing walk
DESCRIPTION:Three times a week\, join one our wellbeing walks run by health walk leaders. Meet just outside the Visitor Centre. All abilities welcome!
URL:https://birkenhead-park.org.uk/events/wellbeing-walk/2030-09-09/
LOCATION:Birkenhead Park Visitor Centre\, Park Drive\, Birkenhead\, CH41 4HY\, United Kingdom
CATEGORIES:Activities
ATTACH;FMTTYPE=image/jpeg:https://birkenhead-park.org.uk/wp-content/uploads/DSC_0728-Edit-e1639660087561.jpg
END:VEVENT
BEGIN:VEVENT
DTSTART;TZID=Europe/London:20300915T110000
DTEND;TZID=Europe/London:20300915T120000
DTSTAMP:20260426T020654
CREATED:20240512T152303Z
LAST-MODIFIED:20240521T130028Z
UID:10006605-1915700400-1915704000@birkenhead-park.org.uk
SUMMARY:Wellbeing walk
DESCRIPTION:Three times a week\, join one our wellbeing walks run by health walk leaders. Meet just outside the Visitor Centre. All abilities welcome!
URL:https://birkenhead-park.org.uk/events/wellbeing-walk/2030-09-15/
LOCATION:Birkenhead Park Visitor Centre\, Park Drive\, Birkenhead\, CH41 4HY\, United Kingdom
CATEGORIES:Activities
ATTACH;FMTTYPE=image/jpeg:https://birkenhead-park.org.uk/wp-content/uploads/DSC_0728-Edit-e1639660087561.jpg
END:VEVENT
BEGIN:VEVENT
DTSTART;TZID=Europe/London:20300916T110000
DTEND;TZID=Europe/London:20300916T120000
DTSTAMP:20260426T020654
CREATED:20240512T152303Z
LAST-MODIFIED:20240521T130028Z
UID:10006608-1915786800-1915790400@birkenhead-park.org.uk
SUMMARY:Wellbeing walk
DESCRIPTION:Three times a week\, join one our wellbeing walks run by health walk leaders. Meet just outside the Visitor Centre. All abilities welcome!
URL:https://birkenhead-park.org.uk/events/wellbeing-walk/2030-09-16/
LOCATION:Birkenhead Park Visitor Centre\, Park Drive\, Birkenhead\, CH41 4HY\, United Kingdom
CATEGORIES:Activities
ATTACH;FMTTYPE=image/jpeg:https://birkenhead-park.org.uk/wp-content/uploads/DSC_0728-Edit-e1639660087561.jpg
END:VEVENT
BEGIN:VEVENT
DTSTART;TZID=Europe/London:20300922T110000
DTEND;TZID=Europe/London:20300922T120000
DTSTAMP:20260426T020654
CREATED:20240512T152303Z
LAST-MODIFIED:20240521T130028Z
UID:10006615-1916305200-1916308800@birkenhead-park.org.uk
SUMMARY:Wellbeing walk
DESCRIPTION:Three times a week\, join one our wellbeing walks run by health walk leaders. Meet just outside the Visitor Centre. All abilities welcome!
URL:https://birkenhead-park.org.uk/events/wellbeing-walk/2030-09-22/
LOCATION:Birkenhead Park Visitor Centre\, Park Drive\, Birkenhead\, CH41 4HY\, United Kingdom
CATEGORIES:Activities
ATTACH;FMTTYPE=image/jpeg:https://birkenhead-park.org.uk/wp-content/uploads/DSC_0728-Edit-e1639660087561.jpg
END:VEVENT
BEGIN:VEVENT
DTSTART;TZID=Europe/London:20300923T110000
DTEND;TZID=Europe/London:20300923T120000
DTSTAMP:20260426T020654
CREATED:20240512T152303Z
LAST-MODIFIED:20240521T130028Z
UID:10006618-1916391600-1916395200@birkenhead-park.org.uk
SUMMARY:Wellbeing walk
DESCRIPTION:Three times a week\, join one our wellbeing walks run by health walk leaders. Meet just outside the Visitor Centre. All abilities welcome!
URL:https://birkenhead-park.org.uk/events/wellbeing-walk/2030-09-23/
LOCATION:Birkenhead Park Visitor Centre\, Park Drive\, Birkenhead\, CH41 4HY\, United Kingdom
CATEGORIES:Activities
ATTACH;FMTTYPE=image/jpeg:https://birkenhead-park.org.uk/wp-content/uploads/DSC_0728-Edit-e1639660087561.jpg
END:VEVENT
BEGIN:VEVENT
DTSTART;TZID=Europe/London:20300929T110000
DTEND;TZID=Europe/London:20300929T120000
DTSTAMP:20260426T020654
CREATED:20240512T152303Z
LAST-MODIFIED:20240521T130028Z
UID:10006625-1916910000-1916913600@birkenhead-park.org.uk
SUMMARY:Wellbeing walk
DESCRIPTION:Three times a week\, join one our wellbeing walks run by health walk leaders. Meet just outside the Visitor Centre. All abilities welcome!
URL:https://birkenhead-park.org.uk/events/wellbeing-walk/2030-09-29/
LOCATION:Birkenhead Park Visitor Centre\, Park Drive\, Birkenhead\, CH41 4HY\, United Kingdom
CATEGORIES:Activities
ATTACH;FMTTYPE=image/jpeg:https://birkenhead-park.org.uk/wp-content/uploads/DSC_0728-Edit-e1639660087561.jpg
END:VEVENT
BEGIN:VEVENT
DTSTART;TZID=Europe/London:20300930T110000
DTEND;TZID=Europe/London:20300930T120000
DTSTAMP:20260426T020654
CREATED:20240512T152303Z
LAST-MODIFIED:20240521T130028Z
UID:10006628-1916996400-1917000000@birkenhead-park.org.uk
SUMMARY:Wellbeing walk
DESCRIPTION:Three times a week\, join one our wellbeing walks run by health walk leaders. Meet just outside the Visitor Centre. All abilities welcome!
URL:https://birkenhead-park.org.uk/events/wellbeing-walk/2030-09-30/
LOCATION:Birkenhead Park Visitor Centre\, Park Drive\, Birkenhead\, CH41 4HY\, United Kingdom
CATEGORIES:Activities
ATTACH;FMTTYPE=image/jpeg:https://birkenhead-park.org.uk/wp-content/uploads/DSC_0728-Edit-e1639660087561.jpg
END:VEVENT
BEGIN:VEVENT
DTSTART;TZID=Europe/London:20301006T110000
DTEND;TZID=Europe/London:20301006T120000
DTSTAMP:20260426T020654
CREATED:20240512T152303Z
LAST-MODIFIED:20240521T130028Z
UID:10006636-1917514800-1917518400@birkenhead-park.org.uk
SUMMARY:Wellbeing walk
DESCRIPTION:Three times a week\, join one our wellbeing walks run by health walk leaders. Meet just outside the Visitor Centre. All abilities welcome!
URL:https://birkenhead-park.org.uk/events/wellbeing-walk/2030-10-06/
LOCATION:Birkenhead Park Visitor Centre\, Park Drive\, Birkenhead\, CH41 4HY\, United Kingdom
CATEGORIES:Activities
ATTACH;FMTTYPE=image/jpeg:https://birkenhead-park.org.uk/wp-content/uploads/DSC_0728-Edit-e1639660087561.jpg
END:VEVENT
BEGIN:VEVENT
DTSTART;TZID=Europe/London:20301007T110000
DTEND;TZID=Europe/London:20301007T120000
DTSTAMP:20260426T020654
CREATED:20240512T152303Z
LAST-MODIFIED:20240521T130028Z
UID:10006639-1917601200-1917604800@birkenhead-park.org.uk
SUMMARY:Wellbeing walk
DESCRIPTION:Three times a week\, join one our wellbeing walks run by health walk leaders. Meet just outside the Visitor Centre. All abilities welcome!
URL:https://birkenhead-park.org.uk/events/wellbeing-walk/2030-10-07/
LOCATION:Birkenhead Park Visitor Centre\, Park Drive\, Birkenhead\, CH41 4HY\, United Kingdom
CATEGORIES:Activities
ATTACH;FMTTYPE=image/jpeg:https://birkenhead-park.org.uk/wp-content/uploads/DSC_0728-Edit-e1639660087561.jpg
END:VEVENT
BEGIN:VEVENT
DTSTART;TZID=Europe/London:20301013T110000
DTEND;TZID=Europe/London:20301013T120000
DTSTAMP:20260426T020654
CREATED:20240512T152303Z
LAST-MODIFIED:20240521T130028Z
UID:10006646-1918119600-1918123200@birkenhead-park.org.uk
SUMMARY:Wellbeing walk
DESCRIPTION:Three times a week\, join one our wellbeing walks run by health walk leaders. Meet just outside the Visitor Centre. All abilities welcome!
URL:https://birkenhead-park.org.uk/events/wellbeing-walk/2030-10-13/
LOCATION:Birkenhead Park Visitor Centre\, Park Drive\, Birkenhead\, CH41 4HY\, United Kingdom
CATEGORIES:Activities
ATTACH;FMTTYPE=image/jpeg:https://birkenhead-park.org.uk/wp-content/uploads/DSC_0728-Edit-e1639660087561.jpg
END:VEVENT
BEGIN:VEVENT
DTSTART;TZID=Europe/London:20301014T110000
DTEND;TZID=Europe/London:20301014T120000
DTSTAMP:20260426T020654
CREATED:20240512T152303Z
LAST-MODIFIED:20240521T130028Z
UID:10006649-1918206000-1918209600@birkenhead-park.org.uk
SUMMARY:Wellbeing walk
DESCRIPTION:Three times a week\, join one our wellbeing walks run by health walk leaders. Meet just outside the Visitor Centre. All abilities welcome!
URL:https://birkenhead-park.org.uk/events/wellbeing-walk/2030-10-14/
LOCATION:Birkenhead Park Visitor Centre\, Park Drive\, Birkenhead\, CH41 4HY\, United Kingdom
CATEGORIES:Activities
ATTACH;FMTTYPE=image/jpeg:https://birkenhead-park.org.uk/wp-content/uploads/DSC_0728-Edit-e1639660087561.jpg
END:VEVENT
BEGIN:VEVENT
DTSTART;TZID=Europe/London:20301020T110000
DTEND;TZID=Europe/London:20301020T120000
DTSTAMP:20260426T020654
CREATED:20240512T152303Z
LAST-MODIFIED:20240521T130028Z
UID:10006656-1918724400-1918728000@birkenhead-park.org.uk
SUMMARY:Wellbeing walk
DESCRIPTION:Three times a week\, join one our wellbeing walks run by health walk leaders. Meet just outside the Visitor Centre. All abilities welcome!
URL:https://birkenhead-park.org.uk/events/wellbeing-walk/2030-10-20/
LOCATION:Birkenhead Park Visitor Centre\, Park Drive\, Birkenhead\, CH41 4HY\, United Kingdom
CATEGORIES:Activities
ATTACH;FMTTYPE=image/jpeg:https://birkenhead-park.org.uk/wp-content/uploads/DSC_0728-Edit-e1639660087561.jpg
END:VEVENT
BEGIN:VEVENT
DTSTART;TZID=Europe/London:20301021T110000
DTEND;TZID=Europe/London:20301021T120000
DTSTAMP:20260426T020654
CREATED:20240512T152303Z
LAST-MODIFIED:20240521T130028Z
UID:10006659-1918810800-1918814400@birkenhead-park.org.uk
SUMMARY:Wellbeing walk
DESCRIPTION:Three times a week\, join one our wellbeing walks run by health walk leaders. Meet just outside the Visitor Centre. All abilities welcome!
URL:https://birkenhead-park.org.uk/events/wellbeing-walk/2030-10-21/
LOCATION:Birkenhead Park Visitor Centre\, Park Drive\, Birkenhead\, CH41 4HY\, United Kingdom
CATEGORIES:Activities
ATTACH;FMTTYPE=image/jpeg:https://birkenhead-park.org.uk/wp-content/uploads/DSC_0728-Edit-e1639660087561.jpg
END:VEVENT
BEGIN:VEVENT
DTSTART;TZID=Europe/London:20301027T110000
DTEND;TZID=Europe/London:20301027T120000
DTSTAMP:20260426T020654
CREATED:20240512T152303Z
LAST-MODIFIED:20240521T130028Z
UID:10006665-1919329200-1919332800@birkenhead-park.org.uk
SUMMARY:Wellbeing walk
DESCRIPTION:Three times a week\, join one our wellbeing walks run by health walk leaders. Meet just outside the Visitor Centre. All abilities welcome!
URL:https://birkenhead-park.org.uk/events/wellbeing-walk/2030-10-27/
LOCATION:Birkenhead Park Visitor Centre\, Park Drive\, Birkenhead\, CH41 4HY\, United Kingdom
CATEGORIES:Activities
ATTACH;FMTTYPE=image/jpeg:https://birkenhead-park.org.uk/wp-content/uploads/DSC_0728-Edit-e1639660087561.jpg
END:VEVENT
BEGIN:VEVENT
DTSTART;TZID=Europe/London:20301028T110000
DTEND;TZID=Europe/London:20301028T120000
DTSTAMP:20260426T020654
CREATED:20240512T152303Z
LAST-MODIFIED:20240521T130028Z
UID:10006669-1919415600-1919419200@birkenhead-park.org.uk
SUMMARY:Wellbeing walk
DESCRIPTION:Three times a week\, join one our wellbeing walks run by health walk leaders. Meet just outside the Visitor Centre. All abilities welcome!
URL:https://birkenhead-park.org.uk/events/wellbeing-walk/2030-10-28/
LOCATION:Birkenhead Park Visitor Centre\, Park Drive\, Birkenhead\, CH41 4HY\, United Kingdom
CATEGORIES:Activities
ATTACH;FMTTYPE=image/jpeg:https://birkenhead-park.org.uk/wp-content/uploads/DSC_0728-Edit-e1639660087561.jpg
END:VEVENT
BEGIN:VEVENT
DTSTART;TZID=Europe/London:20301103T110000
DTEND;TZID=Europe/London:20301103T120000
DTSTAMP:20260426T020654
CREATED:20240512T152303Z
LAST-MODIFIED:20240521T130028Z
UID:10006676-1919934000-1919937600@birkenhead-park.org.uk
SUMMARY:Wellbeing walk
DESCRIPTION:Three times a week\, join one our wellbeing walks run by health walk leaders. Meet just outside the Visitor Centre. All abilities welcome!
URL:https://birkenhead-park.org.uk/events/wellbeing-walk/2030-11-03/
LOCATION:Birkenhead Park Visitor Centre\, Park Drive\, Birkenhead\, CH41 4HY\, United Kingdom
CATEGORIES:Activities
ATTACH;FMTTYPE=image/jpeg:https://birkenhead-park.org.uk/wp-content/uploads/DSC_0728-Edit-e1639660087561.jpg
END:VEVENT
BEGIN:VEVENT
DTSTART;TZID=Europe/London:20301104T110000
DTEND;TZID=Europe/London:20301104T120000
DTSTAMP:20260426T020654
CREATED:20240512T152303Z
LAST-MODIFIED:20240521T130028Z
UID:10006679-1920020400-1920024000@birkenhead-park.org.uk
SUMMARY:Wellbeing walk
DESCRIPTION:Three times a week\, join one our wellbeing walks run by health walk leaders. Meet just outside the Visitor Centre. All abilities welcome!
URL:https://birkenhead-park.org.uk/events/wellbeing-walk/2030-11-04/
LOCATION:Birkenhead Park Visitor Centre\, Park Drive\, Birkenhead\, CH41 4HY\, United Kingdom
CATEGORIES:Activities
ATTACH;FMTTYPE=image/jpeg:https://birkenhead-park.org.uk/wp-content/uploads/DSC_0728-Edit-e1639660087561.jpg
END:VEVENT
BEGIN:VEVENT
DTSTART;TZID=Europe/London:20301110T110000
DTEND;TZID=Europe/London:20301110T120000
DTSTAMP:20260426T020654
CREATED:20240512T152303Z
LAST-MODIFIED:20240521T130028Z
UID:10006686-1920538800-1920542400@birkenhead-park.org.uk
SUMMARY:Wellbeing walk
DESCRIPTION:Three times a week\, join one our wellbeing walks run by health walk leaders. Meet just outside the Visitor Centre. All abilities welcome!
URL:https://birkenhead-park.org.uk/events/wellbeing-walk/2030-11-10/
LOCATION:Birkenhead Park Visitor Centre\, Park Drive\, Birkenhead\, CH41 4HY\, United Kingdom
CATEGORIES:Activities
ATTACH;FMTTYPE=image/jpeg:https://birkenhead-park.org.uk/wp-content/uploads/DSC_0728-Edit-e1639660087561.jpg
END:VEVENT
BEGIN:VEVENT
DTSTART;TZID=Europe/London:20301111T110000
DTEND;TZID=Europe/London:20301111T120000
DTSTAMP:20260426T020654
CREATED:20240512T152303Z
LAST-MODIFIED:20240521T130028Z
UID:10006690-1920625200-1920628800@birkenhead-park.org.uk
SUMMARY:Wellbeing walk
DESCRIPTION:Three times a week\, join one our wellbeing walks run by health walk leaders. Meet just outside the Visitor Centre. All abilities welcome!
URL:https://birkenhead-park.org.uk/events/wellbeing-walk/2030-11-11/
LOCATION:Birkenhead Park Visitor Centre\, Park Drive\, Birkenhead\, CH41 4HY\, United Kingdom
CATEGORIES:Activities
ATTACH;FMTTYPE=image/jpeg:https://birkenhead-park.org.uk/wp-content/uploads/DSC_0728-Edit-e1639660087561.jpg
END:VEVENT
BEGIN:VEVENT
DTSTART;TZID=Europe/London:20301117T110000
DTEND;TZID=Europe/London:20301117T120000
DTSTAMP:20260426T020654
CREATED:20240512T152303Z
LAST-MODIFIED:20240521T130028Z
UID:10006697-1921143600-1921147200@birkenhead-park.org.uk
SUMMARY:Wellbeing walk
DESCRIPTION:Three times a week\, join one our wellbeing walks run by health walk leaders. Meet just outside the Visitor Centre. All abilities welcome!
URL:https://birkenhead-park.org.uk/events/wellbeing-walk/2030-11-17/
LOCATION:Birkenhead Park Visitor Centre\, Park Drive\, Birkenhead\, CH41 4HY\, United Kingdom
CATEGORIES:Activities
ATTACH;FMTTYPE=image/jpeg:https://birkenhead-park.org.uk/wp-content/uploads/DSC_0728-Edit-e1639660087561.jpg
END:VEVENT
BEGIN:VEVENT
DTSTART;TZID=Europe/London:20301118T110000
DTEND;TZID=Europe/London:20301118T120000
DTSTAMP:20260426T020654
CREATED:20240512T152303Z
LAST-MODIFIED:20240521T130028Z
UID:10006700-1921230000-1921233600@birkenhead-park.org.uk
SUMMARY:Wellbeing walk
DESCRIPTION:Three times a week\, join one our wellbeing walks run by health walk leaders. Meet just outside the Visitor Centre. All abilities welcome!
URL:https://birkenhead-park.org.uk/events/wellbeing-walk/2030-11-18/
LOCATION:Birkenhead Park Visitor Centre\, Park Drive\, Birkenhead\, CH41 4HY\, United Kingdom
CATEGORIES:Activities
ATTACH;FMTTYPE=image/jpeg:https://birkenhead-park.org.uk/wp-content/uploads/DSC_0728-Edit-e1639660087561.jpg
END:VEVENT
BEGIN:VEVENT
DTSTART;TZID=Europe/London:20301124T110000
DTEND;TZID=Europe/London:20301124T120000
DTSTAMP:20260426T020654
CREATED:20240512T152303Z
LAST-MODIFIED:20240521T130028Z
UID:10006707-1921748400-1921752000@birkenhead-park.org.uk
SUMMARY:Wellbeing walk
DESCRIPTION:Three times a week\, join one our wellbeing walks run by health walk leaders. Meet just outside the Visitor Centre. All abilities welcome!
URL:https://birkenhead-park.org.uk/events/wellbeing-walk/2030-11-24/
LOCATION:Birkenhead Park Visitor Centre\, Park Drive\, Birkenhead\, CH41 4HY\, United Kingdom
CATEGORIES:Activities
ATTACH;FMTTYPE=image/jpeg:https://birkenhead-park.org.uk/wp-content/uploads/DSC_0728-Edit-e1639660087561.jpg
END:VEVENT
BEGIN:VEVENT
DTSTART;TZID=Europe/London:20301125T110000
DTEND;TZID=Europe/London:20301125T120000
DTSTAMP:20260426T020654
CREATED:20240512T152303Z
LAST-MODIFIED:20240521T130028Z
UID:10006710-1921834800-1921838400@birkenhead-park.org.uk
SUMMARY:Wellbeing walk
DESCRIPTION:Three times a week\, join one our wellbeing walks run by health walk leaders. Meet just outside the Visitor Centre. All abilities welcome!
URL:https://birkenhead-park.org.uk/events/wellbeing-walk/2030-11-25/
LOCATION:Birkenhead Park Visitor Centre\, Park Drive\, Birkenhead\, CH41 4HY\, United Kingdom
CATEGORIES:Activities
ATTACH;FMTTYPE=image/jpeg:https://birkenhead-park.org.uk/wp-content/uploads/DSC_0728-Edit-e1639660087561.jpg
END:VEVENT
BEGIN:VEVENT
DTSTART;TZID=Europe/London:20301201T110000
DTEND;TZID=Europe/London:20301201T120000
DTSTAMP:20260426T020654
CREATED:20240512T152303Z
LAST-MODIFIED:20240521T130028Z
UID:10006717-1922353200-1922356800@birkenhead-park.org.uk
SUMMARY:Wellbeing walk
DESCRIPTION:Three times a week\, join one our wellbeing walks run by health walk leaders. Meet just outside the Visitor Centre. All abilities welcome!
URL:https://birkenhead-park.org.uk/events/wellbeing-walk/2030-12-01/
LOCATION:Birkenhead Park Visitor Centre\, Park Drive\, Birkenhead\, CH41 4HY\, United Kingdom
CATEGORIES:Activities
ATTACH;FMTTYPE=image/jpeg:https://birkenhead-park.org.uk/wp-content/uploads/DSC_0728-Edit-e1639660087561.jpg
END:VEVENT
BEGIN:VEVENT
DTSTART;TZID=Europe/London:20301202T110000
DTEND;TZID=Europe/London:20301202T120000
DTSTAMP:20260426T020654
CREATED:20240512T152303Z
LAST-MODIFIED:20240521T130028Z
UID:10006718-1922439600-1922443200@birkenhead-park.org.uk
SUMMARY:Wellbeing walk
DESCRIPTION:Three times a week\, join one our wellbeing walks run by health walk leaders. Meet just outside the Visitor Centre. All abilities welcome!
URL:https://birkenhead-park.org.uk/events/wellbeing-walk/2030-12-02/
LOCATION:Birkenhead Park Visitor Centre\, Park Drive\, Birkenhead\, CH41 4HY\, United Kingdom
CATEGORIES:Activities
ATTACH;FMTTYPE=image/jpeg:https://birkenhead-park.org.uk/wp-content/uploads/DSC_0728-Edit-e1639660087561.jpg
END:VEVENT
BEGIN:VEVENT
DTSTART;TZID=Europe/London:20301208T110000
DTEND;TZID=Europe/London:20301208T120000
DTSTAMP:20260426T020654
CREATED:20240512T152303Z
LAST-MODIFIED:20240521T130028Z
UID:10006722-1922958000-1922961600@birkenhead-park.org.uk
SUMMARY:Wellbeing walk
DESCRIPTION:Three times a week\, join one our wellbeing walks run by health walk leaders. Meet just outside the Visitor Centre. All abilities welcome!
URL:https://birkenhead-park.org.uk/events/wellbeing-walk/2030-12-08/
LOCATION:Birkenhead Park Visitor Centre\, Park Drive\, Birkenhead\, CH41 4HY\, United Kingdom
CATEGORIES:Activities
ATTACH;FMTTYPE=image/jpeg:https://birkenhead-park.org.uk/wp-content/uploads/DSC_0728-Edit-e1639660087561.jpg
END:VEVENT
BEGIN:VEVENT
DTSTART;TZID=Europe/London:20301209T110000
DTEND;TZID=Europe/London:20301209T120000
DTSTAMP:20260426T020654
CREATED:20240512T152303Z
LAST-MODIFIED:20240521T130028Z
UID:10006729-1923044400-1923048000@birkenhead-park.org.uk
SUMMARY:Wellbeing walk
DESCRIPTION:Three times a week\, join one our wellbeing walks run by health walk leaders. Meet just outside the Visitor Centre. All abilities welcome!
URL:https://birkenhead-park.org.uk/events/wellbeing-walk/2030-12-09/
LOCATION:Birkenhead Park Visitor Centre\, Park Drive\, Birkenhead\, CH41 4HY\, United Kingdom
CATEGORIES:Activities
ATTACH;FMTTYPE=image/jpeg:https://birkenhead-park.org.uk/wp-content/uploads/DSC_0728-Edit-e1639660087561.jpg
END:VEVENT
BEGIN:VEVENT
DTSTART;TZID=Europe/London:20301215T110000
DTEND;TZID=Europe/London:20301215T120000
DTSTAMP:20260426T020654
CREATED:20240512T152303Z
LAST-MODIFIED:20240521T130028Z
UID:10006732-1923562800-1923566400@birkenhead-park.org.uk
SUMMARY:Wellbeing walk
DESCRIPTION:Three times a week\, join one our wellbeing walks run by health walk leaders. Meet just outside the Visitor Centre. All abilities welcome!
URL:https://birkenhead-park.org.uk/events/wellbeing-walk/2030-12-15/
LOCATION:Birkenhead Park Visitor Centre\, Park Drive\, Birkenhead\, CH41 4HY\, United Kingdom
CATEGORIES:Activities
ATTACH;FMTTYPE=image/jpeg:https://birkenhead-park.org.uk/wp-content/uploads/DSC_0728-Edit-e1639660087561.jpg
END:VEVENT
BEGIN:VEVENT
DTSTART;TZID=Europe/London:20301216T110000
DTEND;TZID=Europe/London:20301216T120000
DTSTAMP:20260426T020654
CREATED:20240512T152303Z
LAST-MODIFIED:20240521T130028Z
UID:10006739-1923649200-1923652800@birkenhead-park.org.uk
SUMMARY:Wellbeing walk
DESCRIPTION:Three times a week\, join one our wellbeing walks run by health walk leaders. Meet just outside the Visitor Centre. All abilities welcome!
URL:https://birkenhead-park.org.uk/events/wellbeing-walk/2030-12-16/
LOCATION:Birkenhead Park Visitor Centre\, Park Drive\, Birkenhead\, CH41 4HY\, United Kingdom
CATEGORIES:Activities
ATTACH;FMTTYPE=image/jpeg:https://birkenhead-park.org.uk/wp-content/uploads/DSC_0728-Edit-e1639660087561.jpg
END:VEVENT
END:VCALENDAR