BEGIN:VCALENDAR
VERSION:2.0
PRODID:-//Birkenhead Park - ECPv6.15.20//NONSGML v1.0//EN
CALSCALE:GREGORIAN
METHOD:PUBLISH
X-ORIGINAL-URL:https://birkenhead-park.org.uk
X-WR-CALDESC:Events for Birkenhead Park
REFRESH-INTERVAL;VALUE=DURATION:PT1H
X-Robots-Tag:noindex
X-PUBLISHED-TTL:PT1H
BEGIN:VTIMEZONE
TZID:Europe/London
BEGIN:DAYLIGHT
TZOFFSETFROM:+0000
TZOFFSETTO:+0100
TZNAME:BST
DTSTART:20260329T010000
END:DAYLIGHT
BEGIN:STANDARD
TZOFFSETFROM:+0100
TZOFFSETTO:+0000
TZNAME:GMT
DTSTART:20261025T010000
END:STANDARD
BEGIN:DAYLIGHT
TZOFFSETFROM:+0000
TZOFFSETTO:+0100
TZNAME:BST
DTSTART:20270328T010000
END:DAYLIGHT
BEGIN:STANDARD
TZOFFSETFROM:+0100
TZOFFSETTO:+0000
TZNAME:GMT
DTSTART:20271031T010000
END:STANDARD
BEGIN:DAYLIGHT
TZOFFSETFROM:+0000
TZOFFSETTO:+0100
TZNAME:BST
DTSTART:20280326T010000
END:DAYLIGHT
BEGIN:STANDARD
TZOFFSETFROM:+0100
TZOFFSETTO:+0000
TZNAME:GMT
DTSTART:20281029T010000
END:STANDARD
BEGIN:DAYLIGHT
TZOFFSETFROM:+0000
TZOFFSETTO:+0100
TZNAME:BST
DTSTART:20290325T010000
END:DAYLIGHT
BEGIN:STANDARD
TZOFFSETFROM:+0100
TZOFFSETTO:+0000
TZNAME:GMT
DTSTART:20291028T010000
END:STANDARD
END:VTIMEZONE
BEGIN:VEVENT
DTSTART;TZID=Europe/London:20271024T110000
DTEND;TZID=Europe/London:20271024T120000
DTSTAMP:20260424T142947
CREATED:20240512T152303Z
LAST-MODIFIED:20240521T130028Z
UID:10004533-1824375600-1824379200@birkenhead-park.org.uk
SUMMARY:Wellbeing walk
DESCRIPTION:Three times a week\, join one our wellbeing walks run by health walk leaders. Meet just outside the Visitor Centre. All abilities welcome!
URL:https://birkenhead-park.org.uk/events/wellbeing-walk/2027-10-24/
LOCATION:Birkenhead Park Visitor Centre\, Park Drive\, Birkenhead\, CH41 4HY\, United Kingdom
CATEGORIES:Activities
ATTACH;FMTTYPE=image/jpeg:https://birkenhead-park.org.uk/wp-content/uploads/DSC_0728-Edit-e1639660087561.jpg
END:VEVENT
BEGIN:VEVENT
DTSTART;TZID=Europe/London:20271025T110000
DTEND;TZID=Europe/London:20271025T120000
DTSTAMP:20260424T142947
CREATED:20240512T152303Z
LAST-MODIFIED:20240521T130028Z
UID:10004534-1824462000-1824465600@birkenhead-park.org.uk
SUMMARY:Wellbeing walk
DESCRIPTION:Three times a week\, join one our wellbeing walks run by health walk leaders. Meet just outside the Visitor Centre. All abilities welcome!
URL:https://birkenhead-park.org.uk/events/wellbeing-walk/2027-10-25/
LOCATION:Birkenhead Park Visitor Centre\, Park Drive\, Birkenhead\, CH41 4HY\, United Kingdom
CATEGORIES:Activities
ATTACH;FMTTYPE=image/jpeg:https://birkenhead-park.org.uk/wp-content/uploads/DSC_0728-Edit-e1639660087561.jpg
END:VEVENT
BEGIN:VEVENT
DTSTART;TZID=Europe/London:20271031T110000
DTEND;TZID=Europe/London:20271031T120000
DTSTAMP:20260424T142947
CREATED:20240512T152303Z
LAST-MODIFIED:20240521T130028Z
UID:10004535-1824980400-1824984000@birkenhead-park.org.uk
SUMMARY:Wellbeing walk
DESCRIPTION:Three times a week\, join one our wellbeing walks run by health walk leaders. Meet just outside the Visitor Centre. All abilities welcome!
URL:https://birkenhead-park.org.uk/events/wellbeing-walk/2027-10-31/
LOCATION:Birkenhead Park Visitor Centre\, Park Drive\, Birkenhead\, CH41 4HY\, United Kingdom
CATEGORIES:Activities
ATTACH;FMTTYPE=image/jpeg:https://birkenhead-park.org.uk/wp-content/uploads/DSC_0728-Edit-e1639660087561.jpg
END:VEVENT
BEGIN:VEVENT
DTSTART;TZID=Europe/London:20271101T110000
DTEND;TZID=Europe/London:20271101T120000
DTSTAMP:20260424T142947
CREATED:20240512T152303Z
LAST-MODIFIED:20240521T130028Z
UID:10004536-1825066800-1825070400@birkenhead-park.org.uk
SUMMARY:Wellbeing walk
DESCRIPTION:Three times a week\, join one our wellbeing walks run by health walk leaders. Meet just outside the Visitor Centre. All abilities welcome!
URL:https://birkenhead-park.org.uk/events/wellbeing-walk/2027-11-01/
LOCATION:Birkenhead Park Visitor Centre\, Park Drive\, Birkenhead\, CH41 4HY\, United Kingdom
CATEGORIES:Activities
ATTACH;FMTTYPE=image/jpeg:https://birkenhead-park.org.uk/wp-content/uploads/DSC_0728-Edit-e1639660087561.jpg
END:VEVENT
BEGIN:VEVENT
DTSTART;TZID=Europe/London:20271107T110000
DTEND;TZID=Europe/London:20271107T120000
DTSTAMP:20260424T142947
CREATED:20240512T152303Z
LAST-MODIFIED:20240521T130028Z
UID:10004537-1825585200-1825588800@birkenhead-park.org.uk
SUMMARY:Wellbeing walk
DESCRIPTION:Three times a week\, join one our wellbeing walks run by health walk leaders. Meet just outside the Visitor Centre. All abilities welcome!
URL:https://birkenhead-park.org.uk/events/wellbeing-walk/2027-11-07/
LOCATION:Birkenhead Park Visitor Centre\, Park Drive\, Birkenhead\, CH41 4HY\, United Kingdom
CATEGORIES:Activities
ATTACH;FMTTYPE=image/jpeg:https://birkenhead-park.org.uk/wp-content/uploads/DSC_0728-Edit-e1639660087561.jpg
END:VEVENT
BEGIN:VEVENT
DTSTART;TZID=Europe/London:20271108T110000
DTEND;TZID=Europe/London:20271108T120000
DTSTAMP:20260424T142947
CREATED:20240512T152303Z
LAST-MODIFIED:20240521T130028Z
UID:10004538-1825671600-1825675200@birkenhead-park.org.uk
SUMMARY:Wellbeing walk
DESCRIPTION:Three times a week\, join one our wellbeing walks run by health walk leaders. Meet just outside the Visitor Centre. All abilities welcome!
URL:https://birkenhead-park.org.uk/events/wellbeing-walk/2027-11-08/
LOCATION:Birkenhead Park Visitor Centre\, Park Drive\, Birkenhead\, CH41 4HY\, United Kingdom
CATEGORIES:Activities
ATTACH;FMTTYPE=image/jpeg:https://birkenhead-park.org.uk/wp-content/uploads/DSC_0728-Edit-e1639660087561.jpg
END:VEVENT
BEGIN:VEVENT
DTSTART;TZID=Europe/London:20271114T110000
DTEND;TZID=Europe/London:20271114T120000
DTSTAMP:20260424T142947
CREATED:20240512T152303Z
LAST-MODIFIED:20240521T130028Z
UID:10004539-1826190000-1826193600@birkenhead-park.org.uk
SUMMARY:Wellbeing walk
DESCRIPTION:Three times a week\, join one our wellbeing walks run by health walk leaders. Meet just outside the Visitor Centre. All abilities welcome!
URL:https://birkenhead-park.org.uk/events/wellbeing-walk/2027-11-14/
LOCATION:Birkenhead Park Visitor Centre\, Park Drive\, Birkenhead\, CH41 4HY\, United Kingdom
CATEGORIES:Activities
ATTACH;FMTTYPE=image/jpeg:https://birkenhead-park.org.uk/wp-content/uploads/DSC_0728-Edit-e1639660087561.jpg
END:VEVENT
BEGIN:VEVENT
DTSTART;TZID=Europe/London:20271115T110000
DTEND;TZID=Europe/London:20271115T120000
DTSTAMP:20260424T142947
CREATED:20240512T152303Z
LAST-MODIFIED:20240521T130028Z
UID:10004540-1826276400-1826280000@birkenhead-park.org.uk
SUMMARY:Wellbeing walk
DESCRIPTION:Three times a week\, join one our wellbeing walks run by health walk leaders. Meet just outside the Visitor Centre. All abilities welcome!
URL:https://birkenhead-park.org.uk/events/wellbeing-walk/2027-11-15/
LOCATION:Birkenhead Park Visitor Centre\, Park Drive\, Birkenhead\, CH41 4HY\, United Kingdom
CATEGORIES:Activities
ATTACH;FMTTYPE=image/jpeg:https://birkenhead-park.org.uk/wp-content/uploads/DSC_0728-Edit-e1639660087561.jpg
END:VEVENT
BEGIN:VEVENT
DTSTART;TZID=Europe/London:20271121T110000
DTEND;TZID=Europe/London:20271121T120000
DTSTAMP:20260424T142947
CREATED:20240512T152303Z
LAST-MODIFIED:20240521T130028Z
UID:10004541-1826794800-1826798400@birkenhead-park.org.uk
SUMMARY:Wellbeing walk
DESCRIPTION:Three times a week\, join one our wellbeing walks run by health walk leaders. Meet just outside the Visitor Centre. All abilities welcome!
URL:https://birkenhead-park.org.uk/events/wellbeing-walk/2027-11-21/
LOCATION:Birkenhead Park Visitor Centre\, Park Drive\, Birkenhead\, CH41 4HY\, United Kingdom
CATEGORIES:Activities
ATTACH;FMTTYPE=image/jpeg:https://birkenhead-park.org.uk/wp-content/uploads/DSC_0728-Edit-e1639660087561.jpg
END:VEVENT
BEGIN:VEVENT
DTSTART;TZID=Europe/London:20271122T110000
DTEND;TZID=Europe/London:20271122T120000
DTSTAMP:20260424T142947
CREATED:20240512T152303Z
LAST-MODIFIED:20240521T130028Z
UID:10004542-1826881200-1826884800@birkenhead-park.org.uk
SUMMARY:Wellbeing walk
DESCRIPTION:Three times a week\, join one our wellbeing walks run by health walk leaders. Meet just outside the Visitor Centre. All abilities welcome!
URL:https://birkenhead-park.org.uk/events/wellbeing-walk/2027-11-22/
LOCATION:Birkenhead Park Visitor Centre\, Park Drive\, Birkenhead\, CH41 4HY\, United Kingdom
CATEGORIES:Activities
ATTACH;FMTTYPE=image/jpeg:https://birkenhead-park.org.uk/wp-content/uploads/DSC_0728-Edit-e1639660087561.jpg
END:VEVENT
BEGIN:VEVENT
DTSTART;TZID=Europe/London:20271128T110000
DTEND;TZID=Europe/London:20271128T120000
DTSTAMP:20260424T142947
CREATED:20240512T152303Z
LAST-MODIFIED:20240521T130028Z
UID:10004543-1827399600-1827403200@birkenhead-park.org.uk
SUMMARY:Wellbeing walk
DESCRIPTION:Three times a week\, join one our wellbeing walks run by health walk leaders. Meet just outside the Visitor Centre. All abilities welcome!
URL:https://birkenhead-park.org.uk/events/wellbeing-walk/2027-11-28/
LOCATION:Birkenhead Park Visitor Centre\, Park Drive\, Birkenhead\, CH41 4HY\, United Kingdom
CATEGORIES:Activities
ATTACH;FMTTYPE=image/jpeg:https://birkenhead-park.org.uk/wp-content/uploads/DSC_0728-Edit-e1639660087561.jpg
END:VEVENT
BEGIN:VEVENT
DTSTART;TZID=Europe/London:20271129T110000
DTEND;TZID=Europe/London:20271129T120000
DTSTAMP:20260424T142947
CREATED:20240512T152303Z
LAST-MODIFIED:20240521T130028Z
UID:10004544-1827486000-1827489600@birkenhead-park.org.uk
SUMMARY:Wellbeing walk
DESCRIPTION:Three times a week\, join one our wellbeing walks run by health walk leaders. Meet just outside the Visitor Centre. All abilities welcome!
URL:https://birkenhead-park.org.uk/events/wellbeing-walk/2027-11-29/
LOCATION:Birkenhead Park Visitor Centre\, Park Drive\, Birkenhead\, CH41 4HY\, United Kingdom
CATEGORIES:Activities
ATTACH;FMTTYPE=image/jpeg:https://birkenhead-park.org.uk/wp-content/uploads/DSC_0728-Edit-e1639660087561.jpg
END:VEVENT
BEGIN:VEVENT
DTSTART;TZID=Europe/London:20271205T110000
DTEND;TZID=Europe/London:20271205T120000
DTSTAMP:20260424T142947
CREATED:20240512T152303Z
LAST-MODIFIED:20240521T130028Z
UID:10004545-1828004400-1828008000@birkenhead-park.org.uk
SUMMARY:Wellbeing walk
DESCRIPTION:Three times a week\, join one our wellbeing walks run by health walk leaders. Meet just outside the Visitor Centre. All abilities welcome!
URL:https://birkenhead-park.org.uk/events/wellbeing-walk/2027-12-05/
LOCATION:Birkenhead Park Visitor Centre\, Park Drive\, Birkenhead\, CH41 4HY\, United Kingdom
CATEGORIES:Activities
ATTACH;FMTTYPE=image/jpeg:https://birkenhead-park.org.uk/wp-content/uploads/DSC_0728-Edit-e1639660087561.jpg
END:VEVENT
BEGIN:VEVENT
DTSTART;TZID=Europe/London:20271206T110000
DTEND;TZID=Europe/London:20271206T120000
DTSTAMP:20260424T142947
CREATED:20240512T152303Z
LAST-MODIFIED:20240521T130028Z
UID:10004546-1828090800-1828094400@birkenhead-park.org.uk
SUMMARY:Wellbeing walk
DESCRIPTION:Three times a week\, join one our wellbeing walks run by health walk leaders. Meet just outside the Visitor Centre. All abilities welcome!
URL:https://birkenhead-park.org.uk/events/wellbeing-walk/2027-12-06/
LOCATION:Birkenhead Park Visitor Centre\, Park Drive\, Birkenhead\, CH41 4HY\, United Kingdom
CATEGORIES:Activities
ATTACH;FMTTYPE=image/jpeg:https://birkenhead-park.org.uk/wp-content/uploads/DSC_0728-Edit-e1639660087561.jpg
END:VEVENT
BEGIN:VEVENT
DTSTART;TZID=Europe/London:20271212T110000
DTEND;TZID=Europe/London:20271212T120000
DTSTAMP:20260424T142947
CREATED:20240512T152303Z
LAST-MODIFIED:20240521T130028Z
UID:10004547-1828609200-1828612800@birkenhead-park.org.uk
SUMMARY:Wellbeing walk
DESCRIPTION:Three times a week\, join one our wellbeing walks run by health walk leaders. Meet just outside the Visitor Centre. All abilities welcome!
URL:https://birkenhead-park.org.uk/events/wellbeing-walk/2027-12-12/
LOCATION:Birkenhead Park Visitor Centre\, Park Drive\, Birkenhead\, CH41 4HY\, United Kingdom
CATEGORIES:Activities
ATTACH;FMTTYPE=image/jpeg:https://birkenhead-park.org.uk/wp-content/uploads/DSC_0728-Edit-e1639660087561.jpg
END:VEVENT
BEGIN:VEVENT
DTSTART;TZID=Europe/London:20271213T110000
DTEND;TZID=Europe/London:20271213T120000
DTSTAMP:20260424T142947
CREATED:20240512T152303Z
LAST-MODIFIED:20240521T130028Z
UID:10004548-1828695600-1828699200@birkenhead-park.org.uk
SUMMARY:Wellbeing walk
DESCRIPTION:Three times a week\, join one our wellbeing walks run by health walk leaders. Meet just outside the Visitor Centre. All abilities welcome!
URL:https://birkenhead-park.org.uk/events/wellbeing-walk/2027-12-13/
LOCATION:Birkenhead Park Visitor Centre\, Park Drive\, Birkenhead\, CH41 4HY\, United Kingdom
CATEGORIES:Activities
ATTACH;FMTTYPE=image/jpeg:https://birkenhead-park.org.uk/wp-content/uploads/DSC_0728-Edit-e1639660087561.jpg
END:VEVENT
BEGIN:VEVENT
DTSTART;TZID=Europe/London:20271219T110000
DTEND;TZID=Europe/London:20271219T120000
DTSTAMP:20260424T142947
CREATED:20240512T152303Z
LAST-MODIFIED:20240521T130028Z
UID:10004549-1829214000-1829217600@birkenhead-park.org.uk
SUMMARY:Wellbeing walk
DESCRIPTION:Three times a week\, join one our wellbeing walks run by health walk leaders. Meet just outside the Visitor Centre. All abilities welcome!
URL:https://birkenhead-park.org.uk/events/wellbeing-walk/2027-12-19/
LOCATION:Birkenhead Park Visitor Centre\, Park Drive\, Birkenhead\, CH41 4HY\, United Kingdom
CATEGORIES:Activities
ATTACH;FMTTYPE=image/jpeg:https://birkenhead-park.org.uk/wp-content/uploads/DSC_0728-Edit-e1639660087561.jpg
END:VEVENT
BEGIN:VEVENT
DTSTART;TZID=Europe/London:20271220T110000
DTEND;TZID=Europe/London:20271220T120000
DTSTAMP:20260424T142947
CREATED:20240512T152303Z
LAST-MODIFIED:20240521T130028Z
UID:10004550-1829300400-1829304000@birkenhead-park.org.uk
SUMMARY:Wellbeing walk
DESCRIPTION:Three times a week\, join one our wellbeing walks run by health walk leaders. Meet just outside the Visitor Centre. All abilities welcome!
URL:https://birkenhead-park.org.uk/events/wellbeing-walk/2027-12-20/
LOCATION:Birkenhead Park Visitor Centre\, Park Drive\, Birkenhead\, CH41 4HY\, United Kingdom
CATEGORIES:Activities
ATTACH;FMTTYPE=image/jpeg:https://birkenhead-park.org.uk/wp-content/uploads/DSC_0728-Edit-e1639660087561.jpg
END:VEVENT
BEGIN:VEVENT
DTSTART;TZID=Europe/London:20271226T110000
DTEND;TZID=Europe/London:20271226T120000
DTSTAMP:20260424T142947
CREATED:20240512T152303Z
LAST-MODIFIED:20240521T130028Z
UID:10004551-1829818800-1829822400@birkenhead-park.org.uk
SUMMARY:Wellbeing walk
DESCRIPTION:Three times a week\, join one our wellbeing walks run by health walk leaders. Meet just outside the Visitor Centre. All abilities welcome!
URL:https://birkenhead-park.org.uk/events/wellbeing-walk/2027-12-26/
LOCATION:Birkenhead Park Visitor Centre\, Park Drive\, Birkenhead\, CH41 4HY\, United Kingdom
CATEGORIES:Activities
ATTACH;FMTTYPE=image/jpeg:https://birkenhead-park.org.uk/wp-content/uploads/DSC_0728-Edit-e1639660087561.jpg
END:VEVENT
BEGIN:VEVENT
DTSTART;TZID=Europe/London:20271227T110000
DTEND;TZID=Europe/London:20271227T120000
DTSTAMP:20260424T142947
CREATED:20240512T152303Z
LAST-MODIFIED:20240521T130028Z
UID:10004552-1829905200-1829908800@birkenhead-park.org.uk
SUMMARY:Wellbeing walk
DESCRIPTION:Three times a week\, join one our wellbeing walks run by health walk leaders. Meet just outside the Visitor Centre. All abilities welcome!
URL:https://birkenhead-park.org.uk/events/wellbeing-walk/2027-12-27/
LOCATION:Birkenhead Park Visitor Centre\, Park Drive\, Birkenhead\, CH41 4HY\, United Kingdom
CATEGORIES:Activities
ATTACH;FMTTYPE=image/jpeg:https://birkenhead-park.org.uk/wp-content/uploads/DSC_0728-Edit-e1639660087561.jpg
END:VEVENT
BEGIN:VEVENT
DTSTART;TZID=Europe/London:20280102T110000
DTEND;TZID=Europe/London:20280102T120000
DTSTAMP:20260424T142947
CREATED:20240512T152303Z
LAST-MODIFIED:20240521T130028Z
UID:10004553-1830423600-1830427200@birkenhead-park.org.uk
SUMMARY:Wellbeing walk
DESCRIPTION:Three times a week\, join one our wellbeing walks run by health walk leaders. Meet just outside the Visitor Centre. All abilities welcome!
URL:https://birkenhead-park.org.uk/events/wellbeing-walk/2028-01-02/
LOCATION:Birkenhead Park Visitor Centre\, Park Drive\, Birkenhead\, CH41 4HY\, United Kingdom
CATEGORIES:Activities
ATTACH;FMTTYPE=image/jpeg:https://birkenhead-park.org.uk/wp-content/uploads/DSC_0728-Edit-e1639660087561.jpg
END:VEVENT
BEGIN:VEVENT
DTSTART;TZID=Europe/London:20280103T110000
DTEND;TZID=Europe/London:20280103T120000
DTSTAMP:20260424T142947
CREATED:20240512T152303Z
LAST-MODIFIED:20240521T130028Z
UID:10004554-1830510000-1830513600@birkenhead-park.org.uk
SUMMARY:Wellbeing walk
DESCRIPTION:Three times a week\, join one our wellbeing walks run by health walk leaders. Meet just outside the Visitor Centre. All abilities welcome!
URL:https://birkenhead-park.org.uk/events/wellbeing-walk/2028-01-03/
LOCATION:Birkenhead Park Visitor Centre\, Park Drive\, Birkenhead\, CH41 4HY\, United Kingdom
CATEGORIES:Activities
ATTACH;FMTTYPE=image/jpeg:https://birkenhead-park.org.uk/wp-content/uploads/DSC_0728-Edit-e1639660087561.jpg
END:VEVENT
BEGIN:VEVENT
DTSTART;TZID=Europe/London:20280109T110000
DTEND;TZID=Europe/London:20280109T120000
DTSTAMP:20260424T142947
CREATED:20240512T152303Z
LAST-MODIFIED:20240521T130028Z
UID:10004555-1831028400-1831032000@birkenhead-park.org.uk
SUMMARY:Wellbeing walk
DESCRIPTION:Three times a week\, join one our wellbeing walks run by health walk leaders. Meet just outside the Visitor Centre. All abilities welcome!
URL:https://birkenhead-park.org.uk/events/wellbeing-walk/2028-01-09/
LOCATION:Birkenhead Park Visitor Centre\, Park Drive\, Birkenhead\, CH41 4HY\, United Kingdom
CATEGORIES:Activities
ATTACH;FMTTYPE=image/jpeg:https://birkenhead-park.org.uk/wp-content/uploads/DSC_0728-Edit-e1639660087561.jpg
END:VEVENT
BEGIN:VEVENT
DTSTART;TZID=Europe/London:20280110T110000
DTEND;TZID=Europe/London:20280110T120000
DTSTAMP:20260424T142947
CREATED:20240512T152303Z
LAST-MODIFIED:20240521T130028Z
UID:10004556-1831114800-1831118400@birkenhead-park.org.uk
SUMMARY:Wellbeing walk
DESCRIPTION:Three times a week\, join one our wellbeing walks run by health walk leaders. Meet just outside the Visitor Centre. All abilities welcome!
URL:https://birkenhead-park.org.uk/events/wellbeing-walk/2028-01-10/
LOCATION:Birkenhead Park Visitor Centre\, Park Drive\, Birkenhead\, CH41 4HY\, United Kingdom
CATEGORIES:Activities
ATTACH;FMTTYPE=image/jpeg:https://birkenhead-park.org.uk/wp-content/uploads/DSC_0728-Edit-e1639660087561.jpg
END:VEVENT
BEGIN:VEVENT
DTSTART;TZID=Europe/London:20280116T110000
DTEND;TZID=Europe/London:20280116T120000
DTSTAMP:20260424T142947
CREATED:20240512T152303Z
LAST-MODIFIED:20240521T130028Z
UID:10004557-1831633200-1831636800@birkenhead-park.org.uk
SUMMARY:Wellbeing walk
DESCRIPTION:Three times a week\, join one our wellbeing walks run by health walk leaders. Meet just outside the Visitor Centre. All abilities welcome!
URL:https://birkenhead-park.org.uk/events/wellbeing-walk/2028-01-16/
LOCATION:Birkenhead Park Visitor Centre\, Park Drive\, Birkenhead\, CH41 4HY\, United Kingdom
CATEGORIES:Activities
ATTACH;FMTTYPE=image/jpeg:https://birkenhead-park.org.uk/wp-content/uploads/DSC_0728-Edit-e1639660087561.jpg
END:VEVENT
BEGIN:VEVENT
DTSTART;TZID=Europe/London:20280117T110000
DTEND;TZID=Europe/London:20280117T120000
DTSTAMP:20260424T142947
CREATED:20240512T152303Z
LAST-MODIFIED:20240521T130028Z
UID:10004558-1831719600-1831723200@birkenhead-park.org.uk
SUMMARY:Wellbeing walk
DESCRIPTION:Three times a week\, join one our wellbeing walks run by health walk leaders. Meet just outside the Visitor Centre. All abilities welcome!
URL:https://birkenhead-park.org.uk/events/wellbeing-walk/2028-01-17/
LOCATION:Birkenhead Park Visitor Centre\, Park Drive\, Birkenhead\, CH41 4HY\, United Kingdom
CATEGORIES:Activities
ATTACH;FMTTYPE=image/jpeg:https://birkenhead-park.org.uk/wp-content/uploads/DSC_0728-Edit-e1639660087561.jpg
END:VEVENT
BEGIN:VEVENT
DTSTART;TZID=Europe/London:20280123T110000
DTEND;TZID=Europe/London:20280123T120000
DTSTAMP:20260424T142947
CREATED:20240512T152303Z
LAST-MODIFIED:20240521T130028Z
UID:10004559-1832238000-1832241600@birkenhead-park.org.uk
SUMMARY:Wellbeing walk
DESCRIPTION:Three times a week\, join one our wellbeing walks run by health walk leaders. Meet just outside the Visitor Centre. All abilities welcome!
URL:https://birkenhead-park.org.uk/events/wellbeing-walk/2028-01-23/
LOCATION:Birkenhead Park Visitor Centre\, Park Drive\, Birkenhead\, CH41 4HY\, United Kingdom
CATEGORIES:Activities
ATTACH;FMTTYPE=image/jpeg:https://birkenhead-park.org.uk/wp-content/uploads/DSC_0728-Edit-e1639660087561.jpg
END:VEVENT
BEGIN:VEVENT
DTSTART;TZID=Europe/London:20280124T110000
DTEND;TZID=Europe/London:20280124T120000
DTSTAMP:20260424T142947
CREATED:20240512T152303Z
LAST-MODIFIED:20240521T130028Z
UID:10004560-1832324400-1832328000@birkenhead-park.org.uk
SUMMARY:Wellbeing walk
DESCRIPTION:Three times a week\, join one our wellbeing walks run by health walk leaders. Meet just outside the Visitor Centre. All abilities welcome!
URL:https://birkenhead-park.org.uk/events/wellbeing-walk/2028-01-24/
LOCATION:Birkenhead Park Visitor Centre\, Park Drive\, Birkenhead\, CH41 4HY\, United Kingdom
CATEGORIES:Activities
ATTACH;FMTTYPE=image/jpeg:https://birkenhead-park.org.uk/wp-content/uploads/DSC_0728-Edit-e1639660087561.jpg
END:VEVENT
BEGIN:VEVENT
DTSTART;TZID=Europe/London:20280130T110000
DTEND;TZID=Europe/London:20280130T120000
DTSTAMP:20260424T142947
CREATED:20240512T152303Z
LAST-MODIFIED:20240521T130028Z
UID:10004561-1832842800-1832846400@birkenhead-park.org.uk
SUMMARY:Wellbeing walk
DESCRIPTION:Three times a week\, join one our wellbeing walks run by health walk leaders. Meet just outside the Visitor Centre. All abilities welcome!
URL:https://birkenhead-park.org.uk/events/wellbeing-walk/2028-01-30/
LOCATION:Birkenhead Park Visitor Centre\, Park Drive\, Birkenhead\, CH41 4HY\, United Kingdom
CATEGORIES:Activities
ATTACH;FMTTYPE=image/jpeg:https://birkenhead-park.org.uk/wp-content/uploads/DSC_0728-Edit-e1639660087561.jpg
END:VEVENT
BEGIN:VEVENT
DTSTART;TZID=Europe/London:20280131T110000
DTEND;TZID=Europe/London:20280131T120000
DTSTAMP:20260424T142947
CREATED:20240512T152303Z
LAST-MODIFIED:20240521T130028Z
UID:10004562-1832929200-1832932800@birkenhead-park.org.uk
SUMMARY:Wellbeing walk
DESCRIPTION:Three times a week\, join one our wellbeing walks run by health walk leaders. Meet just outside the Visitor Centre. All abilities welcome!
URL:https://birkenhead-park.org.uk/events/wellbeing-walk/2028-01-31/
LOCATION:Birkenhead Park Visitor Centre\, Park Drive\, Birkenhead\, CH41 4HY\, United Kingdom
CATEGORIES:Activities
ATTACH;FMTTYPE=image/jpeg:https://birkenhead-park.org.uk/wp-content/uploads/DSC_0728-Edit-e1639660087561.jpg
END:VEVENT
END:VCALENDAR