BEGIN:VCALENDAR
VERSION:2.0
PRODID:-//Birkenhead Park - ECPv6.15.20//NONSGML v1.0//EN
CALSCALE:GREGORIAN
METHOD:PUBLISH
X-WR-CALNAME:Birkenhead Park
X-ORIGINAL-URL:https://birkenhead-park.org.uk
X-WR-CALDESC:Events for Birkenhead Park
REFRESH-INTERVAL;VALUE=DURATION:PT1H
X-Robots-Tag:noindex
X-PUBLISHED-TTL:PT1H
BEGIN:VTIMEZONE
TZID:Europe/London
BEGIN:DAYLIGHT
TZOFFSETFROM:+0000
TZOFFSETTO:+0100
TZNAME:BST
DTSTART:20260329T010000
END:DAYLIGHT
BEGIN:STANDARD
TZOFFSETFROM:+0100
TZOFFSETTO:+0000
TZNAME:GMT
DTSTART:20261025T010000
END:STANDARD
BEGIN:DAYLIGHT
TZOFFSETFROM:+0000
TZOFFSETTO:+0100
TZNAME:BST
DTSTART:20270328T010000
END:DAYLIGHT
BEGIN:STANDARD
TZOFFSETFROM:+0100
TZOFFSETTO:+0000
TZNAME:GMT
DTSTART:20271031T010000
END:STANDARD
BEGIN:DAYLIGHT
TZOFFSETFROM:+0000
TZOFFSETTO:+0100
TZNAME:BST
DTSTART:20280326T010000
END:DAYLIGHT
BEGIN:STANDARD
TZOFFSETFROM:+0100
TZOFFSETTO:+0000
TZNAME:GMT
DTSTART:20281029T010000
END:STANDARD
END:VTIMEZONE
BEGIN:VEVENT
DTSTART;TZID=Europe/London:20270102T090000
DTEND;TZID=Europe/London:20270102T100000
DTSTAMP:20260424T080302
CREATED:20240614T105808Z
LAST-MODIFIED:20240830T130257Z
UID:10005517-1798880400-1798884000@birkenhead-park.org.uk
SUMMARY:Park Run
DESCRIPTION:What is Birkenhead parkrun?\nA free\, fun\, and friendly weekly 5k community event. Walk\, jog\, run\, volunteer or spectate – it’s up to you! \nWhen is it?\nEvery Saturday at 9:00am. \nWhere is it?\nThe event takes place at Birkenhead Park\, Park Road West\, Claughton\, Wirral\, CH41 0EZ. \n 
URL:https://birkenhead-park.org.uk/events/park-run/2027-01-02/
LOCATION:Birkenhead Park\, Park Dr\, Birkenhead\, Birkenhead\, CH41 4HY
CATEGORIES:Activities,Wellbeing
ATTACH;FMTTYPE=image/jpeg:https://birkenhead-park.org.uk/wp-content/uploads/37126517242_b44563043c_z.jpg
ORGANIZER;CN="Birkenhead Park Park Run":MAILTO:birkenhead@parkrun.com
END:VEVENT
BEGIN:VEVENT
DTSTART;TZID=Europe/London:20270109T090000
DTEND;TZID=Europe/London:20270109T100000
DTSTAMP:20260424T080302
CREATED:20240614T105808Z
LAST-MODIFIED:20240830T130257Z
UID:10005518-1799485200-1799488800@birkenhead-park.org.uk
SUMMARY:Park Run
DESCRIPTION:What is Birkenhead parkrun?\nA free\, fun\, and friendly weekly 5k community event. Walk\, jog\, run\, volunteer or spectate – it’s up to you! \nWhen is it?\nEvery Saturday at 9:00am. \nWhere is it?\nThe event takes place at Birkenhead Park\, Park Road West\, Claughton\, Wirral\, CH41 0EZ. \n 
URL:https://birkenhead-park.org.uk/events/park-run/2027-01-09/
LOCATION:Birkenhead Park\, Park Dr\, Birkenhead\, Birkenhead\, CH41 4HY
CATEGORIES:Activities,Wellbeing
ATTACH;FMTTYPE=image/jpeg:https://birkenhead-park.org.uk/wp-content/uploads/37126517242_b44563043c_z.jpg
ORGANIZER;CN="Birkenhead Park Park Run":MAILTO:birkenhead@parkrun.com
END:VEVENT
BEGIN:VEVENT
DTSTART;TZID=Europe/London:20270116T090000
DTEND;TZID=Europe/London:20270116T100000
DTSTAMP:20260424T080302
CREATED:20240614T105808Z
LAST-MODIFIED:20240830T130257Z
UID:10005519-1800090000-1800093600@birkenhead-park.org.uk
SUMMARY:Park Run
DESCRIPTION:What is Birkenhead parkrun?\nA free\, fun\, and friendly weekly 5k community event. Walk\, jog\, run\, volunteer or spectate – it’s up to you! \nWhen is it?\nEvery Saturday at 9:00am. \nWhere is it?\nThe event takes place at Birkenhead Park\, Park Road West\, Claughton\, Wirral\, CH41 0EZ. \n 
URL:https://birkenhead-park.org.uk/events/park-run/2027-01-16/
LOCATION:Birkenhead Park\, Park Dr\, Birkenhead\, Birkenhead\, CH41 4HY
CATEGORIES:Activities,Wellbeing
ATTACH;FMTTYPE=image/jpeg:https://birkenhead-park.org.uk/wp-content/uploads/37126517242_b44563043c_z.jpg
ORGANIZER;CN="Birkenhead Park Park Run":MAILTO:birkenhead@parkrun.com
END:VEVENT
BEGIN:VEVENT
DTSTART;TZID=Europe/London:20270123T090000
DTEND;TZID=Europe/London:20270123T100000
DTSTAMP:20260424T080302
CREATED:20240614T105808Z
LAST-MODIFIED:20240830T130257Z
UID:10005520-1800694800-1800698400@birkenhead-park.org.uk
SUMMARY:Park Run
DESCRIPTION:What is Birkenhead parkrun?\nA free\, fun\, and friendly weekly 5k community event. Walk\, jog\, run\, volunteer or spectate – it’s up to you! \nWhen is it?\nEvery Saturday at 9:00am. \nWhere is it?\nThe event takes place at Birkenhead Park\, Park Road West\, Claughton\, Wirral\, CH41 0EZ. \n 
URL:https://birkenhead-park.org.uk/events/park-run/2027-01-23/
LOCATION:Birkenhead Park\, Park Dr\, Birkenhead\, Birkenhead\, CH41 4HY
CATEGORIES:Activities,Wellbeing
ATTACH;FMTTYPE=image/jpeg:https://birkenhead-park.org.uk/wp-content/uploads/37126517242_b44563043c_z.jpg
ORGANIZER;CN="Birkenhead Park Park Run":MAILTO:birkenhead@parkrun.com
END:VEVENT
BEGIN:VEVENT
DTSTART;TZID=Europe/London:20270130T090000
DTEND;TZID=Europe/London:20270130T100000
DTSTAMP:20260424T080302
CREATED:20240614T105808Z
LAST-MODIFIED:20240830T130257Z
UID:10005521-1801299600-1801303200@birkenhead-park.org.uk
SUMMARY:Park Run
DESCRIPTION:What is Birkenhead parkrun?\nA free\, fun\, and friendly weekly 5k community event. Walk\, jog\, run\, volunteer or spectate – it’s up to you! \nWhen is it?\nEvery Saturday at 9:00am. \nWhere is it?\nThe event takes place at Birkenhead Park\, Park Road West\, Claughton\, Wirral\, CH41 0EZ. \n 
URL:https://birkenhead-park.org.uk/events/park-run/2027-01-30/
LOCATION:Birkenhead Park\, Park Dr\, Birkenhead\, Birkenhead\, CH41 4HY
CATEGORIES:Activities,Wellbeing
ATTACH;FMTTYPE=image/jpeg:https://birkenhead-park.org.uk/wp-content/uploads/37126517242_b44563043c_z.jpg
ORGANIZER;CN="Birkenhead Park Park Run":MAILTO:birkenhead@parkrun.com
END:VEVENT
END:VCALENDAR