BEGIN:VCALENDAR
VERSION:2.0
PRODID:-//Birkenhead Park - ECPv6.15.20//NONSGML v1.0//EN
CALSCALE:GREGORIAN
METHOD:PUBLISH
X-WR-CALNAME:Birkenhead Park
X-ORIGINAL-URL:https://birkenhead-park.org.uk
X-WR-CALDESC:Events for Birkenhead Park
REFRESH-INTERVAL;VALUE=DURATION:PT1H
X-Robots-Tag:noindex
X-PUBLISHED-TTL:PT1H
BEGIN:VTIMEZONE
TZID:Europe/London
BEGIN:DAYLIGHT
TZOFFSETFROM:+0000
TZOFFSETTO:+0100
TZNAME:BST
DTSTART:20280326T010000
END:DAYLIGHT
BEGIN:STANDARD
TZOFFSETFROM:+0100
TZOFFSETTO:+0000
TZNAME:GMT
DTSTART:20281029T010000
END:STANDARD
BEGIN:DAYLIGHT
TZOFFSETFROM:+0000
TZOFFSETTO:+0100
TZNAME:BST
DTSTART:20290325T010000
END:DAYLIGHT
BEGIN:STANDARD
TZOFFSETFROM:+0100
TZOFFSETTO:+0000
TZNAME:GMT
DTSTART:20291028T010000
END:STANDARD
BEGIN:DAYLIGHT
TZOFFSETFROM:+0000
TZOFFSETTO:+0100
TZNAME:BST
DTSTART:20300331T010000
END:DAYLIGHT
BEGIN:STANDARD
TZOFFSETFROM:+0100
TZOFFSETTO:+0000
TZNAME:GMT
DTSTART:20301027T010000
END:STANDARD
BEGIN:DAYLIGHT
TZOFFSETFROM:+0000
TZOFFSETTO:+0100
TZNAME:BST
DTSTART:20310330T010000
END:DAYLIGHT
BEGIN:STANDARD
TZOFFSETFROM:+0100
TZOFFSETTO:+0000
TZNAME:GMT
DTSTART:20311026T010000
END:STANDARD
END:VTIMEZONE
BEGIN:VEVENT
DTSTART;TZID=Europe/London:20291118T110000
DTEND;TZID=Europe/London:20291118T120000
DTSTAMP:20260425T161549
CREATED:20240512T152303Z
LAST-MODIFIED:20240521T130028Z
UID:10006161-1889694000-1889697600@birkenhead-park.org.uk
SUMMARY:Wellbeing walk
DESCRIPTION:Three times a week\, join one our wellbeing walks run by health walk leaders. Meet just outside the Visitor Centre. All abilities welcome!
URL:https://birkenhead-park.org.uk/events/wellbeing-walk/2029-11-18/
LOCATION:Birkenhead Park Visitor Centre\, Park Drive\, Birkenhead\, CH41 4HY\, United Kingdom
CATEGORIES:Activities
ATTACH;FMTTYPE=image/jpeg:https://birkenhead-park.org.uk/wp-content/uploads/DSC_0728-Edit-e1639660087561.jpg
END:VEVENT
BEGIN:VEVENT
DTSTART;TZID=Europe/London:20291119T110000
DTEND;TZID=Europe/London:20291119T120000
DTSTAMP:20260425T161549
CREATED:20240512T152303Z
LAST-MODIFIED:20240521T130028Z
UID:10006164-1889780400-1889784000@birkenhead-park.org.uk
SUMMARY:Wellbeing walk
DESCRIPTION:Three times a week\, join one our wellbeing walks run by health walk leaders. Meet just outside the Visitor Centre. All abilities welcome!
URL:https://birkenhead-park.org.uk/events/wellbeing-walk/2029-11-19/
LOCATION:Birkenhead Park Visitor Centre\, Park Drive\, Birkenhead\, CH41 4HY\, United Kingdom
CATEGORIES:Activities
ATTACH;FMTTYPE=image/jpeg:https://birkenhead-park.org.uk/wp-content/uploads/DSC_0728-Edit-e1639660087561.jpg
END:VEVENT
BEGIN:VEVENT
DTSTART;TZID=Europe/London:20291125T110000
DTEND;TZID=Europe/London:20291125T120000
DTSTAMP:20260425T161549
CREATED:20240512T152303Z
LAST-MODIFIED:20240521T130028Z
UID:10006171-1890298800-1890302400@birkenhead-park.org.uk
SUMMARY:Wellbeing walk
DESCRIPTION:Three times a week\, join one our wellbeing walks run by health walk leaders. Meet just outside the Visitor Centre. All abilities welcome!
URL:https://birkenhead-park.org.uk/events/wellbeing-walk/2029-11-25/
LOCATION:Birkenhead Park Visitor Centre\, Park Drive\, Birkenhead\, CH41 4HY\, United Kingdom
CATEGORIES:Activities
ATTACH;FMTTYPE=image/jpeg:https://birkenhead-park.org.uk/wp-content/uploads/DSC_0728-Edit-e1639660087561.jpg
END:VEVENT
BEGIN:VEVENT
DTSTART;TZID=Europe/London:20291126T110000
DTEND;TZID=Europe/London:20291126T120000
DTSTAMP:20260425T161549
CREATED:20240512T152303Z
LAST-MODIFIED:20240521T130028Z
UID:10006174-1890385200-1890388800@birkenhead-park.org.uk
SUMMARY:Wellbeing walk
DESCRIPTION:Three times a week\, join one our wellbeing walks run by health walk leaders. Meet just outside the Visitor Centre. All abilities welcome!
URL:https://birkenhead-park.org.uk/events/wellbeing-walk/2029-11-26/
LOCATION:Birkenhead Park Visitor Centre\, Park Drive\, Birkenhead\, CH41 4HY\, United Kingdom
CATEGORIES:Activities
ATTACH;FMTTYPE=image/jpeg:https://birkenhead-park.org.uk/wp-content/uploads/DSC_0728-Edit-e1639660087561.jpg
END:VEVENT
BEGIN:VEVENT
DTSTART;TZID=Europe/London:20291202T110000
DTEND;TZID=Europe/London:20291202T120000
DTSTAMP:20260425T161549
CREATED:20240512T152303Z
LAST-MODIFIED:20240521T130028Z
UID:10006181-1890903600-1890907200@birkenhead-park.org.uk
SUMMARY:Wellbeing walk
DESCRIPTION:Three times a week\, join one our wellbeing walks run by health walk leaders. Meet just outside the Visitor Centre. All abilities welcome!
URL:https://birkenhead-park.org.uk/events/wellbeing-walk/2029-12-02/
LOCATION:Birkenhead Park Visitor Centre\, Park Drive\, Birkenhead\, CH41 4HY\, United Kingdom
CATEGORIES:Activities
ATTACH;FMTTYPE=image/jpeg:https://birkenhead-park.org.uk/wp-content/uploads/DSC_0728-Edit-e1639660087561.jpg
END:VEVENT
BEGIN:VEVENT
DTSTART;TZID=Europe/London:20291203T110000
DTEND;TZID=Europe/London:20291203T120000
DTSTAMP:20260425T161549
CREATED:20240512T152303Z
LAST-MODIFIED:20240521T130028Z
UID:10006183-1890990000-1890993600@birkenhead-park.org.uk
SUMMARY:Wellbeing walk
DESCRIPTION:Three times a week\, join one our wellbeing walks run by health walk leaders. Meet just outside the Visitor Centre. All abilities welcome!
URL:https://birkenhead-park.org.uk/events/wellbeing-walk/2029-12-03/
LOCATION:Birkenhead Park Visitor Centre\, Park Drive\, Birkenhead\, CH41 4HY\, United Kingdom
CATEGORIES:Activities
ATTACH;FMTTYPE=image/jpeg:https://birkenhead-park.org.uk/wp-content/uploads/DSC_0728-Edit-e1639660087561.jpg
END:VEVENT
BEGIN:VEVENT
DTSTART;TZID=Europe/London:20291209T110000
DTEND;TZID=Europe/London:20291209T120000
DTSTAMP:20260425T161549
CREATED:20240512T152303Z
LAST-MODIFIED:20240521T130028Z
UID:10006186-1891508400-1891512000@birkenhead-park.org.uk
SUMMARY:Wellbeing walk
DESCRIPTION:Three times a week\, join one our wellbeing walks run by health walk leaders. Meet just outside the Visitor Centre. All abilities welcome!
URL:https://birkenhead-park.org.uk/events/wellbeing-walk/2029-12-09/
LOCATION:Birkenhead Park Visitor Centre\, Park Drive\, Birkenhead\, CH41 4HY\, United Kingdom
CATEGORIES:Activities
ATTACH;FMTTYPE=image/jpeg:https://birkenhead-park.org.uk/wp-content/uploads/DSC_0728-Edit-e1639660087561.jpg
END:VEVENT
BEGIN:VEVENT
DTSTART;TZID=Europe/London:20291210T110000
DTEND;TZID=Europe/London:20291210T120000
DTSTAMP:20260425T161549
CREATED:20240512T152303Z
LAST-MODIFIED:20240521T130028Z
UID:10006193-1891594800-1891598400@birkenhead-park.org.uk
SUMMARY:Wellbeing walk
DESCRIPTION:Three times a week\, join one our wellbeing walks run by health walk leaders. Meet just outside the Visitor Centre. All abilities welcome!
URL:https://birkenhead-park.org.uk/events/wellbeing-walk/2029-12-10/
LOCATION:Birkenhead Park Visitor Centre\, Park Drive\, Birkenhead\, CH41 4HY\, United Kingdom
CATEGORIES:Activities
ATTACH;FMTTYPE=image/jpeg:https://birkenhead-park.org.uk/wp-content/uploads/DSC_0728-Edit-e1639660087561.jpg
END:VEVENT
BEGIN:VEVENT
DTSTART;TZID=Europe/London:20291216T110000
DTEND;TZID=Europe/London:20291216T120000
DTSTAMP:20260425T161549
CREATED:20240512T152303Z
LAST-MODIFIED:20240521T130028Z
UID:10006196-1892113200-1892116800@birkenhead-park.org.uk
SUMMARY:Wellbeing walk
DESCRIPTION:Three times a week\, join one our wellbeing walks run by health walk leaders. Meet just outside the Visitor Centre. All abilities welcome!
URL:https://birkenhead-park.org.uk/events/wellbeing-walk/2029-12-16/
LOCATION:Birkenhead Park Visitor Centre\, Park Drive\, Birkenhead\, CH41 4HY\, United Kingdom
CATEGORIES:Activities
ATTACH;FMTTYPE=image/jpeg:https://birkenhead-park.org.uk/wp-content/uploads/DSC_0728-Edit-e1639660087561.jpg
END:VEVENT
BEGIN:VEVENT
DTSTART;TZID=Europe/London:20291217T110000
DTEND;TZID=Europe/London:20291217T120000
DTSTAMP:20260425T161549
CREATED:20240512T152303Z
LAST-MODIFIED:20240521T130028Z
UID:10006263-1892199600-1892203200@birkenhead-park.org.uk
SUMMARY:Wellbeing walk
DESCRIPTION:Three times a week\, join one our wellbeing walks run by health walk leaders. Meet just outside the Visitor Centre. All abilities welcome!
URL:https://birkenhead-park.org.uk/events/wellbeing-walk/2029-12-17/
LOCATION:Birkenhead Park Visitor Centre\, Park Drive\, Birkenhead\, CH41 4HY\, United Kingdom
CATEGORIES:Activities
ATTACH;FMTTYPE=image/jpeg:https://birkenhead-park.org.uk/wp-content/uploads/DSC_0728-Edit-e1639660087561.jpg
END:VEVENT
BEGIN:VEVENT
DTSTART;TZID=Europe/London:20291223T110000
DTEND;TZID=Europe/London:20291223T120000
DTSTAMP:20260425T161549
CREATED:20240512T152303Z
LAST-MODIFIED:20240521T130028Z
UID:10006264-1892718000-1892721600@birkenhead-park.org.uk
SUMMARY:Wellbeing walk
DESCRIPTION:Three times a week\, join one our wellbeing walks run by health walk leaders. Meet just outside the Visitor Centre. All abilities welcome!
URL:https://birkenhead-park.org.uk/events/wellbeing-walk/2029-12-23/
LOCATION:Birkenhead Park Visitor Centre\, Park Drive\, Birkenhead\, CH41 4HY\, United Kingdom
CATEGORIES:Activities
ATTACH;FMTTYPE=image/jpeg:https://birkenhead-park.org.uk/wp-content/uploads/DSC_0728-Edit-e1639660087561.jpg
END:VEVENT
BEGIN:VEVENT
DTSTART;TZID=Europe/London:20291224T110000
DTEND;TZID=Europe/London:20291224T120000
DTSTAMP:20260425T161549
CREATED:20240512T152303Z
LAST-MODIFIED:20240521T130028Z
UID:10006265-1892804400-1892808000@birkenhead-park.org.uk
SUMMARY:Wellbeing walk
DESCRIPTION:Three times a week\, join one our wellbeing walks run by health walk leaders. Meet just outside the Visitor Centre. All abilities welcome!
URL:https://birkenhead-park.org.uk/events/wellbeing-walk/2029-12-24/
LOCATION:Birkenhead Park Visitor Centre\, Park Drive\, Birkenhead\, CH41 4HY\, United Kingdom
CATEGORIES:Activities
ATTACH;FMTTYPE=image/jpeg:https://birkenhead-park.org.uk/wp-content/uploads/DSC_0728-Edit-e1639660087561.jpg
END:VEVENT
BEGIN:VEVENT
DTSTART;TZID=Europe/London:20291230T110000
DTEND;TZID=Europe/London:20291230T120000
DTSTAMP:20260425T161549
CREATED:20240512T152303Z
LAST-MODIFIED:20240521T130028Z
UID:10006266-1893322800-1893326400@birkenhead-park.org.uk
SUMMARY:Wellbeing walk
DESCRIPTION:Three times a week\, join one our wellbeing walks run by health walk leaders. Meet just outside the Visitor Centre. All abilities welcome!
URL:https://birkenhead-park.org.uk/events/wellbeing-walk/2029-12-30/
LOCATION:Birkenhead Park Visitor Centre\, Park Drive\, Birkenhead\, CH41 4HY\, United Kingdom
CATEGORIES:Activities
ATTACH;FMTTYPE=image/jpeg:https://birkenhead-park.org.uk/wp-content/uploads/DSC_0728-Edit-e1639660087561.jpg
END:VEVENT
BEGIN:VEVENT
DTSTART;TZID=Europe/London:20291231T110000
DTEND;TZID=Europe/London:20291231T120000
DTSTAMP:20260425T161549
CREATED:20240512T152303Z
LAST-MODIFIED:20240521T130028Z
UID:10006267-1893409200-1893412800@birkenhead-park.org.uk
SUMMARY:Wellbeing walk
DESCRIPTION:Three times a week\, join one our wellbeing walks run by health walk leaders. Meet just outside the Visitor Centre. All abilities welcome!
URL:https://birkenhead-park.org.uk/events/wellbeing-walk/2029-12-31/
LOCATION:Birkenhead Park Visitor Centre\, Park Drive\, Birkenhead\, CH41 4HY\, United Kingdom
CATEGORIES:Activities
ATTACH;FMTTYPE=image/jpeg:https://birkenhead-park.org.uk/wp-content/uploads/DSC_0728-Edit-e1639660087561.jpg
END:VEVENT
BEGIN:VEVENT
DTSTART;TZID=Europe/London:20300106T110000
DTEND;TZID=Europe/London:20300106T120000
DTSTAMP:20260425T161549
CREATED:20240512T152303Z
LAST-MODIFIED:20240521T130028Z
UID:10006268-1893927600-1893931200@birkenhead-park.org.uk
SUMMARY:Wellbeing walk
DESCRIPTION:Three times a week\, join one our wellbeing walks run by health walk leaders. Meet just outside the Visitor Centre. All abilities welcome!
URL:https://birkenhead-park.org.uk/events/wellbeing-walk/2030-01-06/
LOCATION:Birkenhead Park Visitor Centre\, Park Drive\, Birkenhead\, CH41 4HY\, United Kingdom
CATEGORIES:Activities
ATTACH;FMTTYPE=image/jpeg:https://birkenhead-park.org.uk/wp-content/uploads/DSC_0728-Edit-e1639660087561.jpg
END:VEVENT
BEGIN:VEVENT
DTSTART;TZID=Europe/London:20300107T110000
DTEND;TZID=Europe/London:20300107T120000
DTSTAMP:20260425T161549
CREATED:20240512T152303Z
LAST-MODIFIED:20240521T130028Z
UID:10006269-1894014000-1894017600@birkenhead-park.org.uk
SUMMARY:Wellbeing walk
DESCRIPTION:Three times a week\, join one our wellbeing walks run by health walk leaders. Meet just outside the Visitor Centre. All abilities welcome!
URL:https://birkenhead-park.org.uk/events/wellbeing-walk/2030-01-07/
LOCATION:Birkenhead Park Visitor Centre\, Park Drive\, Birkenhead\, CH41 4HY\, United Kingdom
CATEGORIES:Activities
ATTACH;FMTTYPE=image/jpeg:https://birkenhead-park.org.uk/wp-content/uploads/DSC_0728-Edit-e1639660087561.jpg
END:VEVENT
BEGIN:VEVENT
DTSTART;TZID=Europe/London:20300113T110000
DTEND;TZID=Europe/London:20300113T120000
DTSTAMP:20260425T161549
CREATED:20240512T152303Z
LAST-MODIFIED:20240521T130028Z
UID:10006270-1894532400-1894536000@birkenhead-park.org.uk
SUMMARY:Wellbeing walk
DESCRIPTION:Three times a week\, join one our wellbeing walks run by health walk leaders. Meet just outside the Visitor Centre. All abilities welcome!
URL:https://birkenhead-park.org.uk/events/wellbeing-walk/2030-01-13/
LOCATION:Birkenhead Park Visitor Centre\, Park Drive\, Birkenhead\, CH41 4HY\, United Kingdom
CATEGORIES:Activities
ATTACH;FMTTYPE=image/jpeg:https://birkenhead-park.org.uk/wp-content/uploads/DSC_0728-Edit-e1639660087561.jpg
END:VEVENT
BEGIN:VEVENT
DTSTART;TZID=Europe/London:20300114T110000
DTEND;TZID=Europe/London:20300114T120000
DTSTAMP:20260425T161549
CREATED:20240512T152303Z
LAST-MODIFIED:20240521T130028Z
UID:10006271-1894618800-1894622400@birkenhead-park.org.uk
SUMMARY:Wellbeing walk
DESCRIPTION:Three times a week\, join one our wellbeing walks run by health walk leaders. Meet just outside the Visitor Centre. All abilities welcome!
URL:https://birkenhead-park.org.uk/events/wellbeing-walk/2030-01-14/
LOCATION:Birkenhead Park Visitor Centre\, Park Drive\, Birkenhead\, CH41 4HY\, United Kingdom
CATEGORIES:Activities
ATTACH;FMTTYPE=image/jpeg:https://birkenhead-park.org.uk/wp-content/uploads/DSC_0728-Edit-e1639660087561.jpg
END:VEVENT
BEGIN:VEVENT
DTSTART;TZID=Europe/London:20300120T110000
DTEND;TZID=Europe/London:20300120T120000
DTSTAMP:20260425T161549
CREATED:20240512T152303Z
LAST-MODIFIED:20240521T130028Z
UID:10006272-1895137200-1895140800@birkenhead-park.org.uk
SUMMARY:Wellbeing walk
DESCRIPTION:Three times a week\, join one our wellbeing walks run by health walk leaders. Meet just outside the Visitor Centre. All abilities welcome!
URL:https://birkenhead-park.org.uk/events/wellbeing-walk/2030-01-20/
LOCATION:Birkenhead Park Visitor Centre\, Park Drive\, Birkenhead\, CH41 4HY\, United Kingdom
CATEGORIES:Activities
ATTACH;FMTTYPE=image/jpeg:https://birkenhead-park.org.uk/wp-content/uploads/DSC_0728-Edit-e1639660087561.jpg
END:VEVENT
BEGIN:VEVENT
DTSTART;TZID=Europe/London:20300121T110000
DTEND;TZID=Europe/London:20300121T120000
DTSTAMP:20260425T161549
CREATED:20240512T152303Z
LAST-MODIFIED:20240521T130028Z
UID:10006273-1895223600-1895227200@birkenhead-park.org.uk
SUMMARY:Wellbeing walk
DESCRIPTION:Three times a week\, join one our wellbeing walks run by health walk leaders. Meet just outside the Visitor Centre. All abilities welcome!
URL:https://birkenhead-park.org.uk/events/wellbeing-walk/2030-01-21/
LOCATION:Birkenhead Park Visitor Centre\, Park Drive\, Birkenhead\, CH41 4HY\, United Kingdom
CATEGORIES:Activities
ATTACH;FMTTYPE=image/jpeg:https://birkenhead-park.org.uk/wp-content/uploads/DSC_0728-Edit-e1639660087561.jpg
END:VEVENT
BEGIN:VEVENT
DTSTART;TZID=Europe/London:20300127T110000
DTEND;TZID=Europe/London:20300127T120000
DTSTAMP:20260425T161549
CREATED:20240512T152303Z
LAST-MODIFIED:20240521T130028Z
UID:10006274-1895742000-1895745600@birkenhead-park.org.uk
SUMMARY:Wellbeing walk
DESCRIPTION:Three times a week\, join one our wellbeing walks run by health walk leaders. Meet just outside the Visitor Centre. All abilities welcome!
URL:https://birkenhead-park.org.uk/events/wellbeing-walk/2030-01-27/
LOCATION:Birkenhead Park Visitor Centre\, Park Drive\, Birkenhead\, CH41 4HY\, United Kingdom
CATEGORIES:Activities
ATTACH;FMTTYPE=image/jpeg:https://birkenhead-park.org.uk/wp-content/uploads/DSC_0728-Edit-e1639660087561.jpg
END:VEVENT
BEGIN:VEVENT
DTSTART;TZID=Europe/London:20300128T110000
DTEND;TZID=Europe/London:20300128T120000
DTSTAMP:20260425T161549
CREATED:20240512T152303Z
LAST-MODIFIED:20240521T130028Z
UID:10006275-1895828400-1895832000@birkenhead-park.org.uk
SUMMARY:Wellbeing walk
DESCRIPTION:Three times a week\, join one our wellbeing walks run by health walk leaders. Meet just outside the Visitor Centre. All abilities welcome!
URL:https://birkenhead-park.org.uk/events/wellbeing-walk/2030-01-28/
LOCATION:Birkenhead Park Visitor Centre\, Park Drive\, Birkenhead\, CH41 4HY\, United Kingdom
CATEGORIES:Activities
ATTACH;FMTTYPE=image/jpeg:https://birkenhead-park.org.uk/wp-content/uploads/DSC_0728-Edit-e1639660087561.jpg
END:VEVENT
BEGIN:VEVENT
DTSTART;TZID=Europe/London:20300203T110000
DTEND;TZID=Europe/London:20300203T120000
DTSTAMP:20260425T161549
CREATED:20240512T152303Z
LAST-MODIFIED:20240521T130028Z
UID:10006276-1896346800-1896350400@birkenhead-park.org.uk
SUMMARY:Wellbeing walk
DESCRIPTION:Three times a week\, join one our wellbeing walks run by health walk leaders. Meet just outside the Visitor Centre. All abilities welcome!
URL:https://birkenhead-park.org.uk/events/wellbeing-walk/2030-02-03/
LOCATION:Birkenhead Park Visitor Centre\, Park Drive\, Birkenhead\, CH41 4HY\, United Kingdom
CATEGORIES:Activities
ATTACH;FMTTYPE=image/jpeg:https://birkenhead-park.org.uk/wp-content/uploads/DSC_0728-Edit-e1639660087561.jpg
END:VEVENT
BEGIN:VEVENT
DTSTART;TZID=Europe/London:20300204T110000
DTEND;TZID=Europe/London:20300204T120000
DTSTAMP:20260425T161549
CREATED:20240512T152303Z
LAST-MODIFIED:20240521T130028Z
UID:10006277-1896433200-1896436800@birkenhead-park.org.uk
SUMMARY:Wellbeing walk
DESCRIPTION:Three times a week\, join one our wellbeing walks run by health walk leaders. Meet just outside the Visitor Centre. All abilities welcome!
URL:https://birkenhead-park.org.uk/events/wellbeing-walk/2030-02-04/
LOCATION:Birkenhead Park Visitor Centre\, Park Drive\, Birkenhead\, CH41 4HY\, United Kingdom
CATEGORIES:Activities
ATTACH;FMTTYPE=image/jpeg:https://birkenhead-park.org.uk/wp-content/uploads/DSC_0728-Edit-e1639660087561.jpg
END:VEVENT
BEGIN:VEVENT
DTSTART;TZID=Europe/London:20300210T110000
DTEND;TZID=Europe/London:20300210T120000
DTSTAMP:20260425T161549
CREATED:20240512T152303Z
LAST-MODIFIED:20240521T130028Z
UID:10006278-1896951600-1896955200@birkenhead-park.org.uk
SUMMARY:Wellbeing walk
DESCRIPTION:Three times a week\, join one our wellbeing walks run by health walk leaders. Meet just outside the Visitor Centre. All abilities welcome!
URL:https://birkenhead-park.org.uk/events/wellbeing-walk/2030-02-10/
LOCATION:Birkenhead Park Visitor Centre\, Park Drive\, Birkenhead\, CH41 4HY\, United Kingdom
CATEGORIES:Activities
ATTACH;FMTTYPE=image/jpeg:https://birkenhead-park.org.uk/wp-content/uploads/DSC_0728-Edit-e1639660087561.jpg
END:VEVENT
BEGIN:VEVENT
DTSTART;TZID=Europe/London:20300211T110000
DTEND;TZID=Europe/London:20300211T120000
DTSTAMP:20260425T161549
CREATED:20240512T152303Z
LAST-MODIFIED:20240521T130028Z
UID:10006279-1897038000-1897041600@birkenhead-park.org.uk
SUMMARY:Wellbeing walk
DESCRIPTION:Three times a week\, join one our wellbeing walks run by health walk leaders. Meet just outside the Visitor Centre. All abilities welcome!
URL:https://birkenhead-park.org.uk/events/wellbeing-walk/2030-02-11/
LOCATION:Birkenhead Park Visitor Centre\, Park Drive\, Birkenhead\, CH41 4HY\, United Kingdom
CATEGORIES:Activities
ATTACH;FMTTYPE=image/jpeg:https://birkenhead-park.org.uk/wp-content/uploads/DSC_0728-Edit-e1639660087561.jpg
END:VEVENT
BEGIN:VEVENT
DTSTART;TZID=Europe/London:20300217T110000
DTEND;TZID=Europe/London:20300217T120000
DTSTAMP:20260425T161549
CREATED:20240512T152303Z
LAST-MODIFIED:20240521T130028Z
UID:10006280-1897556400-1897560000@birkenhead-park.org.uk
SUMMARY:Wellbeing walk
DESCRIPTION:Three times a week\, join one our wellbeing walks run by health walk leaders. Meet just outside the Visitor Centre. All abilities welcome!
URL:https://birkenhead-park.org.uk/events/wellbeing-walk/2030-02-17/
LOCATION:Birkenhead Park Visitor Centre\, Park Drive\, Birkenhead\, CH41 4HY\, United Kingdom
CATEGORIES:Activities
ATTACH;FMTTYPE=image/jpeg:https://birkenhead-park.org.uk/wp-content/uploads/DSC_0728-Edit-e1639660087561.jpg
END:VEVENT
BEGIN:VEVENT
DTSTART;TZID=Europe/London:20300218T110000
DTEND;TZID=Europe/London:20300218T120000
DTSTAMP:20260425T161549
CREATED:20240512T152303Z
LAST-MODIFIED:20240521T130028Z
UID:10006281-1897642800-1897646400@birkenhead-park.org.uk
SUMMARY:Wellbeing walk
DESCRIPTION:Three times a week\, join one our wellbeing walks run by health walk leaders. Meet just outside the Visitor Centre. All abilities welcome!
URL:https://birkenhead-park.org.uk/events/wellbeing-walk/2030-02-18/
LOCATION:Birkenhead Park Visitor Centre\, Park Drive\, Birkenhead\, CH41 4HY\, United Kingdom
CATEGORIES:Activities
ATTACH;FMTTYPE=image/jpeg:https://birkenhead-park.org.uk/wp-content/uploads/DSC_0728-Edit-e1639660087561.jpg
END:VEVENT
BEGIN:VEVENT
DTSTART;TZID=Europe/London:20300224T110000
DTEND;TZID=Europe/London:20300224T120000
DTSTAMP:20260425T161549
CREATED:20240512T152303Z
LAST-MODIFIED:20240521T130028Z
UID:10006282-1898161200-1898164800@birkenhead-park.org.uk
SUMMARY:Wellbeing walk
DESCRIPTION:Three times a week\, join one our wellbeing walks run by health walk leaders. Meet just outside the Visitor Centre. All abilities welcome!
URL:https://birkenhead-park.org.uk/events/wellbeing-walk/2030-02-24/
LOCATION:Birkenhead Park Visitor Centre\, Park Drive\, Birkenhead\, CH41 4HY\, United Kingdom
CATEGORIES:Activities
ATTACH;FMTTYPE=image/jpeg:https://birkenhead-park.org.uk/wp-content/uploads/DSC_0728-Edit-e1639660087561.jpg
END:VEVENT
BEGIN:VEVENT
DTSTART;TZID=Europe/London:20300225T110000
DTEND;TZID=Europe/London:20300225T120000
DTSTAMP:20260425T161549
CREATED:20240512T152303Z
LAST-MODIFIED:20240521T130028Z
UID:10006283-1898247600-1898251200@birkenhead-park.org.uk
SUMMARY:Wellbeing walk
DESCRIPTION:Three times a week\, join one our wellbeing walks run by health walk leaders. Meet just outside the Visitor Centre. All abilities welcome!
URL:https://birkenhead-park.org.uk/events/wellbeing-walk/2030-02-25/
LOCATION:Birkenhead Park Visitor Centre\, Park Drive\, Birkenhead\, CH41 4HY\, United Kingdom
CATEGORIES:Activities
ATTACH;FMTTYPE=image/jpeg:https://birkenhead-park.org.uk/wp-content/uploads/DSC_0728-Edit-e1639660087561.jpg
END:VEVENT
END:VCALENDAR