BEGIN:VCALENDAR
VERSION:2.0
PRODID:-//Birkenhead Park - ECPv6.15.20//NONSGML v1.0//EN
CALSCALE:GREGORIAN
METHOD:PUBLISH
X-ORIGINAL-URL:https://birkenhead-park.org.uk
X-WR-CALDESC:Events for Birkenhead Park
REFRESH-INTERVAL;VALUE=DURATION:PT1H
X-Robots-Tag:noindex
X-PUBLISHED-TTL:PT1H
BEGIN:VTIMEZONE
TZID:Europe/London
BEGIN:DAYLIGHT
TZOFFSETFROM:+0000
TZOFFSETTO:+0100
TZNAME:BST
DTSTART:20260329T010000
END:DAYLIGHT
BEGIN:STANDARD
TZOFFSETFROM:+0100
TZOFFSETTO:+0000
TZNAME:GMT
DTSTART:20261025T010000
END:STANDARD
BEGIN:DAYLIGHT
TZOFFSETFROM:+0000
TZOFFSETTO:+0100
TZNAME:BST
DTSTART:20270328T010000
END:DAYLIGHT
BEGIN:STANDARD
TZOFFSETFROM:+0100
TZOFFSETTO:+0000
TZNAME:GMT
DTSTART:20271031T010000
END:STANDARD
BEGIN:DAYLIGHT
TZOFFSETFROM:+0000
TZOFFSETTO:+0100
TZNAME:BST
DTSTART:20280326T010000
END:DAYLIGHT
BEGIN:STANDARD
TZOFFSETFROM:+0100
TZOFFSETTO:+0000
TZNAME:GMT
DTSTART:20281029T010000
END:STANDARD
END:VTIMEZONE
BEGIN:VEVENT
DTSTART;TZID=Europe/London:20270301T100000
DTEND;TZID=Europe/London:20270301T113000
DTSTAMP:20260424T123654
CREATED:20240418T122320Z
LAST-MODIFIED:20240522T083209Z
UID:10003896-1803895200-1803900600@birkenhead-park.org.uk
SUMMARY:MamaFit Wirral
DESCRIPTION:Ready to get Mummy fit? \nJoin new Mamafit sessions every Monday and Tuesday at Birkenhead Park. \n  \nMums Social: Walk & Talk – Birkenhead Park\, Wirral \nMonday’s 10:00am – 11:30am launching 22nd April 2024. \nhttps://members.mamafituk.com/courses/313/info \nMamafit® Kettlebells – Birkenhead Park\, Wirral  \nTuesday’s 11:00am – 11:40am launching 23rd April 2024. \nhttps://members.mamafituk.com/courses/319/info
URL:https://birkenhead-park.org.uk/events/mamafit-wirral/2027-03-01/
LOCATION:Birkenhead Park Visitor Centre\, Park Drive\, Birkenhead\, CH41 4HY\, United Kingdom
CATEGORIES:Activities,Wellbeing
ATTACH;FMTTYPE=image/jpeg:https://birkenhead-park.org.uk/wp-content/uploads/mamafit-social.jpg
END:VEVENT
BEGIN:VEVENT
DTSTART;TZID=Europe/London:20270302T110000
DTEND;TZID=Europe/London:20270302T113000
DTSTAMP:20260424T123654
CREATED:20240521T151214Z
LAST-MODIFIED:20240522T131312Z
UID:10005104-1803985200-1803987000@birkenhead-park.org.uk
SUMMARY:MamaFit Wirral
DESCRIPTION:  \nReady to get Mummy fit? \nJoin new Mamafit sessions every Monday and Tuesday at Birkenhead Park. \nMums Social: Walk & Talk – Birkenhead Park\, Wirral \nMonday’s 10:00am – 11:30am launching 22nd April 2024. \nhttps://members.mamafituk.com/courses/313/info \nMamafit® Kettlebells – Birkenhead Park\, Wirral  \nTuesday’s 11:00am – 11:40am launching 23rd April 2024. \nhttps://members.mamafituk.com/courses/319/info
URL:https://birkenhead-park.org.uk/events/mamafit-wirral-2/2027-03-02/
LOCATION:Birkenhead Park Visitor Centre\, Park Drive\, Birkenhead\, CH41 4HY\, United Kingdom
CATEGORIES:Activities,Wellbeing
ATTACH;FMTTYPE=image/jpeg:https://birkenhead-park.org.uk/wp-content/uploads/mamafit-kettebelles-tue.jpg
END:VEVENT
BEGIN:VEVENT
DTSTART;TZID=Europe/London:20270308T100000
DTEND;TZID=Europe/London:20270308T113000
DTSTAMP:20260424T123654
CREATED:20240418T122320Z
LAST-MODIFIED:20240522T083209Z
UID:10003897-1804500000-1804505400@birkenhead-park.org.uk
SUMMARY:MamaFit Wirral
DESCRIPTION:Ready to get Mummy fit? \nJoin new Mamafit sessions every Monday and Tuesday at Birkenhead Park. \n  \nMums Social: Walk & Talk – Birkenhead Park\, Wirral \nMonday’s 10:00am – 11:30am launching 22nd April 2024. \nhttps://members.mamafituk.com/courses/313/info \nMamafit® Kettlebells – Birkenhead Park\, Wirral  \nTuesday’s 11:00am – 11:40am launching 23rd April 2024. \nhttps://members.mamafituk.com/courses/319/info
URL:https://birkenhead-park.org.uk/events/mamafit-wirral/2027-03-08/
LOCATION:Birkenhead Park Visitor Centre\, Park Drive\, Birkenhead\, CH41 4HY\, United Kingdom
CATEGORIES:Activities,Wellbeing
ATTACH;FMTTYPE=image/jpeg:https://birkenhead-park.org.uk/wp-content/uploads/mamafit-social.jpg
END:VEVENT
BEGIN:VEVENT
DTSTART;TZID=Europe/London:20270309T110000
DTEND;TZID=Europe/London:20270309T113000
DTSTAMP:20260424T123654
CREATED:20240521T151214Z
LAST-MODIFIED:20240522T131312Z
UID:10005105-1804590000-1804591800@birkenhead-park.org.uk
SUMMARY:MamaFit Wirral
DESCRIPTION:  \nReady to get Mummy fit? \nJoin new Mamafit sessions every Monday and Tuesday at Birkenhead Park. \nMums Social: Walk & Talk – Birkenhead Park\, Wirral \nMonday’s 10:00am – 11:30am launching 22nd April 2024. \nhttps://members.mamafituk.com/courses/313/info \nMamafit® Kettlebells – Birkenhead Park\, Wirral  \nTuesday’s 11:00am – 11:40am launching 23rd April 2024. \nhttps://members.mamafituk.com/courses/319/info
URL:https://birkenhead-park.org.uk/events/mamafit-wirral-2/2027-03-09/
LOCATION:Birkenhead Park Visitor Centre\, Park Drive\, Birkenhead\, CH41 4HY\, United Kingdom
CATEGORIES:Activities,Wellbeing
ATTACH;FMTTYPE=image/jpeg:https://birkenhead-park.org.uk/wp-content/uploads/mamafit-kettebelles-tue.jpg
END:VEVENT
BEGIN:VEVENT
DTSTART;TZID=Europe/London:20270315T100000
DTEND;TZID=Europe/London:20270315T113000
DTSTAMP:20260424T123654
CREATED:20240418T122320Z
LAST-MODIFIED:20240522T083209Z
UID:10003898-1805104800-1805110200@birkenhead-park.org.uk
SUMMARY:MamaFit Wirral
DESCRIPTION:Ready to get Mummy fit? \nJoin new Mamafit sessions every Monday and Tuesday at Birkenhead Park. \n  \nMums Social: Walk & Talk – Birkenhead Park\, Wirral \nMonday’s 10:00am – 11:30am launching 22nd April 2024. \nhttps://members.mamafituk.com/courses/313/info \nMamafit® Kettlebells – Birkenhead Park\, Wirral  \nTuesday’s 11:00am – 11:40am launching 23rd April 2024. \nhttps://members.mamafituk.com/courses/319/info
URL:https://birkenhead-park.org.uk/events/mamafit-wirral/2027-03-15/
LOCATION:Birkenhead Park Visitor Centre\, Park Drive\, Birkenhead\, CH41 4HY\, United Kingdom
CATEGORIES:Activities,Wellbeing
ATTACH;FMTTYPE=image/jpeg:https://birkenhead-park.org.uk/wp-content/uploads/mamafit-social.jpg
END:VEVENT
BEGIN:VEVENT
DTSTART;TZID=Europe/London:20270316T110000
DTEND;TZID=Europe/London:20270316T113000
DTSTAMP:20260424T123654
CREATED:20240521T151214Z
LAST-MODIFIED:20240522T131312Z
UID:10005106-1805194800-1805196600@birkenhead-park.org.uk
SUMMARY:MamaFit Wirral
DESCRIPTION:  \nReady to get Mummy fit? \nJoin new Mamafit sessions every Monday and Tuesday at Birkenhead Park. \nMums Social: Walk & Talk – Birkenhead Park\, Wirral \nMonday’s 10:00am – 11:30am launching 22nd April 2024. \nhttps://members.mamafituk.com/courses/313/info \nMamafit® Kettlebells – Birkenhead Park\, Wirral  \nTuesday’s 11:00am – 11:40am launching 23rd April 2024. \nhttps://members.mamafituk.com/courses/319/info
URL:https://birkenhead-park.org.uk/events/mamafit-wirral-2/2027-03-16/
LOCATION:Birkenhead Park Visitor Centre\, Park Drive\, Birkenhead\, CH41 4HY\, United Kingdom
CATEGORIES:Activities,Wellbeing
ATTACH;FMTTYPE=image/jpeg:https://birkenhead-park.org.uk/wp-content/uploads/mamafit-kettebelles-tue.jpg
END:VEVENT
BEGIN:VEVENT
DTSTART;TZID=Europe/London:20270322T100000
DTEND;TZID=Europe/London:20270322T113000
DTSTAMP:20260424T123654
CREATED:20240418T122320Z
LAST-MODIFIED:20240522T083209Z
UID:10003899-1805709600-1805715000@birkenhead-park.org.uk
SUMMARY:MamaFit Wirral
DESCRIPTION:Ready to get Mummy fit? \nJoin new Mamafit sessions every Monday and Tuesday at Birkenhead Park. \n  \nMums Social: Walk & Talk – Birkenhead Park\, Wirral \nMonday’s 10:00am – 11:30am launching 22nd April 2024. \nhttps://members.mamafituk.com/courses/313/info \nMamafit® Kettlebells – Birkenhead Park\, Wirral  \nTuesday’s 11:00am – 11:40am launching 23rd April 2024. \nhttps://members.mamafituk.com/courses/319/info
URL:https://birkenhead-park.org.uk/events/mamafit-wirral/2027-03-22/
LOCATION:Birkenhead Park Visitor Centre\, Park Drive\, Birkenhead\, CH41 4HY\, United Kingdom
CATEGORIES:Activities,Wellbeing
ATTACH;FMTTYPE=image/jpeg:https://birkenhead-park.org.uk/wp-content/uploads/mamafit-social.jpg
END:VEVENT
BEGIN:VEVENT
DTSTART;TZID=Europe/London:20270323T110000
DTEND;TZID=Europe/London:20270323T113000
DTSTAMP:20260424T123654
CREATED:20240521T151214Z
LAST-MODIFIED:20240522T131312Z
UID:10005107-1805799600-1805801400@birkenhead-park.org.uk
SUMMARY:MamaFit Wirral
DESCRIPTION:  \nReady to get Mummy fit? \nJoin new Mamafit sessions every Monday and Tuesday at Birkenhead Park. \nMums Social: Walk & Talk – Birkenhead Park\, Wirral \nMonday’s 10:00am – 11:30am launching 22nd April 2024. \nhttps://members.mamafituk.com/courses/313/info \nMamafit® Kettlebells – Birkenhead Park\, Wirral  \nTuesday’s 11:00am – 11:40am launching 23rd April 2024. \nhttps://members.mamafituk.com/courses/319/info
URL:https://birkenhead-park.org.uk/events/mamafit-wirral-2/2027-03-23/
LOCATION:Birkenhead Park Visitor Centre\, Park Drive\, Birkenhead\, CH41 4HY\, United Kingdom
CATEGORIES:Activities,Wellbeing
ATTACH;FMTTYPE=image/jpeg:https://birkenhead-park.org.uk/wp-content/uploads/mamafit-kettebelles-tue.jpg
END:VEVENT
BEGIN:VEVENT
DTSTART;TZID=Europe/London:20270329T100000
DTEND;TZID=Europe/London:20270329T113000
DTSTAMP:20260424T123654
CREATED:20240418T122320Z
LAST-MODIFIED:20240522T083209Z
UID:10003900-1806314400-1806319800@birkenhead-park.org.uk
SUMMARY:MamaFit Wirral
DESCRIPTION:Ready to get Mummy fit? \nJoin new Mamafit sessions every Monday and Tuesday at Birkenhead Park. \n  \nMums Social: Walk & Talk – Birkenhead Park\, Wirral \nMonday’s 10:00am – 11:30am launching 22nd April 2024. \nhttps://members.mamafituk.com/courses/313/info \nMamafit® Kettlebells – Birkenhead Park\, Wirral  \nTuesday’s 11:00am – 11:40am launching 23rd April 2024. \nhttps://members.mamafituk.com/courses/319/info
URL:https://birkenhead-park.org.uk/events/mamafit-wirral/2027-03-29/
LOCATION:Birkenhead Park Visitor Centre\, Park Drive\, Birkenhead\, CH41 4HY\, United Kingdom
CATEGORIES:Activities,Wellbeing
ATTACH;FMTTYPE=image/jpeg:https://birkenhead-park.org.uk/wp-content/uploads/mamafit-social.jpg
END:VEVENT
BEGIN:VEVENT
DTSTART;TZID=Europe/London:20270330T110000
DTEND;TZID=Europe/London:20270330T113000
DTSTAMP:20260424T123654
CREATED:20240521T151214Z
LAST-MODIFIED:20240522T131312Z
UID:10005108-1806404400-1806406200@birkenhead-park.org.uk
SUMMARY:MamaFit Wirral
DESCRIPTION:  \nReady to get Mummy fit? \nJoin new Mamafit sessions every Monday and Tuesday at Birkenhead Park. \nMums Social: Walk & Talk – Birkenhead Park\, Wirral \nMonday’s 10:00am – 11:30am launching 22nd April 2024. \nhttps://members.mamafituk.com/courses/313/info \nMamafit® Kettlebells – Birkenhead Park\, Wirral  \nTuesday’s 11:00am – 11:40am launching 23rd April 2024. \nhttps://members.mamafituk.com/courses/319/info
URL:https://birkenhead-park.org.uk/events/mamafit-wirral-2/2027-03-30/
LOCATION:Birkenhead Park Visitor Centre\, Park Drive\, Birkenhead\, CH41 4HY\, United Kingdom
CATEGORIES:Activities,Wellbeing
ATTACH;FMTTYPE=image/jpeg:https://birkenhead-park.org.uk/wp-content/uploads/mamafit-kettebelles-tue.jpg
END:VEVENT
END:VCALENDAR