BEGIN:VCALENDAR
VERSION:2.0
PRODID:-//Birkenhead Park - ECPv6.15.20//NONSGML v1.0//EN
CALSCALE:GREGORIAN
METHOD:PUBLISH
X-ORIGINAL-URL:https://birkenhead-park.org.uk
X-WR-CALDESC:Events for Birkenhead Park
REFRESH-INTERVAL;VALUE=DURATION:PT1H
X-Robots-Tag:noindex
X-PUBLISHED-TTL:PT1H
BEGIN:VTIMEZONE
TZID:Europe/London
BEGIN:DAYLIGHT
TZOFFSETFROM:+0000
TZOFFSETTO:+0100
TZNAME:BST
DTSTART:20250330T010000
END:DAYLIGHT
BEGIN:STANDARD
TZOFFSETFROM:+0100
TZOFFSETTO:+0000
TZNAME:GMT
DTSTART:20251026T010000
END:STANDARD
BEGIN:DAYLIGHT
TZOFFSETFROM:+0000
TZOFFSETTO:+0100
TZNAME:BST
DTSTART:20260329T010000
END:DAYLIGHT
BEGIN:STANDARD
TZOFFSETFROM:+0100
TZOFFSETTO:+0000
TZNAME:GMT
DTSTART:20261025T010000
END:STANDARD
BEGIN:DAYLIGHT
TZOFFSETFROM:+0000
TZOFFSETTO:+0100
TZNAME:BST
DTSTART:20270328T010000
END:DAYLIGHT
BEGIN:STANDARD
TZOFFSETFROM:+0100
TZOFFSETTO:+0000
TZNAME:GMT
DTSTART:20271031T010000
END:STANDARD
END:VTIMEZONE
BEGIN:VEVENT
DTSTART;TZID=Europe/London:20261102T100000
DTEND;TZID=Europe/London:20261102T113000
DTSTAMP:20260424T045227
CREATED:20240418T122320Z
LAST-MODIFIED:20240522T083209Z
UID:10003879-1793613600-1793619000@birkenhead-park.org.uk
SUMMARY:MamaFit Wirral
DESCRIPTION:Ready to get Mummy fit? \nJoin new Mamafit sessions every Monday and Tuesday at Birkenhead Park. \n  \nMums Social: Walk & Talk – Birkenhead Park\, Wirral \nMonday’s 10:00am – 11:30am launching 22nd April 2024. \nhttps://members.mamafituk.com/courses/313/info \nMamafit® Kettlebells – Birkenhead Park\, Wirral  \nTuesday’s 11:00am – 11:40am launching 23rd April 2024. \nhttps://members.mamafituk.com/courses/319/info
URL:https://birkenhead-park.org.uk/events/mamafit-wirral/2026-11-02/
LOCATION:Birkenhead Park Visitor Centre\, Park Drive\, Birkenhead\, CH41 4HY\, United Kingdom
CATEGORIES:Activities,Wellbeing
ATTACH;FMTTYPE=image/jpeg:https://birkenhead-park.org.uk/wp-content/uploads/mamafit-social.jpg
END:VEVENT
BEGIN:VEVENT
DTSTART;TZID=Europe/London:20261103T110000
DTEND;TZID=Europe/London:20261103T113000
DTSTAMP:20260424T045227
CREATED:20240521T151214Z
LAST-MODIFIED:20240522T131312Z
UID:10005087-1793703600-1793705400@birkenhead-park.org.uk
SUMMARY:MamaFit Wirral
DESCRIPTION:  \nReady to get Mummy fit? \nJoin new Mamafit sessions every Monday and Tuesday at Birkenhead Park. \nMums Social: Walk & Talk – Birkenhead Park\, Wirral \nMonday’s 10:00am – 11:30am launching 22nd April 2024. \nhttps://members.mamafituk.com/courses/313/info \nMamafit® Kettlebells – Birkenhead Park\, Wirral  \nTuesday’s 11:00am – 11:40am launching 23rd April 2024. \nhttps://members.mamafituk.com/courses/319/info
URL:https://birkenhead-park.org.uk/events/mamafit-wirral-2/2026-11-03/
LOCATION:Birkenhead Park Visitor Centre\, Park Drive\, Birkenhead\, CH41 4HY\, United Kingdom
CATEGORIES:Activities,Wellbeing
ATTACH;FMTTYPE=image/jpeg:https://birkenhead-park.org.uk/wp-content/uploads/mamafit-kettebelles-tue.jpg
END:VEVENT
BEGIN:VEVENT
DTSTART;TZID=Europe/London:20261109T100000
DTEND;TZID=Europe/London:20261109T113000
DTSTAMP:20260424T045227
CREATED:20240418T122320Z
LAST-MODIFIED:20240522T083209Z
UID:10003880-1794218400-1794223800@birkenhead-park.org.uk
SUMMARY:MamaFit Wirral
DESCRIPTION:Ready to get Mummy fit? \nJoin new Mamafit sessions every Monday and Tuesday at Birkenhead Park. \n  \nMums Social: Walk & Talk – Birkenhead Park\, Wirral \nMonday’s 10:00am – 11:30am launching 22nd April 2024. \nhttps://members.mamafituk.com/courses/313/info \nMamafit® Kettlebells – Birkenhead Park\, Wirral  \nTuesday’s 11:00am – 11:40am launching 23rd April 2024. \nhttps://members.mamafituk.com/courses/319/info
URL:https://birkenhead-park.org.uk/events/mamafit-wirral/2026-11-09/
LOCATION:Birkenhead Park Visitor Centre\, Park Drive\, Birkenhead\, CH41 4HY\, United Kingdom
CATEGORIES:Activities,Wellbeing
ATTACH;FMTTYPE=image/jpeg:https://birkenhead-park.org.uk/wp-content/uploads/mamafit-social.jpg
END:VEVENT
BEGIN:VEVENT
DTSTART;TZID=Europe/London:20261110T110000
DTEND;TZID=Europe/London:20261110T113000
DTSTAMP:20260424T045227
CREATED:20240521T151214Z
LAST-MODIFIED:20240522T131312Z
UID:10005088-1794308400-1794310200@birkenhead-park.org.uk
SUMMARY:MamaFit Wirral
DESCRIPTION:  \nReady to get Mummy fit? \nJoin new Mamafit sessions every Monday and Tuesday at Birkenhead Park. \nMums Social: Walk & Talk – Birkenhead Park\, Wirral \nMonday’s 10:00am – 11:30am launching 22nd April 2024. \nhttps://members.mamafituk.com/courses/313/info \nMamafit® Kettlebells – Birkenhead Park\, Wirral  \nTuesday’s 11:00am – 11:40am launching 23rd April 2024. \nhttps://members.mamafituk.com/courses/319/info
URL:https://birkenhead-park.org.uk/events/mamafit-wirral-2/2026-11-10/
LOCATION:Birkenhead Park Visitor Centre\, Park Drive\, Birkenhead\, CH41 4HY\, United Kingdom
CATEGORIES:Activities,Wellbeing
ATTACH;FMTTYPE=image/jpeg:https://birkenhead-park.org.uk/wp-content/uploads/mamafit-kettebelles-tue.jpg
END:VEVENT
BEGIN:VEVENT
DTSTART;TZID=Europe/London:20261116T100000
DTEND;TZID=Europe/London:20261116T113000
DTSTAMP:20260424T045227
CREATED:20240418T122320Z
LAST-MODIFIED:20240522T083209Z
UID:10003881-1794823200-1794828600@birkenhead-park.org.uk
SUMMARY:MamaFit Wirral
DESCRIPTION:Ready to get Mummy fit? \nJoin new Mamafit sessions every Monday and Tuesday at Birkenhead Park. \n  \nMums Social: Walk & Talk – Birkenhead Park\, Wirral \nMonday’s 10:00am – 11:30am launching 22nd April 2024. \nhttps://members.mamafituk.com/courses/313/info \nMamafit® Kettlebells – Birkenhead Park\, Wirral  \nTuesday’s 11:00am – 11:40am launching 23rd April 2024. \nhttps://members.mamafituk.com/courses/319/info
URL:https://birkenhead-park.org.uk/events/mamafit-wirral/2026-11-16/
LOCATION:Birkenhead Park Visitor Centre\, Park Drive\, Birkenhead\, CH41 4HY\, United Kingdom
CATEGORIES:Activities,Wellbeing
ATTACH;FMTTYPE=image/jpeg:https://birkenhead-park.org.uk/wp-content/uploads/mamafit-social.jpg
END:VEVENT
BEGIN:VEVENT
DTSTART;TZID=Europe/London:20261117T110000
DTEND;TZID=Europe/London:20261117T113000
DTSTAMP:20260424T045227
CREATED:20240521T151214Z
LAST-MODIFIED:20240522T131312Z
UID:10005089-1794913200-1794915000@birkenhead-park.org.uk
SUMMARY:MamaFit Wirral
DESCRIPTION:  \nReady to get Mummy fit? \nJoin new Mamafit sessions every Monday and Tuesday at Birkenhead Park. \nMums Social: Walk & Talk – Birkenhead Park\, Wirral \nMonday’s 10:00am – 11:30am launching 22nd April 2024. \nhttps://members.mamafituk.com/courses/313/info \nMamafit® Kettlebells – Birkenhead Park\, Wirral  \nTuesday’s 11:00am – 11:40am launching 23rd April 2024. \nhttps://members.mamafituk.com/courses/319/info
URL:https://birkenhead-park.org.uk/events/mamafit-wirral-2/2026-11-17/
LOCATION:Birkenhead Park Visitor Centre\, Park Drive\, Birkenhead\, CH41 4HY\, United Kingdom
CATEGORIES:Activities,Wellbeing
ATTACH;FMTTYPE=image/jpeg:https://birkenhead-park.org.uk/wp-content/uploads/mamafit-kettebelles-tue.jpg
END:VEVENT
BEGIN:VEVENT
DTSTART;TZID=Europe/London:20261123T100000
DTEND;TZID=Europe/London:20261123T113000
DTSTAMP:20260424T045227
CREATED:20240418T122320Z
LAST-MODIFIED:20240522T083209Z
UID:10003882-1795428000-1795433400@birkenhead-park.org.uk
SUMMARY:MamaFit Wirral
DESCRIPTION:Ready to get Mummy fit? \nJoin new Mamafit sessions every Monday and Tuesday at Birkenhead Park. \n  \nMums Social: Walk & Talk – Birkenhead Park\, Wirral \nMonday’s 10:00am – 11:30am launching 22nd April 2024. \nhttps://members.mamafituk.com/courses/313/info \nMamafit® Kettlebells – Birkenhead Park\, Wirral  \nTuesday’s 11:00am – 11:40am launching 23rd April 2024. \nhttps://members.mamafituk.com/courses/319/info
URL:https://birkenhead-park.org.uk/events/mamafit-wirral/2026-11-23/
LOCATION:Birkenhead Park Visitor Centre\, Park Drive\, Birkenhead\, CH41 4HY\, United Kingdom
CATEGORIES:Activities,Wellbeing
ATTACH;FMTTYPE=image/jpeg:https://birkenhead-park.org.uk/wp-content/uploads/mamafit-social.jpg
END:VEVENT
BEGIN:VEVENT
DTSTART;TZID=Europe/London:20261124T110000
DTEND;TZID=Europe/London:20261124T113000
DTSTAMP:20260424T045227
CREATED:20240521T151214Z
LAST-MODIFIED:20240522T131312Z
UID:10005090-1795518000-1795519800@birkenhead-park.org.uk
SUMMARY:MamaFit Wirral
DESCRIPTION:  \nReady to get Mummy fit? \nJoin new Mamafit sessions every Monday and Tuesday at Birkenhead Park. \nMums Social: Walk & Talk – Birkenhead Park\, Wirral \nMonday’s 10:00am – 11:30am launching 22nd April 2024. \nhttps://members.mamafituk.com/courses/313/info \nMamafit® Kettlebells – Birkenhead Park\, Wirral  \nTuesday’s 11:00am – 11:40am launching 23rd April 2024. \nhttps://members.mamafituk.com/courses/319/info
URL:https://birkenhead-park.org.uk/events/mamafit-wirral-2/2026-11-24/
LOCATION:Birkenhead Park Visitor Centre\, Park Drive\, Birkenhead\, CH41 4HY\, United Kingdom
CATEGORIES:Activities,Wellbeing
ATTACH;FMTTYPE=image/jpeg:https://birkenhead-park.org.uk/wp-content/uploads/mamafit-kettebelles-tue.jpg
END:VEVENT
BEGIN:VEVENT
DTSTART;TZID=Europe/London:20261130T100000
DTEND;TZID=Europe/London:20261130T113000
DTSTAMP:20260424T045227
CREATED:20240418T122320Z
LAST-MODIFIED:20240522T083209Z
UID:10003883-1796032800-1796038200@birkenhead-park.org.uk
SUMMARY:MamaFit Wirral
DESCRIPTION:Ready to get Mummy fit? \nJoin new Mamafit sessions every Monday and Tuesday at Birkenhead Park. \n  \nMums Social: Walk & Talk – Birkenhead Park\, Wirral \nMonday’s 10:00am – 11:30am launching 22nd April 2024. \nhttps://members.mamafituk.com/courses/313/info \nMamafit® Kettlebells – Birkenhead Park\, Wirral  \nTuesday’s 11:00am – 11:40am launching 23rd April 2024. \nhttps://members.mamafituk.com/courses/319/info
URL:https://birkenhead-park.org.uk/events/mamafit-wirral/2026-11-30/
LOCATION:Birkenhead Park Visitor Centre\, Park Drive\, Birkenhead\, CH41 4HY\, United Kingdom
CATEGORIES:Activities,Wellbeing
ATTACH;FMTTYPE=image/jpeg:https://birkenhead-park.org.uk/wp-content/uploads/mamafit-social.jpg
END:VEVENT
END:VCALENDAR