BEGIN:VCALENDAR
VERSION:2.0
PRODID:-//Birkenhead Park - ECPv6.15.20//NONSGML v1.0//EN
CALSCALE:GREGORIAN
METHOD:PUBLISH
X-WR-CALNAME:Birkenhead Park
X-ORIGINAL-URL:https://birkenhead-park.org.uk
X-WR-CALDESC:Events for Birkenhead Park
REFRESH-INTERVAL;VALUE=DURATION:PT1H
X-Robots-Tag:noindex
X-PUBLISHED-TTL:PT1H
BEGIN:VTIMEZONE
TZID:Europe/London
BEGIN:DAYLIGHT
TZOFFSETFROM:+0000
TZOFFSETTO:+0100
TZNAME:BST
DTSTART:20250330T010000
END:DAYLIGHT
BEGIN:STANDARD
TZOFFSETFROM:+0100
TZOFFSETTO:+0000
TZNAME:GMT
DTSTART:20251026T010000
END:STANDARD
BEGIN:DAYLIGHT
TZOFFSETFROM:+0000
TZOFFSETTO:+0100
TZNAME:BST
DTSTART:20260329T010000
END:DAYLIGHT
BEGIN:STANDARD
TZOFFSETFROM:+0100
TZOFFSETTO:+0000
TZNAME:GMT
DTSTART:20261025T010000
END:STANDARD
BEGIN:DAYLIGHT
TZOFFSETFROM:+0000
TZOFFSETTO:+0100
TZNAME:BST
DTSTART:20270328T010000
END:DAYLIGHT
BEGIN:STANDARD
TZOFFSETFROM:+0100
TZOFFSETTO:+0000
TZNAME:GMT
DTSTART:20271031T010000
END:STANDARD
END:VTIMEZONE
BEGIN:VEVENT
DTSTART;TZID=Europe/London:20260601T100000
DTEND;TZID=Europe/London:20260601T113000
DTSTAMP:20260423T194619
CREATED:20240418T122320Z
LAST-MODIFIED:20240522T083209Z
UID:10003857-1780308000-1780313400@birkenhead-park.org.uk
SUMMARY:MamaFit Wirral
DESCRIPTION:Ready to get Mummy fit? \nJoin new Mamafit sessions every Monday and Tuesday at Birkenhead Park. \n  \nMums Social: Walk & Talk – Birkenhead Park\, Wirral \nMonday’s 10:00am – 11:30am launching 22nd April 2024. \nhttps://members.mamafituk.com/courses/313/info \nMamafit® Kettlebells – Birkenhead Park\, Wirral  \nTuesday’s 11:00am – 11:40am launching 23rd April 2024. \nhttps://members.mamafituk.com/courses/319/info
URL:https://birkenhead-park.org.uk/events/mamafit-wirral/2026-06-01/
LOCATION:Birkenhead Park Visitor Centre\, Park Drive\, Birkenhead\, CH41 4HY\, United Kingdom
CATEGORIES:Activities,Wellbeing
ATTACH;FMTTYPE=image/jpeg:https://birkenhead-park.org.uk/wp-content/uploads/mamafit-social.jpg
END:VEVENT
BEGIN:VEVENT
DTSTART;TZID=Europe/London:20260602T110000
DTEND;TZID=Europe/London:20260602T113000
DTSTAMP:20260423T194619
CREATED:20240521T151214Z
LAST-MODIFIED:20240522T131312Z
UID:10005065-1780398000-1780399800@birkenhead-park.org.uk
SUMMARY:MamaFit Wirral
DESCRIPTION:  \nReady to get Mummy fit? \nJoin new Mamafit sessions every Monday and Tuesday at Birkenhead Park. \nMums Social: Walk & Talk – Birkenhead Park\, Wirral \nMonday’s 10:00am – 11:30am launching 22nd April 2024. \nhttps://members.mamafituk.com/courses/313/info \nMamafit® Kettlebells – Birkenhead Park\, Wirral  \nTuesday’s 11:00am – 11:40am launching 23rd April 2024. \nhttps://members.mamafituk.com/courses/319/info
URL:https://birkenhead-park.org.uk/events/mamafit-wirral-2/2026-06-02/
LOCATION:Birkenhead Park Visitor Centre\, Park Drive\, Birkenhead\, CH41 4HY\, United Kingdom
CATEGORIES:Activities,Wellbeing
ATTACH;FMTTYPE=image/jpeg:https://birkenhead-park.org.uk/wp-content/uploads/mamafit-kettebelles-tue.jpg
END:VEVENT
BEGIN:VEVENT
DTSTART;TZID=Europe/London:20260608T100000
DTEND;TZID=Europe/London:20260608T113000
DTSTAMP:20260423T194619
CREATED:20240418T122320Z
LAST-MODIFIED:20240522T083209Z
UID:10003858-1780912800-1780918200@birkenhead-park.org.uk
SUMMARY:MamaFit Wirral
DESCRIPTION:Ready to get Mummy fit? \nJoin new Mamafit sessions every Monday and Tuesday at Birkenhead Park. \n  \nMums Social: Walk & Talk – Birkenhead Park\, Wirral \nMonday’s 10:00am – 11:30am launching 22nd April 2024. \nhttps://members.mamafituk.com/courses/313/info \nMamafit® Kettlebells – Birkenhead Park\, Wirral  \nTuesday’s 11:00am – 11:40am launching 23rd April 2024. \nhttps://members.mamafituk.com/courses/319/info
URL:https://birkenhead-park.org.uk/events/mamafit-wirral/2026-06-08/
LOCATION:Birkenhead Park Visitor Centre\, Park Drive\, Birkenhead\, CH41 4HY\, United Kingdom
CATEGORIES:Activities,Wellbeing
ATTACH;FMTTYPE=image/jpeg:https://birkenhead-park.org.uk/wp-content/uploads/mamafit-social.jpg
END:VEVENT
BEGIN:VEVENT
DTSTART;TZID=Europe/London:20260609T110000
DTEND;TZID=Europe/London:20260609T113000
DTSTAMP:20260423T194619
CREATED:20240521T151214Z
LAST-MODIFIED:20240522T131312Z
UID:10005066-1781002800-1781004600@birkenhead-park.org.uk
SUMMARY:MamaFit Wirral
DESCRIPTION:  \nReady to get Mummy fit? \nJoin new Mamafit sessions every Monday and Tuesday at Birkenhead Park. \nMums Social: Walk & Talk – Birkenhead Park\, Wirral \nMonday’s 10:00am – 11:30am launching 22nd April 2024. \nhttps://members.mamafituk.com/courses/313/info \nMamafit® Kettlebells – Birkenhead Park\, Wirral  \nTuesday’s 11:00am – 11:40am launching 23rd April 2024. \nhttps://members.mamafituk.com/courses/319/info
URL:https://birkenhead-park.org.uk/events/mamafit-wirral-2/2026-06-09/
LOCATION:Birkenhead Park Visitor Centre\, Park Drive\, Birkenhead\, CH41 4HY\, United Kingdom
CATEGORIES:Activities,Wellbeing
ATTACH;FMTTYPE=image/jpeg:https://birkenhead-park.org.uk/wp-content/uploads/mamafit-kettebelles-tue.jpg
END:VEVENT
BEGIN:VEVENT
DTSTART;TZID=Europe/London:20260615T100000
DTEND;TZID=Europe/London:20260615T113000
DTSTAMP:20260423T194619
CREATED:20240418T122320Z
LAST-MODIFIED:20240522T083209Z
UID:10003859-1781517600-1781523000@birkenhead-park.org.uk
SUMMARY:MamaFit Wirral
DESCRIPTION:Ready to get Mummy fit? \nJoin new Mamafit sessions every Monday and Tuesday at Birkenhead Park. \n  \nMums Social: Walk & Talk – Birkenhead Park\, Wirral \nMonday’s 10:00am – 11:30am launching 22nd April 2024. \nhttps://members.mamafituk.com/courses/313/info \nMamafit® Kettlebells – Birkenhead Park\, Wirral  \nTuesday’s 11:00am – 11:40am launching 23rd April 2024. \nhttps://members.mamafituk.com/courses/319/info
URL:https://birkenhead-park.org.uk/events/mamafit-wirral/2026-06-15/
LOCATION:Birkenhead Park Visitor Centre\, Park Drive\, Birkenhead\, CH41 4HY\, United Kingdom
CATEGORIES:Activities,Wellbeing
ATTACH;FMTTYPE=image/jpeg:https://birkenhead-park.org.uk/wp-content/uploads/mamafit-social.jpg
END:VEVENT
BEGIN:VEVENT
DTSTART;TZID=Europe/London:20260616T110000
DTEND;TZID=Europe/London:20260616T113000
DTSTAMP:20260423T194619
CREATED:20240521T151214Z
LAST-MODIFIED:20240522T131312Z
UID:10005067-1781607600-1781609400@birkenhead-park.org.uk
SUMMARY:MamaFit Wirral
DESCRIPTION:  \nReady to get Mummy fit? \nJoin new Mamafit sessions every Monday and Tuesday at Birkenhead Park. \nMums Social: Walk & Talk – Birkenhead Park\, Wirral \nMonday’s 10:00am – 11:30am launching 22nd April 2024. \nhttps://members.mamafituk.com/courses/313/info \nMamafit® Kettlebells – Birkenhead Park\, Wirral  \nTuesday’s 11:00am – 11:40am launching 23rd April 2024. \nhttps://members.mamafituk.com/courses/319/info
URL:https://birkenhead-park.org.uk/events/mamafit-wirral-2/2026-06-16/
LOCATION:Birkenhead Park Visitor Centre\, Park Drive\, Birkenhead\, CH41 4HY\, United Kingdom
CATEGORIES:Activities,Wellbeing
ATTACH;FMTTYPE=image/jpeg:https://birkenhead-park.org.uk/wp-content/uploads/mamafit-kettebelles-tue.jpg
END:VEVENT
BEGIN:VEVENT
DTSTART;TZID=Europe/London:20260622T100000
DTEND;TZID=Europe/London:20260622T113000
DTSTAMP:20260423T194619
CREATED:20240418T122320Z
LAST-MODIFIED:20240522T083209Z
UID:10003860-1782122400-1782127800@birkenhead-park.org.uk
SUMMARY:MamaFit Wirral
DESCRIPTION:Ready to get Mummy fit? \nJoin new Mamafit sessions every Monday and Tuesday at Birkenhead Park. \n  \nMums Social: Walk & Talk – Birkenhead Park\, Wirral \nMonday’s 10:00am – 11:30am launching 22nd April 2024. \nhttps://members.mamafituk.com/courses/313/info \nMamafit® Kettlebells – Birkenhead Park\, Wirral  \nTuesday’s 11:00am – 11:40am launching 23rd April 2024. \nhttps://members.mamafituk.com/courses/319/info
URL:https://birkenhead-park.org.uk/events/mamafit-wirral/2026-06-22/
LOCATION:Birkenhead Park Visitor Centre\, Park Drive\, Birkenhead\, CH41 4HY\, United Kingdom
CATEGORIES:Activities,Wellbeing
ATTACH;FMTTYPE=image/jpeg:https://birkenhead-park.org.uk/wp-content/uploads/mamafit-social.jpg
END:VEVENT
BEGIN:VEVENT
DTSTART;TZID=Europe/London:20260623T110000
DTEND;TZID=Europe/London:20260623T113000
DTSTAMP:20260423T194619
CREATED:20240521T151214Z
LAST-MODIFIED:20240522T131312Z
UID:10005068-1782212400-1782214200@birkenhead-park.org.uk
SUMMARY:MamaFit Wirral
DESCRIPTION:  \nReady to get Mummy fit? \nJoin new Mamafit sessions every Monday and Tuesday at Birkenhead Park. \nMums Social: Walk & Talk – Birkenhead Park\, Wirral \nMonday’s 10:00am – 11:30am launching 22nd April 2024. \nhttps://members.mamafituk.com/courses/313/info \nMamafit® Kettlebells – Birkenhead Park\, Wirral  \nTuesday’s 11:00am – 11:40am launching 23rd April 2024. \nhttps://members.mamafituk.com/courses/319/info
URL:https://birkenhead-park.org.uk/events/mamafit-wirral-2/2026-06-23/
LOCATION:Birkenhead Park Visitor Centre\, Park Drive\, Birkenhead\, CH41 4HY\, United Kingdom
CATEGORIES:Activities,Wellbeing
ATTACH;FMTTYPE=image/jpeg:https://birkenhead-park.org.uk/wp-content/uploads/mamafit-kettebelles-tue.jpg
END:VEVENT
BEGIN:VEVENT
DTSTART;TZID=Europe/London:20260629T100000
DTEND;TZID=Europe/London:20260629T113000
DTSTAMP:20260423T194619
CREATED:20240418T122320Z
LAST-MODIFIED:20240522T083209Z
UID:10003861-1782727200-1782732600@birkenhead-park.org.uk
SUMMARY:MamaFit Wirral
DESCRIPTION:Ready to get Mummy fit? \nJoin new Mamafit sessions every Monday and Tuesday at Birkenhead Park. \n  \nMums Social: Walk & Talk – Birkenhead Park\, Wirral \nMonday’s 10:00am – 11:30am launching 22nd April 2024. \nhttps://members.mamafituk.com/courses/313/info \nMamafit® Kettlebells – Birkenhead Park\, Wirral  \nTuesday’s 11:00am – 11:40am launching 23rd April 2024. \nhttps://members.mamafituk.com/courses/319/info
URL:https://birkenhead-park.org.uk/events/mamafit-wirral/2026-06-29/
LOCATION:Birkenhead Park Visitor Centre\, Park Drive\, Birkenhead\, CH41 4HY\, United Kingdom
CATEGORIES:Activities,Wellbeing
ATTACH;FMTTYPE=image/jpeg:https://birkenhead-park.org.uk/wp-content/uploads/mamafit-social.jpg
END:VEVENT
BEGIN:VEVENT
DTSTART;TZID=Europe/London:20260630T110000
DTEND;TZID=Europe/London:20260630T113000
DTSTAMP:20260423T194619
CREATED:20240521T151214Z
LAST-MODIFIED:20240522T131312Z
UID:10005069-1782817200-1782819000@birkenhead-park.org.uk
SUMMARY:MamaFit Wirral
DESCRIPTION:  \nReady to get Mummy fit? \nJoin new Mamafit sessions every Monday and Tuesday at Birkenhead Park. \nMums Social: Walk & Talk – Birkenhead Park\, Wirral \nMonday’s 10:00am – 11:30am launching 22nd April 2024. \nhttps://members.mamafituk.com/courses/313/info \nMamafit® Kettlebells – Birkenhead Park\, Wirral  \nTuesday’s 11:00am – 11:40am launching 23rd April 2024. \nhttps://members.mamafituk.com/courses/319/info
URL:https://birkenhead-park.org.uk/events/mamafit-wirral-2/2026-06-30/
LOCATION:Birkenhead Park Visitor Centre\, Park Drive\, Birkenhead\, CH41 4HY\, United Kingdom
CATEGORIES:Activities,Wellbeing
ATTACH;FMTTYPE=image/jpeg:https://birkenhead-park.org.uk/wp-content/uploads/mamafit-kettebelles-tue.jpg
END:VEVENT
END:VCALENDAR