BEGIN:VCALENDAR
VERSION:2.0
PRODID:-//Birkenhead Park - ECPv6.15.20//NONSGML v1.0//EN
CALSCALE:GREGORIAN
METHOD:PUBLISH
X-WR-CALNAME:Birkenhead Park
X-ORIGINAL-URL:https://birkenhead-park.org.uk
X-WR-CALDESC:Events for Birkenhead Park
REFRESH-INTERVAL;VALUE=DURATION:PT1H
X-Robots-Tag:noindex
X-PUBLISHED-TTL:PT1H
BEGIN:VTIMEZONE
TZID:Europe/London
BEGIN:DAYLIGHT
TZOFFSETFROM:+0000
TZOFFSETTO:+0100
TZNAME:BST
DTSTART:20250330T010000
END:DAYLIGHT
BEGIN:STANDARD
TZOFFSETFROM:+0100
TZOFFSETTO:+0000
TZNAME:GMT
DTSTART:20251026T010000
END:STANDARD
BEGIN:DAYLIGHT
TZOFFSETFROM:+0000
TZOFFSETTO:+0100
TZNAME:BST
DTSTART:20260329T010000
END:DAYLIGHT
BEGIN:STANDARD
TZOFFSETFROM:+0100
TZOFFSETTO:+0000
TZNAME:GMT
DTSTART:20261025T010000
END:STANDARD
BEGIN:DAYLIGHT
TZOFFSETFROM:+0000
TZOFFSETTO:+0100
TZNAME:BST
DTSTART:20270328T010000
END:DAYLIGHT
BEGIN:STANDARD
TZOFFSETFROM:+0100
TZOFFSETTO:+0000
TZNAME:GMT
DTSTART:20271031T010000
END:STANDARD
END:VTIMEZONE
BEGIN:VEVENT
DTSTART;TZID=Europe/London:20260302T100000
DTEND;TZID=Europe/London:20260302T113000
DTSTAMP:20260423T184510
CREATED:20240418T122320Z
LAST-MODIFIED:20240522T083209Z
UID:10003844-1772445600-1772451000@birkenhead-park.org.uk
SUMMARY:MamaFit Wirral
DESCRIPTION:Ready to get Mummy fit? \nJoin new Mamafit sessions every Monday and Tuesday at Birkenhead Park. \n  \nMums Social: Walk & Talk – Birkenhead Park\, Wirral \nMonday’s 10:00am – 11:30am launching 22nd April 2024. \nhttps://members.mamafituk.com/courses/313/info \nMamafit® Kettlebells – Birkenhead Park\, Wirral  \nTuesday’s 11:00am – 11:40am launching 23rd April 2024. \nhttps://members.mamafituk.com/courses/319/info
URL:https://birkenhead-park.org.uk/events/mamafit-wirral/2026-03-02/
LOCATION:Birkenhead Park Visitor Centre\, Park Drive\, Birkenhead\, CH41 4HY\, United Kingdom
CATEGORIES:Activities,Wellbeing
ATTACH;FMTTYPE=image/jpeg:https://birkenhead-park.org.uk/wp-content/uploads/mamafit-social.jpg
END:VEVENT
BEGIN:VEVENT
DTSTART;TZID=Europe/London:20260303T110000
DTEND;TZID=Europe/London:20260303T113000
DTSTAMP:20260423T184510
CREATED:20240521T151214Z
LAST-MODIFIED:20240522T131312Z
UID:10005052-1772535600-1772537400@birkenhead-park.org.uk
SUMMARY:MamaFit Wirral
DESCRIPTION:  \nReady to get Mummy fit? \nJoin new Mamafit sessions every Monday and Tuesday at Birkenhead Park. \nMums Social: Walk & Talk – Birkenhead Park\, Wirral \nMonday’s 10:00am – 11:30am launching 22nd April 2024. \nhttps://members.mamafituk.com/courses/313/info \nMamafit® Kettlebells – Birkenhead Park\, Wirral  \nTuesday’s 11:00am – 11:40am launching 23rd April 2024. \nhttps://members.mamafituk.com/courses/319/info
URL:https://birkenhead-park.org.uk/events/mamafit-wirral-2/2026-03-03/
LOCATION:Birkenhead Park Visitor Centre\, Park Drive\, Birkenhead\, CH41 4HY\, United Kingdom
CATEGORIES:Activities,Wellbeing
ATTACH;FMTTYPE=image/jpeg:https://birkenhead-park.org.uk/wp-content/uploads/mamafit-kettebelles-tue.jpg
END:VEVENT
BEGIN:VEVENT
DTSTART;TZID=Europe/London:20260309T100000
DTEND;TZID=Europe/London:20260309T113000
DTSTAMP:20260423T184510
CREATED:20240418T122320Z
LAST-MODIFIED:20240522T083209Z
UID:10003845-1773050400-1773055800@birkenhead-park.org.uk
SUMMARY:MamaFit Wirral
DESCRIPTION:Ready to get Mummy fit? \nJoin new Mamafit sessions every Monday and Tuesday at Birkenhead Park. \n  \nMums Social: Walk & Talk – Birkenhead Park\, Wirral \nMonday’s 10:00am – 11:30am launching 22nd April 2024. \nhttps://members.mamafituk.com/courses/313/info \nMamafit® Kettlebells – Birkenhead Park\, Wirral  \nTuesday’s 11:00am – 11:40am launching 23rd April 2024. \nhttps://members.mamafituk.com/courses/319/info
URL:https://birkenhead-park.org.uk/events/mamafit-wirral/2026-03-09/
LOCATION:Birkenhead Park Visitor Centre\, Park Drive\, Birkenhead\, CH41 4HY\, United Kingdom
CATEGORIES:Activities,Wellbeing
ATTACH;FMTTYPE=image/jpeg:https://birkenhead-park.org.uk/wp-content/uploads/mamafit-social.jpg
END:VEVENT
BEGIN:VEVENT
DTSTART;TZID=Europe/London:20260310T110000
DTEND;TZID=Europe/London:20260310T113000
DTSTAMP:20260423T184510
CREATED:20240521T151214Z
LAST-MODIFIED:20240522T131312Z
UID:10005053-1773140400-1773142200@birkenhead-park.org.uk
SUMMARY:MamaFit Wirral
DESCRIPTION:  \nReady to get Mummy fit? \nJoin new Mamafit sessions every Monday and Tuesday at Birkenhead Park. \nMums Social: Walk & Talk – Birkenhead Park\, Wirral \nMonday’s 10:00am – 11:30am launching 22nd April 2024. \nhttps://members.mamafituk.com/courses/313/info \nMamafit® Kettlebells – Birkenhead Park\, Wirral  \nTuesday’s 11:00am – 11:40am launching 23rd April 2024. \nhttps://members.mamafituk.com/courses/319/info
URL:https://birkenhead-park.org.uk/events/mamafit-wirral-2/2026-03-10/
LOCATION:Birkenhead Park Visitor Centre\, Park Drive\, Birkenhead\, CH41 4HY\, United Kingdom
CATEGORIES:Activities,Wellbeing
ATTACH;FMTTYPE=image/jpeg:https://birkenhead-park.org.uk/wp-content/uploads/mamafit-kettebelles-tue.jpg
END:VEVENT
BEGIN:VEVENT
DTSTART;TZID=Europe/London:20260316T100000
DTEND;TZID=Europe/London:20260316T113000
DTSTAMP:20260423T184510
CREATED:20240418T122320Z
LAST-MODIFIED:20240522T083209Z
UID:10003846-1773655200-1773660600@birkenhead-park.org.uk
SUMMARY:MamaFit Wirral
DESCRIPTION:Ready to get Mummy fit? \nJoin new Mamafit sessions every Monday and Tuesday at Birkenhead Park. \n  \nMums Social: Walk & Talk – Birkenhead Park\, Wirral \nMonday’s 10:00am – 11:30am launching 22nd April 2024. \nhttps://members.mamafituk.com/courses/313/info \nMamafit® Kettlebells – Birkenhead Park\, Wirral  \nTuesday’s 11:00am – 11:40am launching 23rd April 2024. \nhttps://members.mamafituk.com/courses/319/info
URL:https://birkenhead-park.org.uk/events/mamafit-wirral/2026-03-16/
LOCATION:Birkenhead Park Visitor Centre\, Park Drive\, Birkenhead\, CH41 4HY\, United Kingdom
CATEGORIES:Activities,Wellbeing
ATTACH;FMTTYPE=image/jpeg:https://birkenhead-park.org.uk/wp-content/uploads/mamafit-social.jpg
END:VEVENT
BEGIN:VEVENT
DTSTART;TZID=Europe/London:20260317T110000
DTEND;TZID=Europe/London:20260317T113000
DTSTAMP:20260423T184510
CREATED:20240521T151214Z
LAST-MODIFIED:20240522T131312Z
UID:10005054-1773745200-1773747000@birkenhead-park.org.uk
SUMMARY:MamaFit Wirral
DESCRIPTION:  \nReady to get Mummy fit? \nJoin new Mamafit sessions every Monday and Tuesday at Birkenhead Park. \nMums Social: Walk & Talk – Birkenhead Park\, Wirral \nMonday’s 10:00am – 11:30am launching 22nd April 2024. \nhttps://members.mamafituk.com/courses/313/info \nMamafit® Kettlebells – Birkenhead Park\, Wirral  \nTuesday’s 11:00am – 11:40am launching 23rd April 2024. \nhttps://members.mamafituk.com/courses/319/info
URL:https://birkenhead-park.org.uk/events/mamafit-wirral-2/2026-03-17/
LOCATION:Birkenhead Park Visitor Centre\, Park Drive\, Birkenhead\, CH41 4HY\, United Kingdom
CATEGORIES:Activities,Wellbeing
ATTACH;FMTTYPE=image/jpeg:https://birkenhead-park.org.uk/wp-content/uploads/mamafit-kettebelles-tue.jpg
END:VEVENT
BEGIN:VEVENT
DTSTART;TZID=Europe/London:20260323T100000
DTEND;TZID=Europe/London:20260323T113000
DTSTAMP:20260423T184510
CREATED:20240418T122320Z
LAST-MODIFIED:20240522T083209Z
UID:10003847-1774260000-1774265400@birkenhead-park.org.uk
SUMMARY:MamaFit Wirral
DESCRIPTION:Ready to get Mummy fit? \nJoin new Mamafit sessions every Monday and Tuesday at Birkenhead Park. \n  \nMums Social: Walk & Talk – Birkenhead Park\, Wirral \nMonday’s 10:00am – 11:30am launching 22nd April 2024. \nhttps://members.mamafituk.com/courses/313/info \nMamafit® Kettlebells – Birkenhead Park\, Wirral  \nTuesday’s 11:00am – 11:40am launching 23rd April 2024. \nhttps://members.mamafituk.com/courses/319/info
URL:https://birkenhead-park.org.uk/events/mamafit-wirral/2026-03-23/
LOCATION:Birkenhead Park Visitor Centre\, Park Drive\, Birkenhead\, CH41 4HY\, United Kingdom
CATEGORIES:Activities,Wellbeing
ATTACH;FMTTYPE=image/jpeg:https://birkenhead-park.org.uk/wp-content/uploads/mamafit-social.jpg
END:VEVENT
BEGIN:VEVENT
DTSTART;TZID=Europe/London:20260324T110000
DTEND;TZID=Europe/London:20260324T113000
DTSTAMP:20260423T184510
CREATED:20240521T151214Z
LAST-MODIFIED:20240522T131312Z
UID:10005055-1774350000-1774351800@birkenhead-park.org.uk
SUMMARY:MamaFit Wirral
DESCRIPTION:  \nReady to get Mummy fit? \nJoin new Mamafit sessions every Monday and Tuesday at Birkenhead Park. \nMums Social: Walk & Talk – Birkenhead Park\, Wirral \nMonday’s 10:00am – 11:30am launching 22nd April 2024. \nhttps://members.mamafituk.com/courses/313/info \nMamafit® Kettlebells – Birkenhead Park\, Wirral  \nTuesday’s 11:00am – 11:40am launching 23rd April 2024. \nhttps://members.mamafituk.com/courses/319/info
URL:https://birkenhead-park.org.uk/events/mamafit-wirral-2/2026-03-24/
LOCATION:Birkenhead Park Visitor Centre\, Park Drive\, Birkenhead\, CH41 4HY\, United Kingdom
CATEGORIES:Activities,Wellbeing
ATTACH;FMTTYPE=image/jpeg:https://birkenhead-park.org.uk/wp-content/uploads/mamafit-kettebelles-tue.jpg
END:VEVENT
BEGIN:VEVENT
DTSTART;TZID=Europe/London:20260330T100000
DTEND;TZID=Europe/London:20260330T113000
DTSTAMP:20260423T184510
CREATED:20240418T122320Z
LAST-MODIFIED:20240522T083209Z
UID:10003848-1774864800-1774870200@birkenhead-park.org.uk
SUMMARY:MamaFit Wirral
DESCRIPTION:Ready to get Mummy fit? \nJoin new Mamafit sessions every Monday and Tuesday at Birkenhead Park. \n  \nMums Social: Walk & Talk – Birkenhead Park\, Wirral \nMonday’s 10:00am – 11:30am launching 22nd April 2024. \nhttps://members.mamafituk.com/courses/313/info \nMamafit® Kettlebells – Birkenhead Park\, Wirral  \nTuesday’s 11:00am – 11:40am launching 23rd April 2024. \nhttps://members.mamafituk.com/courses/319/info
URL:https://birkenhead-park.org.uk/events/mamafit-wirral/2026-03-30/
LOCATION:Birkenhead Park Visitor Centre\, Park Drive\, Birkenhead\, CH41 4HY\, United Kingdom
CATEGORIES:Activities,Wellbeing
ATTACH;FMTTYPE=image/jpeg:https://birkenhead-park.org.uk/wp-content/uploads/mamafit-social.jpg
END:VEVENT
BEGIN:VEVENT
DTSTART;TZID=Europe/London:20260331T110000
DTEND;TZID=Europe/London:20260331T113000
DTSTAMP:20260423T184510
CREATED:20240521T151214Z
LAST-MODIFIED:20240522T131312Z
UID:10005056-1774954800-1774956600@birkenhead-park.org.uk
SUMMARY:MamaFit Wirral
DESCRIPTION:  \nReady to get Mummy fit? \nJoin new Mamafit sessions every Monday and Tuesday at Birkenhead Park. \nMums Social: Walk & Talk – Birkenhead Park\, Wirral \nMonday’s 10:00am – 11:30am launching 22nd April 2024. \nhttps://members.mamafituk.com/courses/313/info \nMamafit® Kettlebells – Birkenhead Park\, Wirral  \nTuesday’s 11:00am – 11:40am launching 23rd April 2024. \nhttps://members.mamafituk.com/courses/319/info
URL:https://birkenhead-park.org.uk/events/mamafit-wirral-2/2026-03-31/
LOCATION:Birkenhead Park Visitor Centre\, Park Drive\, Birkenhead\, CH41 4HY\, United Kingdom
CATEGORIES:Activities,Wellbeing
ATTACH;FMTTYPE=image/jpeg:https://birkenhead-park.org.uk/wp-content/uploads/mamafit-kettebelles-tue.jpg
END:VEVENT
END:VCALENDAR