BEGIN:VCALENDAR
VERSION:2.0
PRODID:-//Birkenhead Park - ECPv6.15.20//NONSGML v1.0//EN
CALSCALE:GREGORIAN
METHOD:PUBLISH
X-WR-CALNAME:Birkenhead Park
X-ORIGINAL-URL:https://birkenhead-park.org.uk
X-WR-CALDESC:Events for Birkenhead Park
REFRESH-INTERVAL;VALUE=DURATION:PT1H
X-Robots-Tag:noindex
X-PUBLISHED-TTL:PT1H
BEGIN:VTIMEZONE
TZID:Europe/London
BEGIN:DAYLIGHT
TZOFFSETFROM:+0000
TZOFFSETTO:+0100
TZNAME:BST
DTSTART:20260329T010000
END:DAYLIGHT
BEGIN:STANDARD
TZOFFSETFROM:+0100
TZOFFSETTO:+0000
TZNAME:GMT
DTSTART:20261025T010000
END:STANDARD
BEGIN:DAYLIGHT
TZOFFSETFROM:+0000
TZOFFSETTO:+0100
TZNAME:BST
DTSTART:20270328T010000
END:DAYLIGHT
BEGIN:STANDARD
TZOFFSETFROM:+0100
TZOFFSETTO:+0000
TZNAME:GMT
DTSTART:20271031T010000
END:STANDARD
BEGIN:DAYLIGHT
TZOFFSETFROM:+0000
TZOFFSETTO:+0100
TZNAME:BST
DTSTART:20280326T010000
END:DAYLIGHT
BEGIN:STANDARD
TZOFFSETFROM:+0100
TZOFFSETTO:+0000
TZNAME:GMT
DTSTART:20281029T010000
END:STANDARD
END:VTIMEZONE
BEGIN:VEVENT
DTSTART;TZID=Europe/London:20270201T100000
DTEND;TZID=Europe/London:20270201T113000
DTSTAMP:20260425T223905
CREATED:20240418T122320Z
LAST-MODIFIED:20240522T083209Z
UID:10003892-1801476000-1801481400@birkenhead-park.org.uk
SUMMARY:MamaFit Wirral
DESCRIPTION:Ready to get Mummy fit? \nJoin new Mamafit sessions every Monday and Tuesday at Birkenhead Park. \n  \nMums Social: Walk & Talk – Birkenhead Park\, Wirral \nMonday’s 10:00am – 11:30am launching 22nd April 2024. \nhttps://members.mamafituk.com/courses/313/info \nMamafit® Kettlebells – Birkenhead Park\, Wirral  \nTuesday’s 11:00am – 11:40am launching 23rd April 2024. \nhttps://members.mamafituk.com/courses/319/info
URL:https://birkenhead-park.org.uk/events/mamafit-wirral/2027-02-01/
LOCATION:Birkenhead Park Visitor Centre\, Park Drive\, Birkenhead\, CH41 4HY\, United Kingdom
CATEGORIES:Activities,Wellbeing
ATTACH;FMTTYPE=image/jpeg:https://birkenhead-park.org.uk/wp-content/uploads/mamafit-social.jpg
END:VEVENT
BEGIN:VEVENT
DTSTART;TZID=Europe/London:20270201T110000
DTEND;TZID=Europe/London:20270201T120000
DTSTAMP:20260425T223905
CREATED:20240512T152303Z
LAST-MODIFIED:20240521T130028Z
UID:10004458-1801479600-1801483200@birkenhead-park.org.uk
SUMMARY:Wellbeing walk
DESCRIPTION:Three times a week\, join one our wellbeing walks run by health walk leaders. Meet just outside the Visitor Centre. All abilities welcome!
URL:https://birkenhead-park.org.uk/events/wellbeing-walk/2027-02-01/
LOCATION:Birkenhead Park Visitor Centre\, Park Drive\, Birkenhead\, CH41 4HY\, United Kingdom
CATEGORIES:Activities
ATTACH;FMTTYPE=image/jpeg:https://birkenhead-park.org.uk/wp-content/uploads/DSC_0728-Edit-e1639660087561.jpg
END:VEVENT
BEGIN:VEVENT
DTSTART;TZID=Europe/London:20270202T110000
DTEND;TZID=Europe/London:20270202T113000
DTSTAMP:20260425T223905
CREATED:20240521T151214Z
LAST-MODIFIED:20240522T131312Z
UID:10005100-1801566000-1801567800@birkenhead-park.org.uk
SUMMARY:MamaFit Wirral
DESCRIPTION:  \nReady to get Mummy fit? \nJoin new Mamafit sessions every Monday and Tuesday at Birkenhead Park. \nMums Social: Walk & Talk – Birkenhead Park\, Wirral \nMonday’s 10:00am – 11:30am launching 22nd April 2024. \nhttps://members.mamafituk.com/courses/313/info \nMamafit® Kettlebells – Birkenhead Park\, Wirral  \nTuesday’s 11:00am – 11:40am launching 23rd April 2024. \nhttps://members.mamafituk.com/courses/319/info
URL:https://birkenhead-park.org.uk/events/mamafit-wirral-2/2027-02-02/
LOCATION:Birkenhead Park Visitor Centre\, Park Drive\, Birkenhead\, CH41 4HY\, United Kingdom
CATEGORIES:Activities,Wellbeing
ATTACH;FMTTYPE=image/jpeg:https://birkenhead-park.org.uk/wp-content/uploads/mamafit-kettebelles-tue.jpg
END:VEVENT
BEGIN:VEVENT
DTSTART;TZID=Europe/London:20270206T090000
DTEND;TZID=Europe/London:20270206T100000
DTSTAMP:20260425T223905
CREATED:20240614T105808Z
LAST-MODIFIED:20240830T130257Z
UID:10005522-1801904400-1801908000@birkenhead-park.org.uk
SUMMARY:Park Run
DESCRIPTION:What is Birkenhead parkrun?\nA free\, fun\, and friendly weekly 5k community event. Walk\, jog\, run\, volunteer or spectate – it’s up to you! \nWhen is it?\nEvery Saturday at 9:00am. \nWhere is it?\nThe event takes place at Birkenhead Park\, Park Road West\, Claughton\, Wirral\, CH41 0EZ. \n 
URL:https://birkenhead-park.org.uk/events/park-run/2027-02-06/
LOCATION:Birkenhead Park\, Park Dr\, Birkenhead\, Birkenhead\, CH41 4HY
CATEGORIES:Activities,Wellbeing
ATTACH;FMTTYPE=image/jpeg:https://birkenhead-park.org.uk/wp-content/uploads/37126517242_b44563043c_z.jpg
ORGANIZER;CN="Birkenhead Park Park Run":MAILTO:birkenhead@parkrun.com
END:VEVENT
BEGIN:VEVENT
DTSTART;TZID=Europe/London:20270206T094500
DTEND;TZID=Europe/London:20270206T104500
DTSTAMP:20260425T223905
CREATED:20240614T110750Z
LAST-MODIFIED:20240830T130354Z
UID:10005783-1801907100-1801910700@birkenhead-park.org.uk
SUMMARY:Run in Wirral
DESCRIPTION:Run in Wirral is a very socialable and friendly running group who cater for all abilities from Absolute Beginners (Couch to 5 K) to people who are training for 5K’s\, 10K’s\, Half Marathons and Marathons.  We have lots of amazing run leaders who will support you what ever your ability and what ever you want to achieve. \nWe charge £2 per run or if you have an Invigor8 membership then it’s FREE.  If you wish to book on our runs then please phone 606 2010 or go to www.activewirral.com/leisurehub You will need to register your details at any of our leisure centres in order to use the app but once you have done this then it’s really easy.  Any problems then please ring me – Fiona Hanik 0777 967 4718
URL:https://birkenhead-park.org.uk/events/run-in-wirral/2027-02-06/
LOCATION:Birkenhead Park\, Park Dr\, Birkenhead\, Birkenhead\, CH41 4HY
CATEGORIES:Activities,Wellbeing
ATTACH;FMTTYPE=image/jpeg:https://birkenhead-park.org.uk/wp-content/uploads/Park-Run.jpg
ORGANIZER;CN="Run In Wirral":MAILTO:fionahanik@wirral.gov.uk
END:VEVENT
BEGIN:VEVENT
DTSTART;TZID=Europe/London:20270207T110000
DTEND;TZID=Europe/London:20270207T120000
DTSTAMP:20260425T223905
CREATED:20240512T152303Z
LAST-MODIFIED:20240521T130028Z
UID:10004459-1801998000-1802001600@birkenhead-park.org.uk
SUMMARY:Wellbeing walk
DESCRIPTION:Three times a week\, join one our wellbeing walks run by health walk leaders. Meet just outside the Visitor Centre. All abilities welcome!
URL:https://birkenhead-park.org.uk/events/wellbeing-walk/2027-02-07/
LOCATION:Birkenhead Park Visitor Centre\, Park Drive\, Birkenhead\, CH41 4HY\, United Kingdom
CATEGORIES:Activities
ATTACH;FMTTYPE=image/jpeg:https://birkenhead-park.org.uk/wp-content/uploads/DSC_0728-Edit-e1639660087561.jpg
END:VEVENT
BEGIN:VEVENT
DTSTART;TZID=Europe/London:20270208T100000
DTEND;TZID=Europe/London:20270208T113000
DTSTAMP:20260425T223905
CREATED:20240418T122320Z
LAST-MODIFIED:20240522T083209Z
UID:10003893-1802080800-1802086200@birkenhead-park.org.uk
SUMMARY:MamaFit Wirral
DESCRIPTION:Ready to get Mummy fit? \nJoin new Mamafit sessions every Monday and Tuesday at Birkenhead Park. \n  \nMums Social: Walk & Talk – Birkenhead Park\, Wirral \nMonday’s 10:00am – 11:30am launching 22nd April 2024. \nhttps://members.mamafituk.com/courses/313/info \nMamafit® Kettlebells – Birkenhead Park\, Wirral  \nTuesday’s 11:00am – 11:40am launching 23rd April 2024. \nhttps://members.mamafituk.com/courses/319/info
URL:https://birkenhead-park.org.uk/events/mamafit-wirral/2027-02-08/
LOCATION:Birkenhead Park Visitor Centre\, Park Drive\, Birkenhead\, CH41 4HY\, United Kingdom
CATEGORIES:Activities,Wellbeing
ATTACH;FMTTYPE=image/jpeg:https://birkenhead-park.org.uk/wp-content/uploads/mamafit-social.jpg
END:VEVENT
BEGIN:VEVENT
DTSTART;TZID=Europe/London:20270208T110000
DTEND;TZID=Europe/London:20270208T120000
DTSTAMP:20260425T223905
CREATED:20240512T152303Z
LAST-MODIFIED:20240521T130028Z
UID:10004460-1802084400-1802088000@birkenhead-park.org.uk
SUMMARY:Wellbeing walk
DESCRIPTION:Three times a week\, join one our wellbeing walks run by health walk leaders. Meet just outside the Visitor Centre. All abilities welcome!
URL:https://birkenhead-park.org.uk/events/wellbeing-walk/2027-02-08/
LOCATION:Birkenhead Park Visitor Centre\, Park Drive\, Birkenhead\, CH41 4HY\, United Kingdom
CATEGORIES:Activities
ATTACH;FMTTYPE=image/jpeg:https://birkenhead-park.org.uk/wp-content/uploads/DSC_0728-Edit-e1639660087561.jpg
END:VEVENT
BEGIN:VEVENT
DTSTART;TZID=Europe/London:20270209T110000
DTEND;TZID=Europe/London:20270209T113000
DTSTAMP:20260425T223905
CREATED:20240521T151214Z
LAST-MODIFIED:20240522T131312Z
UID:10005101-1802170800-1802172600@birkenhead-park.org.uk
SUMMARY:MamaFit Wirral
DESCRIPTION:  \nReady to get Mummy fit? \nJoin new Mamafit sessions every Monday and Tuesday at Birkenhead Park. \nMums Social: Walk & Talk – Birkenhead Park\, Wirral \nMonday’s 10:00am – 11:30am launching 22nd April 2024. \nhttps://members.mamafituk.com/courses/313/info \nMamafit® Kettlebells – Birkenhead Park\, Wirral  \nTuesday’s 11:00am – 11:40am launching 23rd April 2024. \nhttps://members.mamafituk.com/courses/319/info
URL:https://birkenhead-park.org.uk/events/mamafit-wirral-2/2027-02-09/
LOCATION:Birkenhead Park Visitor Centre\, Park Drive\, Birkenhead\, CH41 4HY\, United Kingdom
CATEGORIES:Activities,Wellbeing
ATTACH;FMTTYPE=image/jpeg:https://birkenhead-park.org.uk/wp-content/uploads/mamafit-kettebelles-tue.jpg
END:VEVENT
BEGIN:VEVENT
DTSTART;TZID=Europe/London:20270213T090000
DTEND;TZID=Europe/London:20270213T100000
DTSTAMP:20260425T223905
CREATED:20240614T105808Z
LAST-MODIFIED:20240830T130257Z
UID:10005523-1802509200-1802512800@birkenhead-park.org.uk
SUMMARY:Park Run
DESCRIPTION:What is Birkenhead parkrun?\nA free\, fun\, and friendly weekly 5k community event. Walk\, jog\, run\, volunteer or spectate – it’s up to you! \nWhen is it?\nEvery Saturday at 9:00am. \nWhere is it?\nThe event takes place at Birkenhead Park\, Park Road West\, Claughton\, Wirral\, CH41 0EZ. \n 
URL:https://birkenhead-park.org.uk/events/park-run/2027-02-13/
LOCATION:Birkenhead Park\, Park Dr\, Birkenhead\, Birkenhead\, CH41 4HY
CATEGORIES:Activities,Wellbeing
ATTACH;FMTTYPE=image/jpeg:https://birkenhead-park.org.uk/wp-content/uploads/37126517242_b44563043c_z.jpg
ORGANIZER;CN="Birkenhead Park Park Run":MAILTO:birkenhead@parkrun.com
END:VEVENT
BEGIN:VEVENT
DTSTART;TZID=Europe/London:20270213T094500
DTEND;TZID=Europe/London:20270213T104500
DTSTAMP:20260425T223905
CREATED:20240614T110750Z
LAST-MODIFIED:20240830T130354Z
UID:10005784-1802511900-1802515500@birkenhead-park.org.uk
SUMMARY:Run in Wirral
DESCRIPTION:Run in Wirral is a very socialable and friendly running group who cater for all abilities from Absolute Beginners (Couch to 5 K) to people who are training for 5K’s\, 10K’s\, Half Marathons and Marathons.  We have lots of amazing run leaders who will support you what ever your ability and what ever you want to achieve. \nWe charge £2 per run or if you have an Invigor8 membership then it’s FREE.  If you wish to book on our runs then please phone 606 2010 or go to www.activewirral.com/leisurehub You will need to register your details at any of our leisure centres in order to use the app but once you have done this then it’s really easy.  Any problems then please ring me – Fiona Hanik 0777 967 4718
URL:https://birkenhead-park.org.uk/events/run-in-wirral/2027-02-13/
LOCATION:Birkenhead Park\, Park Dr\, Birkenhead\, Birkenhead\, CH41 4HY
CATEGORIES:Activities,Wellbeing
ATTACH;FMTTYPE=image/jpeg:https://birkenhead-park.org.uk/wp-content/uploads/Park-Run.jpg
ORGANIZER;CN="Run In Wirral":MAILTO:fionahanik@wirral.gov.uk
END:VEVENT
BEGIN:VEVENT
DTSTART;TZID=Europe/London:20270214T110000
DTEND;TZID=Europe/London:20270214T120000
DTSTAMP:20260425T223905
CREATED:20240512T152303Z
LAST-MODIFIED:20240521T130028Z
UID:10004461-1802602800-1802606400@birkenhead-park.org.uk
SUMMARY:Wellbeing walk
DESCRIPTION:Three times a week\, join one our wellbeing walks run by health walk leaders. Meet just outside the Visitor Centre. All abilities welcome!
URL:https://birkenhead-park.org.uk/events/wellbeing-walk/2027-02-14/
LOCATION:Birkenhead Park Visitor Centre\, Park Drive\, Birkenhead\, CH41 4HY\, United Kingdom
CATEGORIES:Activities
ATTACH;FMTTYPE=image/jpeg:https://birkenhead-park.org.uk/wp-content/uploads/DSC_0728-Edit-e1639660087561.jpg
END:VEVENT
BEGIN:VEVENT
DTSTART;TZID=Europe/London:20270215T100000
DTEND;TZID=Europe/London:20270215T113000
DTSTAMP:20260425T223905
CREATED:20240418T122320Z
LAST-MODIFIED:20240522T083209Z
UID:10003894-1802685600-1802691000@birkenhead-park.org.uk
SUMMARY:MamaFit Wirral
DESCRIPTION:Ready to get Mummy fit? \nJoin new Mamafit sessions every Monday and Tuesday at Birkenhead Park. \n  \nMums Social: Walk & Talk – Birkenhead Park\, Wirral \nMonday’s 10:00am – 11:30am launching 22nd April 2024. \nhttps://members.mamafituk.com/courses/313/info \nMamafit® Kettlebells – Birkenhead Park\, Wirral  \nTuesday’s 11:00am – 11:40am launching 23rd April 2024. \nhttps://members.mamafituk.com/courses/319/info
URL:https://birkenhead-park.org.uk/events/mamafit-wirral/2027-02-15/
LOCATION:Birkenhead Park Visitor Centre\, Park Drive\, Birkenhead\, CH41 4HY\, United Kingdom
CATEGORIES:Activities,Wellbeing
ATTACH;FMTTYPE=image/jpeg:https://birkenhead-park.org.uk/wp-content/uploads/mamafit-social.jpg
END:VEVENT
BEGIN:VEVENT
DTSTART;TZID=Europe/London:20270215T110000
DTEND;TZID=Europe/London:20270215T120000
DTSTAMP:20260425T223905
CREATED:20240512T152303Z
LAST-MODIFIED:20240521T130028Z
UID:10004462-1802689200-1802692800@birkenhead-park.org.uk
SUMMARY:Wellbeing walk
DESCRIPTION:Three times a week\, join one our wellbeing walks run by health walk leaders. Meet just outside the Visitor Centre. All abilities welcome!
URL:https://birkenhead-park.org.uk/events/wellbeing-walk/2027-02-15/
LOCATION:Birkenhead Park Visitor Centre\, Park Drive\, Birkenhead\, CH41 4HY\, United Kingdom
CATEGORIES:Activities
ATTACH;FMTTYPE=image/jpeg:https://birkenhead-park.org.uk/wp-content/uploads/DSC_0728-Edit-e1639660087561.jpg
END:VEVENT
BEGIN:VEVENT
DTSTART;TZID=Europe/London:20270216T110000
DTEND;TZID=Europe/London:20270216T113000
DTSTAMP:20260425T223905
CREATED:20240521T151214Z
LAST-MODIFIED:20240522T131312Z
UID:10005102-1802775600-1802777400@birkenhead-park.org.uk
SUMMARY:MamaFit Wirral
DESCRIPTION:  \nReady to get Mummy fit? \nJoin new Mamafit sessions every Monday and Tuesday at Birkenhead Park. \nMums Social: Walk & Talk – Birkenhead Park\, Wirral \nMonday’s 10:00am – 11:30am launching 22nd April 2024. \nhttps://members.mamafituk.com/courses/313/info \nMamafit® Kettlebells – Birkenhead Park\, Wirral  \nTuesday’s 11:00am – 11:40am launching 23rd April 2024. \nhttps://members.mamafituk.com/courses/319/info
URL:https://birkenhead-park.org.uk/events/mamafit-wirral-2/2027-02-16/
LOCATION:Birkenhead Park Visitor Centre\, Park Drive\, Birkenhead\, CH41 4HY\, United Kingdom
CATEGORIES:Activities,Wellbeing
ATTACH;FMTTYPE=image/jpeg:https://birkenhead-park.org.uk/wp-content/uploads/mamafit-kettebelles-tue.jpg
END:VEVENT
BEGIN:VEVENT
DTSTART;TZID=Europe/London:20270220T090000
DTEND;TZID=Europe/London:20270220T100000
DTSTAMP:20260425T223905
CREATED:20240614T105808Z
LAST-MODIFIED:20240830T130257Z
UID:10005524-1803114000-1803117600@birkenhead-park.org.uk
SUMMARY:Park Run
DESCRIPTION:What is Birkenhead parkrun?\nA free\, fun\, and friendly weekly 5k community event. Walk\, jog\, run\, volunteer or spectate – it’s up to you! \nWhen is it?\nEvery Saturday at 9:00am. \nWhere is it?\nThe event takes place at Birkenhead Park\, Park Road West\, Claughton\, Wirral\, CH41 0EZ. \n 
URL:https://birkenhead-park.org.uk/events/park-run/2027-02-20/
LOCATION:Birkenhead Park\, Park Dr\, Birkenhead\, Birkenhead\, CH41 4HY
CATEGORIES:Activities,Wellbeing
ATTACH;FMTTYPE=image/jpeg:https://birkenhead-park.org.uk/wp-content/uploads/37126517242_b44563043c_z.jpg
ORGANIZER;CN="Birkenhead Park Park Run":MAILTO:birkenhead@parkrun.com
END:VEVENT
BEGIN:VEVENT
DTSTART;TZID=Europe/London:20270220T094500
DTEND;TZID=Europe/London:20270220T104500
DTSTAMP:20260425T223905
CREATED:20240614T110750Z
LAST-MODIFIED:20240830T130354Z
UID:10005785-1803116700-1803120300@birkenhead-park.org.uk
SUMMARY:Run in Wirral
DESCRIPTION:Run in Wirral is a very socialable and friendly running group who cater for all abilities from Absolute Beginners (Couch to 5 K) to people who are training for 5K’s\, 10K’s\, Half Marathons and Marathons.  We have lots of amazing run leaders who will support you what ever your ability and what ever you want to achieve. \nWe charge £2 per run or if you have an Invigor8 membership then it’s FREE.  If you wish to book on our runs then please phone 606 2010 or go to www.activewirral.com/leisurehub You will need to register your details at any of our leisure centres in order to use the app but once you have done this then it’s really easy.  Any problems then please ring me – Fiona Hanik 0777 967 4718
URL:https://birkenhead-park.org.uk/events/run-in-wirral/2027-02-20/
LOCATION:Birkenhead Park\, Park Dr\, Birkenhead\, Birkenhead\, CH41 4HY
CATEGORIES:Activities,Wellbeing
ATTACH;FMTTYPE=image/jpeg:https://birkenhead-park.org.uk/wp-content/uploads/Park-Run.jpg
ORGANIZER;CN="Run In Wirral":MAILTO:fionahanik@wirral.gov.uk
END:VEVENT
BEGIN:VEVENT
DTSTART;TZID=Europe/London:20270221T110000
DTEND;TZID=Europe/London:20270221T120000
DTSTAMP:20260425T223905
CREATED:20240512T152303Z
LAST-MODIFIED:20240521T130028Z
UID:10004463-1803207600-1803211200@birkenhead-park.org.uk
SUMMARY:Wellbeing walk
DESCRIPTION:Three times a week\, join one our wellbeing walks run by health walk leaders. Meet just outside the Visitor Centre. All abilities welcome!
URL:https://birkenhead-park.org.uk/events/wellbeing-walk/2027-02-21/
LOCATION:Birkenhead Park Visitor Centre\, Park Drive\, Birkenhead\, CH41 4HY\, United Kingdom
CATEGORIES:Activities
ATTACH;FMTTYPE=image/jpeg:https://birkenhead-park.org.uk/wp-content/uploads/DSC_0728-Edit-e1639660087561.jpg
END:VEVENT
BEGIN:VEVENT
DTSTART;TZID=Europe/London:20270222T100000
DTEND;TZID=Europe/London:20270222T113000
DTSTAMP:20260425T223905
CREATED:20240418T122320Z
LAST-MODIFIED:20240522T083209Z
UID:10003895-1803290400-1803295800@birkenhead-park.org.uk
SUMMARY:MamaFit Wirral
DESCRIPTION:Ready to get Mummy fit? \nJoin new Mamafit sessions every Monday and Tuesday at Birkenhead Park. \n  \nMums Social: Walk & Talk – Birkenhead Park\, Wirral \nMonday’s 10:00am – 11:30am launching 22nd April 2024. \nhttps://members.mamafituk.com/courses/313/info \nMamafit® Kettlebells – Birkenhead Park\, Wirral  \nTuesday’s 11:00am – 11:40am launching 23rd April 2024. \nhttps://members.mamafituk.com/courses/319/info
URL:https://birkenhead-park.org.uk/events/mamafit-wirral/2027-02-22/
LOCATION:Birkenhead Park Visitor Centre\, Park Drive\, Birkenhead\, CH41 4HY\, United Kingdom
CATEGORIES:Activities,Wellbeing
ATTACH;FMTTYPE=image/jpeg:https://birkenhead-park.org.uk/wp-content/uploads/mamafit-social.jpg
END:VEVENT
BEGIN:VEVENT
DTSTART;TZID=Europe/London:20270222T110000
DTEND;TZID=Europe/London:20270222T120000
DTSTAMP:20260425T223905
CREATED:20240512T152303Z
LAST-MODIFIED:20240521T130028Z
UID:10004464-1803294000-1803297600@birkenhead-park.org.uk
SUMMARY:Wellbeing walk
DESCRIPTION:Three times a week\, join one our wellbeing walks run by health walk leaders. Meet just outside the Visitor Centre. All abilities welcome!
URL:https://birkenhead-park.org.uk/events/wellbeing-walk/2027-02-22/
LOCATION:Birkenhead Park Visitor Centre\, Park Drive\, Birkenhead\, CH41 4HY\, United Kingdom
CATEGORIES:Activities
ATTACH;FMTTYPE=image/jpeg:https://birkenhead-park.org.uk/wp-content/uploads/DSC_0728-Edit-e1639660087561.jpg
END:VEVENT
BEGIN:VEVENT
DTSTART;TZID=Europe/London:20270223T110000
DTEND;TZID=Europe/London:20270223T113000
DTSTAMP:20260425T223905
CREATED:20240521T151214Z
LAST-MODIFIED:20240522T131312Z
UID:10005103-1803380400-1803382200@birkenhead-park.org.uk
SUMMARY:MamaFit Wirral
DESCRIPTION:  \nReady to get Mummy fit? \nJoin new Mamafit sessions every Monday and Tuesday at Birkenhead Park. \nMums Social: Walk & Talk – Birkenhead Park\, Wirral \nMonday’s 10:00am – 11:30am launching 22nd April 2024. \nhttps://members.mamafituk.com/courses/313/info \nMamafit® Kettlebells – Birkenhead Park\, Wirral  \nTuesday’s 11:00am – 11:40am launching 23rd April 2024. \nhttps://members.mamafituk.com/courses/319/info
URL:https://birkenhead-park.org.uk/events/mamafit-wirral-2/2027-02-23/
LOCATION:Birkenhead Park Visitor Centre\, Park Drive\, Birkenhead\, CH41 4HY\, United Kingdom
CATEGORIES:Activities,Wellbeing
ATTACH;FMTTYPE=image/jpeg:https://birkenhead-park.org.uk/wp-content/uploads/mamafit-kettebelles-tue.jpg
END:VEVENT
BEGIN:VEVENT
DTSTART;TZID=Europe/London:20270227T090000
DTEND;TZID=Europe/London:20270227T100000
DTSTAMP:20260425T223905
CREATED:20240614T105808Z
LAST-MODIFIED:20240830T130257Z
UID:10005525-1803718800-1803722400@birkenhead-park.org.uk
SUMMARY:Park Run
DESCRIPTION:What is Birkenhead parkrun?\nA free\, fun\, and friendly weekly 5k community event. Walk\, jog\, run\, volunteer or spectate – it’s up to you! \nWhen is it?\nEvery Saturday at 9:00am. \nWhere is it?\nThe event takes place at Birkenhead Park\, Park Road West\, Claughton\, Wirral\, CH41 0EZ. \n 
URL:https://birkenhead-park.org.uk/events/park-run/2027-02-27/
LOCATION:Birkenhead Park\, Park Dr\, Birkenhead\, Birkenhead\, CH41 4HY
CATEGORIES:Activities,Wellbeing
ATTACH;FMTTYPE=image/jpeg:https://birkenhead-park.org.uk/wp-content/uploads/37126517242_b44563043c_z.jpg
ORGANIZER;CN="Birkenhead Park Park Run":MAILTO:birkenhead@parkrun.com
END:VEVENT
BEGIN:VEVENT
DTSTART;TZID=Europe/London:20270227T094500
DTEND;TZID=Europe/London:20270227T104500
DTSTAMP:20260425T223905
CREATED:20240614T110750Z
LAST-MODIFIED:20240830T130354Z
UID:10005786-1803721500-1803725100@birkenhead-park.org.uk
SUMMARY:Run in Wirral
DESCRIPTION:Run in Wirral is a very socialable and friendly running group who cater for all abilities from Absolute Beginners (Couch to 5 K) to people who are training for 5K’s\, 10K’s\, Half Marathons and Marathons.  We have lots of amazing run leaders who will support you what ever your ability and what ever you want to achieve. \nWe charge £2 per run or if you have an Invigor8 membership then it’s FREE.  If you wish to book on our runs then please phone 606 2010 or go to www.activewirral.com/leisurehub You will need to register your details at any of our leisure centres in order to use the app but once you have done this then it’s really easy.  Any problems then please ring me – Fiona Hanik 0777 967 4718
URL:https://birkenhead-park.org.uk/events/run-in-wirral/2027-02-27/
LOCATION:Birkenhead Park\, Park Dr\, Birkenhead\, Birkenhead\, CH41 4HY
CATEGORIES:Activities,Wellbeing
ATTACH;FMTTYPE=image/jpeg:https://birkenhead-park.org.uk/wp-content/uploads/Park-Run.jpg
ORGANIZER;CN="Run In Wirral":MAILTO:fionahanik@wirral.gov.uk
END:VEVENT
BEGIN:VEVENT
DTSTART;TZID=Europe/London:20270228T110000
DTEND;TZID=Europe/London:20270228T120000
DTSTAMP:20260425T223905
CREATED:20240512T152303Z
LAST-MODIFIED:20240521T130028Z
UID:10004465-1803812400-1803816000@birkenhead-park.org.uk
SUMMARY:Wellbeing walk
DESCRIPTION:Three times a week\, join one our wellbeing walks run by health walk leaders. Meet just outside the Visitor Centre. All abilities welcome!
URL:https://birkenhead-park.org.uk/events/wellbeing-walk/2027-02-28/
LOCATION:Birkenhead Park Visitor Centre\, Park Drive\, Birkenhead\, CH41 4HY\, United Kingdom
CATEGORIES:Activities
ATTACH;FMTTYPE=image/jpeg:https://birkenhead-park.org.uk/wp-content/uploads/DSC_0728-Edit-e1639660087561.jpg
END:VEVENT
END:VCALENDAR