BEGIN:VCALENDAR
VERSION:2.0
PRODID:-//Birkenhead Park - ECPv6.15.20//NONSGML v1.0//EN
CALSCALE:GREGORIAN
METHOD:PUBLISH
X-WR-CALNAME:Birkenhead Park
X-ORIGINAL-URL:https://birkenhead-park.org.uk
X-WR-CALDESC:Events for Birkenhead Park
REFRESH-INTERVAL;VALUE=DURATION:PT1H
X-Robots-Tag:noindex
X-PUBLISHED-TTL:PT1H
BEGIN:VTIMEZONE
TZID:Europe/London
BEGIN:DAYLIGHT
TZOFFSETFROM:+0000
TZOFFSETTO:+0100
TZNAME:BST
DTSTART:20270328T010000
END:DAYLIGHT
BEGIN:STANDARD
TZOFFSETFROM:+0100
TZOFFSETTO:+0000
TZNAME:GMT
DTSTART:20271031T010000
END:STANDARD
BEGIN:DAYLIGHT
TZOFFSETFROM:+0000
TZOFFSETTO:+0100
TZNAME:BST
DTSTART:20280326T010000
END:DAYLIGHT
BEGIN:STANDARD
TZOFFSETFROM:+0100
TZOFFSETTO:+0000
TZNAME:GMT
DTSTART:20281029T010000
END:STANDARD
BEGIN:DAYLIGHT
TZOFFSETFROM:+0000
TZOFFSETTO:+0100
TZNAME:BST
DTSTART:20290325T010000
END:DAYLIGHT
BEGIN:STANDARD
TZOFFSETFROM:+0100
TZOFFSETTO:+0000
TZNAME:GMT
DTSTART:20291028T010000
END:STANDARD
END:VTIMEZONE
BEGIN:VEVENT
DTSTART;TZID=Europe/London:20281204T100000
DTEND;TZID=Europe/London:20281204T113000
DTSTAMP:20260425T204411
CREATED:20240418T122320Z
LAST-MODIFIED:20240522T083209Z
UID:10003988-1859536800-1859542200@birkenhead-park.org.uk
SUMMARY:MamaFit Wirral
DESCRIPTION:Ready to get Mummy fit? \nJoin new Mamafit sessions every Monday and Tuesday at Birkenhead Park. \n  \nMums Social: Walk & Talk – Birkenhead Park\, Wirral \nMonday’s 10:00am – 11:30am launching 22nd April 2024. \nhttps://members.mamafituk.com/courses/313/info \nMamafit® Kettlebells – Birkenhead Park\, Wirral  \nTuesday’s 11:00am – 11:40am launching 23rd April 2024. \nhttps://members.mamafituk.com/courses/319/info
URL:https://birkenhead-park.org.uk/events/mamafit-wirral/2028-12-04/
LOCATION:Birkenhead Park Visitor Centre\, Park Drive\, Birkenhead\, CH41 4HY\, United Kingdom
CATEGORIES:Activities,Wellbeing
ATTACH;FMTTYPE=image/jpeg:https://birkenhead-park.org.uk/wp-content/uploads/mamafit-social.jpg
END:VEVENT
BEGIN:VEVENT
DTSTART;TZID=Europe/London:20281211T100000
DTEND;TZID=Europe/London:20281211T113000
DTSTAMP:20260425T204411
CREATED:20240418T122320Z
LAST-MODIFIED:20240522T083209Z
UID:10003989-1860141600-1860147000@birkenhead-park.org.uk
SUMMARY:MamaFit Wirral
DESCRIPTION:Ready to get Mummy fit? \nJoin new Mamafit sessions every Monday and Tuesday at Birkenhead Park. \n  \nMums Social: Walk & Talk – Birkenhead Park\, Wirral \nMonday’s 10:00am – 11:30am launching 22nd April 2024. \nhttps://members.mamafituk.com/courses/313/info \nMamafit® Kettlebells – Birkenhead Park\, Wirral  \nTuesday’s 11:00am – 11:40am launching 23rd April 2024. \nhttps://members.mamafituk.com/courses/319/info
URL:https://birkenhead-park.org.uk/events/mamafit-wirral/2028-12-11/
LOCATION:Birkenhead Park Visitor Centre\, Park Drive\, Birkenhead\, CH41 4HY\, United Kingdom
CATEGORIES:Activities,Wellbeing
ATTACH;FMTTYPE=image/jpeg:https://birkenhead-park.org.uk/wp-content/uploads/mamafit-social.jpg
END:VEVENT
BEGIN:VEVENT
DTSTART;TZID=Europe/London:20281218T100000
DTEND;TZID=Europe/London:20281218T113000
DTSTAMP:20260425T204411
CREATED:20240418T122320Z
LAST-MODIFIED:20240522T083209Z
UID:10003990-1860746400-1860751800@birkenhead-park.org.uk
SUMMARY:MamaFit Wirral
DESCRIPTION:Ready to get Mummy fit? \nJoin new Mamafit sessions every Monday and Tuesday at Birkenhead Park. \n  \nMums Social: Walk & Talk – Birkenhead Park\, Wirral \nMonday’s 10:00am – 11:30am launching 22nd April 2024. \nhttps://members.mamafituk.com/courses/313/info \nMamafit® Kettlebells – Birkenhead Park\, Wirral  \nTuesday’s 11:00am – 11:40am launching 23rd April 2024. \nhttps://members.mamafituk.com/courses/319/info
URL:https://birkenhead-park.org.uk/events/mamafit-wirral/2028-12-18/
LOCATION:Birkenhead Park Visitor Centre\, Park Drive\, Birkenhead\, CH41 4HY\, United Kingdom
CATEGORIES:Activities,Wellbeing
ATTACH;FMTTYPE=image/jpeg:https://birkenhead-park.org.uk/wp-content/uploads/mamafit-social.jpg
END:VEVENT
BEGIN:VEVENT
DTSTART;TZID=Europe/London:20281225T100000
DTEND;TZID=Europe/London:20281225T113000
DTSTAMP:20260425T204411
CREATED:20240418T122320Z
LAST-MODIFIED:20240522T083209Z
UID:10003991-1861351200-1861356600@birkenhead-park.org.uk
SUMMARY:MamaFit Wirral
DESCRIPTION:Ready to get Mummy fit? \nJoin new Mamafit sessions every Monday and Tuesday at Birkenhead Park. \n  \nMums Social: Walk & Talk – Birkenhead Park\, Wirral \nMonday’s 10:00am – 11:30am launching 22nd April 2024. \nhttps://members.mamafituk.com/courses/313/info \nMamafit® Kettlebells – Birkenhead Park\, Wirral  \nTuesday’s 11:00am – 11:40am launching 23rd April 2024. \nhttps://members.mamafituk.com/courses/319/info
URL:https://birkenhead-park.org.uk/events/mamafit-wirral/2028-12-25/
LOCATION:Birkenhead Park Visitor Centre\, Park Drive\, Birkenhead\, CH41 4HY\, United Kingdom
CATEGORIES:Activities,Wellbeing
ATTACH;FMTTYPE=image/jpeg:https://birkenhead-park.org.uk/wp-content/uploads/mamafit-social.jpg
END:VEVENT
END:VCALENDAR